BEGIN:VCALENDAR
VERSION:2.0
PRODID:-//Disfruta Denia - ECPv6.15.20//NONSGML v1.0//EN
CALSCALE:GREGORIAN
METHOD:PUBLISH
X-WR-CALNAME:Disfruta Denia
X-ORIGINAL-URL:https://disfruta-denia.com
X-WR-CALDESC:Eventos para Disfruta Denia
REFRESH-INTERVAL;VALUE=DURATION:PT1H
X-Robots-Tag:noindex
X-PUBLISHED-TTL:PT1H
BEGIN:VTIMEZONE
TZID:Europe/Madrid
BEGIN:DAYLIGHT
TZOFFSETFROM:+0100
TZOFFSETTO:+0200
TZNAME:CEST
DTSTART:20220327T010000
END:DAYLIGHT
BEGIN:STANDARD
TZOFFSETFROM:+0200
TZOFFSETTO:+0100
TZNAME:CET
DTSTART:20221030T010000
END:STANDARD
BEGIN:DAYLIGHT
TZOFFSETFROM:+0100
TZOFFSETTO:+0200
TZNAME:CEST
DTSTART:20230326T010000
END:DAYLIGHT
BEGIN:STANDARD
TZOFFSETFROM:+0200
TZOFFSETTO:+0100
TZNAME:CET
DTSTART:20231029T010000
END:STANDARD
BEGIN:DAYLIGHT
TZOFFSETFROM:+0100
TZOFFSETTO:+0200
TZNAME:CEST
DTSTART:20240331T010000
END:DAYLIGHT
BEGIN:STANDARD
TZOFFSETFROM:+0200
TZOFFSETTO:+0100
TZNAME:CET
DTSTART:20241027T010000
END:STANDARD
END:VTIMEZONE
BEGIN:VEVENT
DTSTART;VALUE=DATE:20230224
DTEND;VALUE=DATE:20230331
DTSTAMP:20260424T091043
CREATED:20230220T140607Z
LAST-MODIFIED:20230220T140607Z
UID:10010208-1677211200-1680148799@disfruta-denia.com
SUMMARY:Exposición Ni un paso atrás
DESCRIPTION:Con obras de Ángela García Codoñer\, Isabel Oliver y Maribel Domènech\, se puede visitar del 24 de febrero al 29 de marzo\nLa crítica feminista desde el arte\, denominado arte feminista\, comienza en los años sesenta del siglo XX en USA y se consolida llegando a Europa en la década de los setenta. Forma parte de la denominada Tercera Ola Feminista a la que tanto tenemos que agradecer la actual situación de la mujer\, explica María Victoria Margarida\, comisaria de la exposición Ni un paso atrás. Vanguardia del arte feminista en València que se inaugura el viernes en el Centre d’Art l’Estació de Dénia. \n  \nLa exposición que presentamos\, afirma\, quiere dar a conocer la generación de estas mujeres que participaron del movimiento desde su arte con una selección de obras de tres importantes artistas valencianas: Ángela García Codoñer e Isabel Oliver\, pioneras del arte feminista en España en los años setenta\, y Maribel Domènech siguiendo su estela en los ochenta. Las tres artistas han compaginado su investigación artística con la docencia como catedráticas en la Universidad Politécnica de Valencia. \n  \nLa muestra pretende invitar a reflexionar sobre la genealogía del movimiento feminista. Conocer la historia de las mujeres que durante siglos han vindicado el derecho de la mujer a ser considerada género humano en igualdad con los hombres\, logra fortalecer y consolidar la conciencia feminista. Es empoderamiento. \n  \nIsabel Oliver presenta tres obras\, dos de ellas inéditas\, que pertenecen a la serie Paseos por el Museo (2022) en la que proyecta una relectura del pasado para comprender problemas del presente y provocar una renovación en la mirada hacia los clásicos: cuestiona el uso que se hace del cuerpo femenino en la historia de la pintura construida enteramente desde la visión patriarcal. \n  \nÁngela García Codoñer presenta obra de la serie Misses (1974) en la que realiza una crítica rotunda hacia los estereotipos femeninos asignados a la mujer; los inocentes sueños de princesas truncados por la aplastante realidad de la mujer como objeto del deseo masculino. \n  \nMaribel Domènech presenta dos trabajos: Géminis (1994) y Acción continua (2004) ambos caracterizados por el hecho de tejer en la intimidad de lo cotidiano y la soledad reflexiva del momento y el acto: el vestido compartido como símbolo de la igualdad entre los dos sexos y el acto de tejer con cables domésticos como fórmula de crear conexiones que faciliten la comunicación. Feminismo de progreso y concordia. \n  \n  \nNi un paso atrás. Vanguardia del arte feminista en València \nCentre d’Art l’Estació de Dénia \nInauguración: día 24 de febrero\, a las 19 horas. \n  \nEste acto de apertura y presentación de la exposición incluye una mesa redonda en la que participarán dos de las artistas\, Isabel Oliver y Ángela García Codoñer\, la comisaria\, María Victoria Margarida y la periodista\, escritora y conferenciante Patricia Godes.
URL:https://disfruta-denia.com/evento/exposicion-ni-un-paso-atras/
LOCATION:Centre d’art l’Estació\, Carrer Calderón\, 2\, Denia\, Alicante\, 03700\, España
CATEGORIES:Cultura,Exposiciones
ATTACH;FMTTYPE=image/jpeg:https://disfruta-denia.com/wp-content/uploads/2023/02/6478f1.jpg
ORGANIZER;CN="Denia Cultura":MAILTO:cultura@ayto-denia.es
END:VEVENT
BEGIN:VEVENT
DTSTART;TZID=Europe/Madrid:20230301T200000
DTEND;TZID=Europe/Madrid:20230301T233000
DTSTAMP:20260424T091043
CREATED:20221122T074309Z
LAST-MODIFIED:20221122T074309Z
UID:10008923-1677700800-1677713400@disfruta-denia.com
SUMMARY:Autocine: día del espectador
DESCRIPTION:
URL:https://disfruta-denia.com/evento/autocine-dia-del-espectador/2023-03-01/
LOCATION:Autociné Denia\, Partida Deveses D\, 27\, Denia\, Alicante\, 03700\, España
CATEGORIES:Ciné,Cultura
ATTACH;FMTTYPE=image/jpeg:https://disfruta-denia.com/wp-content/uploads/2022/11/Autocine-Drive-In-Denia-1.jpg
END:VEVENT
BEGIN:VEVENT
DTSTART;TZID=Europe/Madrid:20230302T203000
DTEND;TZID=Europe/Madrid:20230302T203000
DTSTAMP:20260424T091043
CREATED:20221118T123231Z
LAST-MODIFIED:20221118T130136Z
UID:10008506-1677789000-1677789000@disfruta-denia.com
SUMMARY:Tardeo Flamenco y punto
DESCRIPTION:Cada jueves te proponemos un tardeo Flamenco con Flamenco y Punto. Ambientazo! Apúntate!
URL:https://disfruta-denia.com/evento/tardeo-flamenco-y-punto/2023-03-02/
LOCATION:Bodega Casa Benjamín\, Ramón y Cajal\, 14\, Denia\, Alicante\, 03700\, España
CATEGORIES:Concierto,Danza,Música,Tardeo
ATTACH;FMTTYPE=image/jpeg:https://disfruta-denia.com/wp-content/uploads/2022/11/Post-de-Instagram-Feria-de-Sevilla-dibujo-sevillana-blanco-y-rojo-fondo-azul-2.jpg
END:VEVENT
BEGIN:VEVENT
DTSTART;VALUE=DATE:20230303
DTEND;VALUE=DATE:20230312
DTSTAMP:20260424T091043
CREATED:20230220T100648Z
LAST-MODIFIED:20230220T100648Z
UID:10009920-1677816000-1678507199@disfruta-denia.com
SUMMARY:Exposició itinerant JOAN FUSTER\, UNA VIDA IL·LUSTRADA
DESCRIPTION:Catorce paneles sobre la vida y obra de Joan Fuster\, con textos de Salvador Ortells y fotos del archivo personal. \nMás inf.: https://www.avl.gva.es/documents/31987/246461/expo_JF.pdf \nOrganitza/organiza: Acadèmia Valenciana de la Llengua amb motiu de l’Any / con motivo del año  Fuster 
URL:https://disfruta-denia.com/evento/exposicio-itinerant-joan-fuster-una-vida-il%c2%b7lustrada/
LOCATION:Casa de la Cultura Denia\, Plaça Jaume I\, Denia\, Alicante\, 03700\, España
CATEGORIES:Cultura,Exposiciones
ATTACH;FMTTYPE=image/png:https://disfruta-denia.com/wp-content/uploads/2023/02/3-expo-Joan-Fuster.png
ORGANIZER;CN="Denia Cultura":MAILTO:cultura@ayto-denia.es
END:VEVENT
BEGIN:VEVENT
DTSTART;TZID=Europe/Madrid:20230305T190000
DTEND;TZID=Europe/Madrid:20230305T190000
DTSTAMP:20260424T091043
CREATED:20230220T100914Z
LAST-MODIFIED:20230220T100914Z
UID:10009922-1678042800-1678042800@disfruta-denia.com
SUMMARY:Cineclub: LA MATERNAL
DESCRIPTION:Dir.: Pilar Palomero. Espanya/España\, 2022\, 122 min. VO en   castellà/castellano.      \nEntrada: 3 €   en http://www.notikumi.com. En taquilla: el mateix dia una hora abans/el mismo día una hora antes
URL:https://disfruta-denia.com/evento/cineclub-la-maternal/
LOCATION:Teatro Auditorio Centro Social\, 4 Carrer Calderón\, Dénia\, VC\, 03700\, Spain
CATEGORIES:Ciné,Cultura
ATTACH;FMTTYPE=image/png:https://disfruta-denia.com/wp-content/uploads/2023/02/5-Cine-dia-5.png
ORGANIZER;CN="Denia Cultura":MAILTO:cultura@ayto-denia.es
END:VEVENT
BEGIN:VEVENT
DTSTART;TZID=Europe/Madrid:20230308T200000
DTEND;TZID=Europe/Madrid:20230308T233000
DTSTAMP:20260424T091043
CREATED:20221122T074309Z
LAST-MODIFIED:20221122T074309Z
UID:10008924-1678305600-1678318200@disfruta-denia.com
SUMMARY:Autocine: día del espectador
DESCRIPTION:
URL:https://disfruta-denia.com/evento/autocine-dia-del-espectador/2023-03-08/
LOCATION:Autociné Denia\, Partida Deveses D\, 27\, Denia\, Alicante\, 03700\, España
CATEGORIES:Ciné,Cultura
ATTACH;FMTTYPE=image/jpeg:https://disfruta-denia.com/wp-content/uploads/2022/11/Autocine-Drive-In-Denia-1.jpg
END:VEVENT
BEGIN:VEVENT
DTSTART;TZID=Europe/Madrid:20230309T203000
DTEND;TZID=Europe/Madrid:20230309T203000
DTSTAMP:20260424T091043
CREATED:20221118T123231Z
LAST-MODIFIED:20221118T130136Z
UID:10008507-1678393800-1678393800@disfruta-denia.com
SUMMARY:Tardeo Flamenco y punto
DESCRIPTION:Cada jueves te proponemos un tardeo Flamenco con Flamenco y Punto. Ambientazo! Apúntate!
URL:https://disfruta-denia.com/evento/tardeo-flamenco-y-punto/2023-03-09/
LOCATION:Bodega Casa Benjamín\, Ramón y Cajal\, 14\, Denia\, Alicante\, 03700\, España
CATEGORIES:Concierto,Danza,Música,Tardeo
ATTACH;FMTTYPE=image/jpeg:https://disfruta-denia.com/wp-content/uploads/2022/11/Post-de-Instagram-Feria-de-Sevilla-dibujo-sevillana-blanco-y-rojo-fondo-azul-2.jpg
END:VEVENT
BEGIN:VEVENT
DTSTART;TZID=Europe/Madrid:20230311T200000
DTEND;TZID=Europe/Madrid:20230311T200000
DTSTAMP:20260424T091043
CREATED:20230220T101511Z
LAST-MODIFIED:20230220T101511Z
UID:10009926-1678564800-1678564800@disfruta-denia.com
SUMMARY:Teatro: TURISTAS
DESCRIPTION:eridional Producciones\, presenta      \nPrimera obra teatral\, como dramaturga de la directora de cine\, guionista y actriz Marisa Seresesky   \nDir.:  Álvaro Lavin. \nActors / actores: Chani Martín i Pepa Zaragoza. \nBraulio y Mari Carmen son una pareja normal. Muy normal. Ella trabaja de cocinera en el comedor de una escuela\, y él espera un postergado ascenso en la empresa en la que ha trabajado toda su vida. \nSuelen pasar sus 14 días de vacaciones\, en una antigua caravana\, en el mismo camping\, años tras años. Allí han creado una agradable rutina con sus vecinos de acampada y aprovechan para festejar su aniversario de boda por todo lo alto. Pero este año es distinto\, para congraciarse con su jefe y emular a su eterno contrincante de ascenso\, Braulio ha decidido pasar las vacaciones en una playa casi desierta. \nPer a adults/ para adultos. En castellà/castellano. \n  \nEntrada: 10 € en http://www.notikumi.com. En taquilla: el mateix dia una hora abans/el mismo día una hora antes. \n 
URL:https://disfruta-denia.com/evento/teatro-turistas/
LOCATION:Teatro Auditorio Centro Social\, 4 Carrer Calderón\, Dénia\, VC\, 03700\, Spain
CATEGORIES:Cultura,Teatro
ATTACH;FMTTYPE=image/png:https://disfruta-denia.com/wp-content/uploads/2023/02/9-Turistas.png
ORGANIZER;CN="Denia Cultura":MAILTO:cultura@ayto-denia.es
END:VEVENT
BEGIN:VEVENT
DTSTART;TZID=Europe/Madrid:20230312T190000
DTEND;TZID=Europe/Madrid:20230312T190000
DTSTAMP:20260424T091043
CREATED:20230220T101815Z
LAST-MODIFIED:20230220T101815Z
UID:10009928-1678647600-1678647600@disfruta-denia.com
SUMMARY:Cineclub: AS BESTAS
DESCRIPTION:Dir.: Rodrigo Sorogoyen. Espanya\, España\, 2022\, 137 min. VO en castellà / castellano .  \n Entrada: 3 €   en http://www.notikumi.com. En taquilla: el mateix dia una hora abans/el mismo día una hora antes.
URL:https://disfruta-denia.com/evento/cineclub-as-bestas/
LOCATION:Teatro Auditorio Centro Social\, 4 Carrer Calderón\, Dénia\, VC\, 03700\, Spain
CATEGORIES:Ciné,Cultura
ATTACH;FMTTYPE=image/png:https://disfruta-denia.com/wp-content/uploads/2023/02/11-Cine-dia-12.png
ORGANIZER;CN="Denia Cultura":MAILTO:cultura@ayto-denia.es
END:VEVENT
BEGIN:VEVENT
DTSTART;TZID=Europe/Madrid:20230312T190000
DTEND;TZID=Europe/Madrid:20230312T213000
DTSTAMP:20260424T091043
CREATED:20230228T103220Z
LAST-MODIFIED:20230228T103220Z
UID:10010528-1678647600-1678656600@disfruta-denia.com
SUMMARY:GALA OPERA. EL BARBERO DE SEVILLA. de ROSSINI
DESCRIPTION:EL BARBERO DE SEVILLA. OPERA DE ROSSINI. COMPAÑÍA OPERA DE MADRID (MADRID OPERA COMPANY)
URL:https://disfruta-denia.com/evento/gala-opera-el-barbero-de-sevilla-de-rossini/
LOCATION:Hotel Denia Marriott La Sella Golf Resort & Spa\, S/N Alqueria Deferrando\, Jesus Pobre\, VC\, 03749\, Spain
CATEGORIES:Cultura,Música
ATTACH;FMTTYPE=image/jpeg:https://disfruta-denia.com/wp-content/uploads/2023/02/3688d0516d3e36badc29c2aa404affcd.jpg
END:VEVENT
BEGIN:VEVENT
DTSTART;TZID=Europe/Madrid:20230315T200000
DTEND;TZID=Europe/Madrid:20230315T233000
DTSTAMP:20260424T091043
CREATED:20221122T074309Z
LAST-MODIFIED:20221122T074309Z
UID:10008925-1678910400-1678923000@disfruta-denia.com
SUMMARY:Autocine: día del espectador
DESCRIPTION:
URL:https://disfruta-denia.com/evento/autocine-dia-del-espectador/2023-03-15/
LOCATION:Autociné Denia\, Partida Deveses D\, 27\, Denia\, Alicante\, 03700\, España
CATEGORIES:Ciné,Cultura
ATTACH;FMTTYPE=image/jpeg:https://disfruta-denia.com/wp-content/uploads/2022/11/Autocine-Drive-In-Denia-1.jpg
END:VEVENT
BEGIN:VEVENT
DTSTART;TZID=Europe/Madrid:20230316T203000
DTEND;TZID=Europe/Madrid:20230316T203000
DTSTAMP:20260424T091043
CREATED:20221118T123231Z
LAST-MODIFIED:20221118T130136Z
UID:10008508-1678998600-1678998600@disfruta-denia.com
SUMMARY:Tardeo Flamenco y punto
DESCRIPTION:Cada jueves te proponemos un tardeo Flamenco con Flamenco y Punto. Ambientazo! Apúntate!
URL:https://disfruta-denia.com/evento/tardeo-flamenco-y-punto/2023-03-16/
LOCATION:Bodega Casa Benjamín\, Ramón y Cajal\, 14\, Denia\, Alicante\, 03700\, España
CATEGORIES:Concierto,Danza,Música,Tardeo
ATTACH;FMTTYPE=image/jpeg:https://disfruta-denia.com/wp-content/uploads/2022/11/Post-de-Instagram-Feria-de-Sevilla-dibujo-sevillana-blanco-y-rojo-fondo-azul-2.jpg
END:VEVENT
BEGIN:VEVENT
DTSTART;TZID=Europe/Madrid:20230316T203000
DTEND;TZID=Europe/Madrid:20230316T203000
DTSTAMP:20260424T091043
CREATED:20230315T123351Z
LAST-MODIFIED:20230315T123351Z
UID:10010535-1678998600-1678998600@disfruta-denia.com
SUMMARY:Micro abierto en Babilonia
DESCRIPTION:¡No te pierdas la magia de los JUEVES BABILÒNICOS! ✨ \nEsta semana podréis disfrutar de la presentación del nuevo libro de poesía de Ofelia González: “El silbido del jilguero”. \nY como cada Jueves\, tras la presentación\, daremos paso al Micro Abierto. 🎤
URL:https://disfruta-denia.com/evento/micro-abierto-en-babilonia/
LOCATION:Babilonia Restaurante\, Calle Cavallers 11\, Denia\, Alicante\, 03700\, España
CATEGORIES:Cultura,Tardeo
ATTACH;FMTTYPE=image/jpeg:https://disfruta-denia.com/wp-content/uploads/2023/03/335762327_1300295007187696_7472945221782292494_n.jpg
END:VEVENT
BEGIN:VEVENT
DTSTART;TZID=Europe/Madrid:20230319T193000
DTEND;TZID=Europe/Madrid:20230319T213000
DTSTAMP:20260424T091043
CREATED:20220923T081255Z
LAST-MODIFIED:20220923T081255Z
UID:10005155-1679254200-1679261400@disfruta-denia.com
SUMMARY:Taller de salsa y baile social⁣
DESCRIPTION:La 𝗽𝗿𝗼𝗴𝗿𝗮𝗺𝗮𝗰𝗶𝗼́𝗻 𝗱𝗲 𝗼𝗰𝘁𝘂𝗯𝗿𝗲 𝗱𝗲 𝗟𝗲𝘀 𝘁𝗿𝗮𝗺𝗼𝗶𝗲𝘀 viene cargadita de 𝗲𝘀𝗽𝗲𝗰𝘁𝗮́𝗰𝘂𝗹𝗼𝘀 𝗽𝗮𝗿𝗮 𝘁𝗼𝗱𝗼𝘀 𝗹𝗼𝘀 𝗴𝘂𝘀𝘁𝗼𝘀 . ⁣\n⁣\nY empezamos el 𝗱𝗼𝗺𝗶𝗻𝗴𝗼 𝟮 𝗱𝗲 𝗼𝗰𝘁𝘂𝗯𝗿𝗲 con los 𝘁𝗮𝗹𝗹𝗲𝗿𝗲𝘀 𝗱𝗲 𝘀𝗮𝗹𝘀𝗮 𝘆 𝗯𝗮𝗰𝗵𝗮𝘁𝗮\, que iremos haciendo cada 2 domingos\, cambiando también a los profesores\, para que cada vez sea una experiencia diferente\,⁣\n⁣\nSi eres un/a bailongo/a y te gusta mover el esqueleto\, toma nota de estos talleres y 𝘃𝗲𝗻𝘁𝗲 𝗮 𝗽𝗮𝘀𝗮𝗿 𝘂𝗻 𝗯𝘂𝗲𝗻 𝗿𝗮𝘁𝗼 𝗰𝗼𝗻 𝗻𝗼𝘀𝗼𝘁𝗿𝗼𝘀. Además\, puedes disfrutar del momento con nuestro 𝘀𝗲𝗿𝘃𝗶𝗰𝗶𝗼 𝗱𝗲 𝗯𝗮𝗿.⁣\n⁣\n𝘗𝘳𝘰́𝘹𝘪𝘮𝘰𝘴 𝘵𝘢𝘭𝘭𝘦𝘳𝘦𝘴:⁣\n⁣\n𝗗𝗼𝗺𝗶𝗻𝗴𝗼 𝟭𝟲 𝗱𝗲 𝗼𝗰𝘁𝘂𝗯𝗿𝗲: Taller de bachata y baile social⁣\n𝗗𝗼𝗺𝗶𝗻𝗴𝗼 𝟯𝟬 𝗱𝗲 𝗼𝗰𝘁𝘂𝗯𝗿𝗲: Taller de salsa y baile social⁣
URL:https://disfruta-denia.com/evento/taller-de-salsa-y-baile-social%e2%81%a3/2023-03-19/
LOCATION:Les Tramoies\, C/ de Patricio Ferrándiz\, 88\, Denia\, Alicante\, 03700\, España
CATEGORIES:Cultura,Danza
ATTACH;FMTTYPE=image/jpeg:https://disfruta-denia.com/wp-content/uploads/2022/09/307840742_199774219095472_8040054581989892813_n.jpg
END:VEVENT
BEGIN:VEVENT
DTSTART;VALUE=DATE:20230320
DTEND;VALUE=DATE:20230415
DTSTAMP:20260424T091043
CREATED:20230320T130435Z
LAST-MODIFIED:20230320T130435Z
UID:10010547-1679284800-1681444799@disfruta-denia.com
SUMMARY:Exposició homenatge a BERNARD THOMAS
DESCRIPTION:Exposició homenatge a BERNARD THOMAS. Fotografies obra pòstuma.  \nHorari/horario: laborables   11 – 14 h / 17 – 21 h\, dissabte/sábado 10 – 13.30 h.
URL:https://disfruta-denia.com/evento/exposicio-homenatge-a-bernard-thomas/
LOCATION:Casa de la Cultura Denia\, Plaça Jaume I\, Denia\, Alicante\, 03700\, España
CATEGORIES:Cultura,Exposiciones
ATTACH;FMTTYPE=image/png:https://disfruta-denia.com/wp-content/uploads/2023/03/8-Expo-Bernard-Thomas..png
ORGANIZER;CN="Denia Cultura":MAILTO:cultura@ayto-denia.es
END:VEVENT
BEGIN:VEVENT
DTSTART;TZID=Europe/Madrid:20230321T193000
DTEND;TZID=Europe/Madrid:20230321T193000
DTSTAMP:20260424T091043
CREATED:20230220T102108Z
LAST-MODIFIED:20230319T111753Z
UID:10009929-1679427000-1679427000@disfruta-denia.com
SUMMARY:Recital de l’ASSOCIACIÓ POETES PER LA CULTURA
DESCRIPTION:Celebrant el dia de la poesia/Celebrando el día de la poesía.
URL:https://disfruta-denia.com/evento/recital-de-lassociacio-poetes-per-la-cultura/
LOCATION:Centre d’art l’Estació\, Carrer Calderón\, 2\, Denia\, Alicante\, 03700\, España
CATEGORIES:Cultura
ATTACH;FMTTYPE=image/png:https://disfruta-denia.com/wp-content/uploads/2023/02/12-dia-de-la-poesia.png
ORGANIZER;CN="Denia Cultura":MAILTO:cultura@ayto-denia.es
END:VEVENT
BEGIN:VEVENT
DTSTART;TZID=Europe/Madrid:20230322T200000
DTEND;TZID=Europe/Madrid:20230322T233000
DTSTAMP:20260424T091043
CREATED:20221122T074309Z
LAST-MODIFIED:20221122T074309Z
UID:10008926-1679515200-1679527800@disfruta-denia.com
SUMMARY:Autocine: día del espectador
DESCRIPTION:
URL:https://disfruta-denia.com/evento/autocine-dia-del-espectador/2023-03-22/
LOCATION:Autociné Denia\, Partida Deveses D\, 27\, Denia\, Alicante\, 03700\, España
CATEGORIES:Ciné,Cultura
ATTACH;FMTTYPE=image/jpeg:https://disfruta-denia.com/wp-content/uploads/2022/11/Autocine-Drive-In-Denia-1.jpg
END:VEVENT
BEGIN:VEVENT
DTSTART;TZID=Europe/Madrid:20230323T203000
DTEND;TZID=Europe/Madrid:20230323T203000
DTSTAMP:20260424T091043
CREATED:20221118T123231Z
LAST-MODIFIED:20221118T130136Z
UID:10008509-1679603400-1679603400@disfruta-denia.com
SUMMARY:Tardeo Flamenco y punto
DESCRIPTION:Cada jueves te proponemos un tardeo Flamenco con Flamenco y Punto. Ambientazo! Apúntate!
URL:https://disfruta-denia.com/evento/tardeo-flamenco-y-punto/2023-03-23/
LOCATION:Bodega Casa Benjamín\, Ramón y Cajal\, 14\, Denia\, Alicante\, 03700\, España
CATEGORIES:Concierto,Danza,Música,Tardeo
ATTACH;FMTTYPE=image/jpeg:https://disfruta-denia.com/wp-content/uploads/2022/11/Post-de-Instagram-Feria-de-Sevilla-dibujo-sevillana-blanco-y-rojo-fondo-azul-2.jpg
END:VEVENT
BEGIN:VEVENT
DTSTART;TZID=Europe/Madrid:20230324T200000
DTEND;TZID=Europe/Madrid:20230324T200000
DTSTAMP:20260424T091043
CREATED:20230220T102227Z
LAST-MODIFIED:20230220T102227Z
UID:10009930-1679688000-1679688000@disfruta-denia.com
SUMMARY:Música y recital
DESCRIPTION:EL COLLAR DE LA COLOMA \nEscrita en 1022 en el seu exili de Xàtiva per l’humanista andalusí Ibn Hazm (Còrdova\, 994 – Montija\, 1064)
URL:https://disfruta-denia.com/evento/musica-y-recital/
LOCATION:Teatro Auditorio Centro Social\, 4 Carrer Calderón\, Dénia\, VC\, 03700\, Spain
CATEGORIES:Cultura,Música
ORGANIZER;CN="Denia Cultura":MAILTO:cultura@ayto-denia.es
END:VEVENT
BEGIN:VEVENT
DTSTART;TZID=Europe/Madrid:20230326T190000
DTEND;TZID=Europe/Madrid:20230326T190000
DTSTAMP:20260424T091043
CREATED:20230220T102355Z
LAST-MODIFIED:20230220T102355Z
UID:10009931-1679857200-1679857200@disfruta-denia.com
SUMMARY:Cineclub: ARGENTINA 1985
DESCRIPTION:ARGENTINA 1985.  Dir.: Santiago Mitre.   Argentina\, 2022\, 140 min. VO en castellà/castellano \nEntrada: 3 €   en http://www.notikumi.com.  \nEn taquilla: el mateix dia una hora abans/el mismo día una hora antes.
URL:https://disfruta-denia.com/evento/cineclub-argentina-1985/
LOCATION:Teatro Auditorio Centro Social\, 4 Carrer Calderón\, Dénia\, VC\, 03700\, Spain
CATEGORIES:Ciné,Cultura
ATTACH;FMTTYPE=image/png:https://disfruta-denia.com/wp-content/uploads/2023/02/17-cine-dia-26.png
ORGANIZER;CN="Denia Cultura":MAILTO:cultura@ayto-denia.es
END:VEVENT
BEGIN:VEVENT
DTSTART;VALUE=DATE:20230327
DTEND;VALUE=DATE:20230330
DTSTAMP:20260424T091043
CREATED:20230315T191111Z
LAST-MODIFIED:20230315T191111Z
UID:10010536-1679889600-1680062399@disfruta-denia.com
SUMMARY:Dénia Festival de las Humanidades
DESCRIPTION:Dénia Festival de las Humanidades es un evento coordinado por la Fundación Dénia Ciudad Creativa de la Gastronomía de la Comunidad Valenciana\, bajo la dirección académica de La Maleta de Portbou\, que nació con el objetivo de convertirse en una cita anual de reflexión y diálogo sobre la condición humana y de ofrecer a la sociedad civil un foro abierto donde participar con expertos de primer nivel en el ámbito del pensamiento humanístico. Pretende\, asimismo\, poner en valor y fomentar las humanidades como medio para formar una ciudadanía con pensamiento crítico y convertir Dénia en un referente del pensamiento\, la reflexión y las humanidades en el Mediterráneo. \n  \nMonográfico de La Maleta de Portbou \n  \nDénia Festival de las Humanidades Primavera empieza el lunes 27 de marzo con la presentación de un número especial de La Maleta de Portbou dedicado a la primera edición del Dénia Festival de las Humanidades\, que se celebró del 27 al 29 de octubre de 2022. \n  \nParticiparán en la presentación del monográfico el director de La Maleta de Portbou y director académico del Dénia Festival de las Humanidades\, Josep Ramoneda\, y el catedrático de Geografía Humana en la Universitat de València y miembro del Instituto Interuniversitario de Desarrollo Local (IIDL)\, Joan Romero. \n  \nSerá en la Biblioteca municipal de Dénia (c/ Sant Josep\, 6)\, a las 19 horas. \n  \nEspai Lluís Vives: foro de empresas y compromiso con el territorio \n  \nAl día siguiente\, martes 28 de marzo\, se celebrará ‘Arrels’\, un foro de empresas comprometidas con el territorio\, en el Espai Lluís Vives dedicado a la empresa y las humanidades (L’Androna Multiespai\, Baleària Port). \n  \nLa apertura del foro será a las 10.30 horas con la participación confirmada del director general de Relaciones Informativas de la Generalitat Valenciana\, Pere Rostoll; el presidente de la Asociación de la Prensa Comarcal Valenciana (APCV)\, Santiago Sanchis; el presidente del Cercle Empresarial de la Marina Alta (CEDMA)\, Benito Mestre; y la directora de ESG (environmental\, social and governance) de Baleària\, Lydia del Canto. \n  \nLa programación continúa a las 10.45 horas con un diálogo sobre ‘Empresas familiares y empresas de comunicación en el territorio’\, en el que participarán el director de la Cátedra Empresa Familiar de la Universitat de València\, Alejandro Escrivà y el director del periódico Levante-EMV (1987-1998 y 2008-2013) e impulsor de las delegaciones comarcales\, Ferran Belda\, y estará moderado por la directora del periódico digital villenense Portada.info\, Mariví Pardo. \n  \nMás tarde\, a las 11.35 horas de la mañana\, se podrá asistir a la sesión ‘El compromiso con el territorio’\, en la cual conversarán representantes de Caixa Ontinyent\, la empresa de energía limpia y sostenible EnerHi y la naviera Baleària\, actuando como moderador Luis Peidro\, director de El Nostre Ciutat\, periódico de Alcoy. \n  \nA las 12.30 horas empezará el diálogo sobre ‘Perdurabilidad y fidelidad de un proyecto empresarial’ que mantendrán representantes de las empresas Rolser\, Aquaclean Group y Unión Alcoyana\, moderado por el director de Revista Poble (Vila-real)\, Juanjo Clemente. \n  \nLa entrega de reconocimientos y clausura está prevista a las 14 horas\, con la participación del conseller de Economía Sostenible\, Sectores Productivos\, Comercio y Trabajo\, Rafael Climent. \nPara asistir al foro es necesaria la inscripción previa en https://forms.gle/Zy3fe5VnUXBR5j2r8. \n  \nRusia\, Ucrania\, Europa: mesa redonda sobre una guerra que nos concierne a todos \n  \nEl Dénia Festival de las Humanidades Primavera se despedirá la tarde del día 28 con la mesa redonda ‘Rusia\, Ucrania\, Europa. Una guerra que nos concierne a todos’ (18.45 horas\, Centro Social). \n  \nParticipan el escritor ucraniano en lengua rusa\, autor de Muertes con pingüinos\, Diario de una invasión y Abejas grises\, y expresidente del PEN Ucrania\, Andrei Kurkov; el diplomático\, embajador español en Alemania (2012-2016) y representante permanente de España ante la Unión Europea (2016-2021)\, Pablo García-Berdoy; la periodista\, analista y corresponsal de El País en la URSS\, Rusia y el espacio postsoviético (1982-2016)\, Pilar Bonet; y el director de La Maleta de Portbou y director académico del Dénia Festival de las Humanidades\, Josep Ramoneda. La entrada es libre hasta completar aforo. \n  \nHan colaborado para la materialización de esta edición de primavera del Dénia Festival de las Humanidades Fundación ‘la Caixa’\, la Asociación de la Prensa Comarcal Valenciana (APCV) y las asociaciones empresariales CEDMA y AEHTMA.
URL:https://disfruta-denia.com/evento/denia-festival-de-las-humanidades/
LOCATION:Denia\, Denia\, Alicante\, 03700\, España
CATEGORIES:Charlas y conferencias,Cultura
ATTACH;FMTTYPE=image/jpeg:https://disfruta-denia.com/wp-content/uploads/2023/03/6510f1.jpg
END:VEVENT
BEGIN:VEVENT
DTSTART;TZID=Europe/Madrid:20230329T200000
DTEND;TZID=Europe/Madrid:20230329T233000
DTSTAMP:20260424T091043
CREATED:20221122T074309Z
LAST-MODIFIED:20221122T074309Z
UID:10008927-1680120000-1680132600@disfruta-denia.com
SUMMARY:Autocine: día del espectador
DESCRIPTION:
URL:https://disfruta-denia.com/evento/autocine-dia-del-espectador/2023-03-29/
LOCATION:Autociné Denia\, Partida Deveses D\, 27\, Denia\, Alicante\, 03700\, España
CATEGORIES:Ciné,Cultura
ATTACH;FMTTYPE=image/jpeg:https://disfruta-denia.com/wp-content/uploads/2022/11/Autocine-Drive-In-Denia-1.jpg
END:VEVENT
BEGIN:VEVENT
DTSTART;TZID=Europe/Madrid:20230330T203000
DTEND;TZID=Europe/Madrid:20230330T203000
DTSTAMP:20260424T091043
CREATED:20221118T123231Z
LAST-MODIFIED:20221118T130136Z
UID:10008510-1680208200-1680208200@disfruta-denia.com
SUMMARY:Tardeo Flamenco y punto
DESCRIPTION:Cada jueves te proponemos un tardeo Flamenco con Flamenco y Punto. Ambientazo! Apúntate!
URL:https://disfruta-denia.com/evento/tardeo-flamenco-y-punto/2023-03-30/
LOCATION:Bodega Casa Benjamín\, Ramón y Cajal\, 14\, Denia\, Alicante\, 03700\, España
CATEGORIES:Concierto,Danza,Música,Tardeo
ATTACH;FMTTYPE=image/jpeg:https://disfruta-denia.com/wp-content/uploads/2022/11/Post-de-Instagram-Feria-de-Sevilla-dibujo-sevillana-blanco-y-rojo-fondo-azul-2.jpg
END:VEVENT
END:VCALENDAR