BEGIN:VCALENDAR
VERSION:2.0
PRODID:-//Disfruta Denia - ECPv6.15.20//NONSGML v1.0//EN
CALSCALE:GREGORIAN
METHOD:PUBLISH
X-WR-CALNAME:Disfruta Denia
X-ORIGINAL-URL:https://disfruta-denia.com
X-WR-CALDESC:Eventos para Disfruta Denia
REFRESH-INTERVAL;VALUE=DURATION:PT1H
X-Robots-Tag:noindex
X-PUBLISHED-TTL:PT1H
BEGIN:VTIMEZONE
TZID:Europe/Madrid
BEGIN:DAYLIGHT
TZOFFSETFROM:+0100
TZOFFSETTO:+0200
TZNAME:CEST
DTSTART:20220327T010000
END:DAYLIGHT
BEGIN:STANDARD
TZOFFSETFROM:+0200
TZOFFSETTO:+0100
TZNAME:CET
DTSTART:20221030T010000
END:STANDARD
BEGIN:DAYLIGHT
TZOFFSETFROM:+0100
TZOFFSETTO:+0200
TZNAME:CEST
DTSTART:20230326T010000
END:DAYLIGHT
BEGIN:STANDARD
TZOFFSETFROM:+0200
TZOFFSETTO:+0100
TZNAME:CET
DTSTART:20231029T010000
END:STANDARD
BEGIN:DAYLIGHT
TZOFFSETFROM:+0100
TZOFFSETTO:+0200
TZNAME:CEST
DTSTART:20240331T010000
END:DAYLIGHT
BEGIN:STANDARD
TZOFFSETFROM:+0200
TZOFFSETTO:+0100
TZNAME:CET
DTSTART:20241027T010000
END:STANDARD
END:VTIMEZONE
BEGIN:VEVENT
DTSTART;VALUE=DATE:20230320
DTEND;VALUE=DATE:20230415
DTSTAMP:20260424T071520
CREATED:20230320T130435Z
LAST-MODIFIED:20230320T130435Z
UID:10010547-1679284800-1681444799@disfruta-denia.com
SUMMARY:Exposició homenatge a BERNARD THOMAS
DESCRIPTION:Exposició homenatge a BERNARD THOMAS. Fotografies obra pòstuma.  \nHorari/horario: laborables   11 – 14 h / 17 – 21 h\, dissabte/sábado 10 – 13.30 h.
URL:https://disfruta-denia.com/evento/exposicio-homenatge-a-bernard-thomas/
LOCATION:Casa de la Cultura Denia\, Plaça Jaume I\, Denia\, Alicante\, 03700\, España
CATEGORIES:Cultura,Exposiciones
ATTACH;FMTTYPE=image/png:https://disfruta-denia.com/wp-content/uploads/2023/03/8-Expo-Bernard-Thomas..png
ORGANIZER;CN="Denia Cultura":MAILTO:cultura@ayto-denia.es
END:VEVENT
BEGIN:VEVENT
DTSTART;TZID=Europe/Madrid:20230401T193000
DTEND;TZID=Europe/Madrid:20230401T193000
DTSTAMP:20260424T071520
CREATED:20230320T101145Z
LAST-MODIFIED:20230320T101145Z
UID:10010542-1680377400-1680377400@disfruta-denia.com
SUMMARY:HOMENAJE A PACO MUÑOZ
DESCRIPTION:Acte de nomenament de FILL ADOPTIU DE DÉNIA \nActo de nombramiento de HIJO ADOPTIVO DE DÉNIA \nEntrada: lliure amb invitació /  libre con invitación en https://www.notikumi.com
URL:https://disfruta-denia.com/evento/homenaje-a-paco-munoz/
LOCATION:Teatro Auditorio Centro Social\, 4 Carrer Calderón\, Dénia\, VC\, 03700\, Spain
CATEGORIES:Charlas y conferencias,Cultura
ATTACH;FMTTYPE=image/png:https://disfruta-denia.com/wp-content/uploads/2023/03/3-Homenatge-a-Paco-Munoz.png
ORGANIZER;CN="Denia Cultura":MAILTO:cultura@ayto-denia.es
END:VEVENT
BEGIN:VEVENT
DTSTART;TZID=Europe/Madrid:20230402T190000
DTEND;TZID=Europe/Madrid:20230402T190000
DTSTAMP:20260424T071520
CREATED:20230320T104758Z
LAST-MODIFIED:20230320T104758Z
UID:10010544-1680462000-1680462000@disfruta-denia.com
SUMMARY:Cineclub: LICORICE PIZZA
DESCRIPTION:LICORICE PIZZA. Dir.: Paul Thomas Anderson. EEUU\, 2021\, 133 min. VO en anglés / inglés. Subtitulada al castellà/ castellano. + 12 anys/ años. \nEntrada 3 € en https://www.notikumi.com \nTaquilla: el mateix dia una hora abans/el mismo día una hora antes.
URL:https://disfruta-denia.com/evento/cineclub-licorice-pizza/
LOCATION:Teatro Auditorio Centro Social\, 4 Carrer Calderón\, Dénia\, VC\, 03700\, Spain
CATEGORIES:Ciné,Cultura
ATTACH;FMTTYPE=image/png:https://disfruta-denia.com/wp-content/uploads/2023/03/5-cine-dia-5.png
ORGANIZER;CN="Denia Cultura":MAILTO:cultura@ayto-denia.es
END:VEVENT
BEGIN:VEVENT
DTSTART;TZID=Europe/Madrid:20230405T200000
DTEND;TZID=Europe/Madrid:20230405T233000
DTSTAMP:20260424T071520
CREATED:20221122T074309Z
LAST-MODIFIED:20221122T074309Z
UID:10008928-1680724800-1680737400@disfruta-denia.com
SUMMARY:Autocine: día del espectador
DESCRIPTION:
URL:https://disfruta-denia.com/evento/autocine-dia-del-espectador/2023-04-05/
LOCATION:Autociné Denia\, Partida Deveses D\, 27\, Denia\, Alicante\, 03700\, España
CATEGORIES:Ciné,Cultura
ATTACH;FMTTYPE=image/jpeg:https://disfruta-denia.com/wp-content/uploads/2022/11/Autocine-Drive-In-Denia-1.jpg
END:VEVENT
BEGIN:VEVENT
DTSTART;TZID=Europe/Madrid:20230406T203000
DTEND;TZID=Europe/Madrid:20230406T203000
DTSTAMP:20260424T071520
CREATED:20221118T123231Z
LAST-MODIFIED:20221118T130136Z
UID:10008511-1680813000-1680813000@disfruta-denia.com
SUMMARY:Tardeo Flamenco y punto
DESCRIPTION:Cada jueves te proponemos un tardeo Flamenco con Flamenco y Punto. Ambientazo! Apúntate!
URL:https://disfruta-denia.com/evento/tardeo-flamenco-y-punto/2023-04-06/
LOCATION:Bodega Casa Benjamín\, Ramón y Cajal\, 14\, Denia\, Alicante\, 03700\, España
CATEGORIES:Concierto,Danza,Música,Tardeo
ATTACH;FMTTYPE=image/jpeg:https://disfruta-denia.com/wp-content/uploads/2022/11/Post-de-Instagram-Feria-de-Sevilla-dibujo-sevillana-blanco-y-rojo-fondo-azul-2.jpg
END:VEVENT
BEGIN:VEVENT
DTSTART;TZID=Europe/Madrid:20230412T200000
DTEND;TZID=Europe/Madrid:20230412T233000
DTSTAMP:20260424T071520
CREATED:20221122T074309Z
LAST-MODIFIED:20221122T074309Z
UID:10008929-1681329600-1681342200@disfruta-denia.com
SUMMARY:Autocine: día del espectador
DESCRIPTION:
URL:https://disfruta-denia.com/evento/autocine-dia-del-espectador/2023-04-12/
LOCATION:Autociné Denia\, Partida Deveses D\, 27\, Denia\, Alicante\, 03700\, España
CATEGORIES:Ciné,Cultura
ATTACH;FMTTYPE=image/jpeg:https://disfruta-denia.com/wp-content/uploads/2022/11/Autocine-Drive-In-Denia-1.jpg
END:VEVENT
BEGIN:VEVENT
DTSTART;TZID=Europe/Madrid:20230413T203000
DTEND;TZID=Europe/Madrid:20230413T203000
DTSTAMP:20260424T071520
CREATED:20221118T123231Z
LAST-MODIFIED:20221118T130136Z
UID:10008512-1681417800-1681417800@disfruta-denia.com
SUMMARY:Tardeo Flamenco y punto
DESCRIPTION:Cada jueves te proponemos un tardeo Flamenco con Flamenco y Punto. Ambientazo! Apúntate!
URL:https://disfruta-denia.com/evento/tardeo-flamenco-y-punto/2023-04-13/
LOCATION:Bodega Casa Benjamín\, Ramón y Cajal\, 14\, Denia\, Alicante\, 03700\, España
CATEGORIES:Concierto,Danza,Música,Tardeo
ATTACH;FMTTYPE=image/jpeg:https://disfruta-denia.com/wp-content/uploads/2022/11/Post-de-Instagram-Feria-de-Sevilla-dibujo-sevillana-blanco-y-rojo-fondo-azul-2.jpg
END:VEVENT
BEGIN:VEVENT
DTSTART;TZID=Europe/Madrid:20230416T193000
DTEND;TZID=Europe/Madrid:20230416T213000
DTSTAMP:20260424T071520
CREATED:20220923T081255Z
LAST-MODIFIED:20220923T081255Z
UID:10005156-1681673400-1681680600@disfruta-denia.com
SUMMARY:Taller de salsa y baile social⁣
DESCRIPTION:La 𝗽𝗿𝗼𝗴𝗿𝗮𝗺𝗮𝗰𝗶𝗼́𝗻 𝗱𝗲 𝗼𝗰𝘁𝘂𝗯𝗿𝗲 𝗱𝗲 𝗟𝗲𝘀 𝘁𝗿𝗮𝗺𝗼𝗶𝗲𝘀 viene cargadita de 𝗲𝘀𝗽𝗲𝗰𝘁𝗮́𝗰𝘂𝗹𝗼𝘀 𝗽𝗮𝗿𝗮 𝘁𝗼𝗱𝗼𝘀 𝗹𝗼𝘀 𝗴𝘂𝘀𝘁𝗼𝘀 . ⁣\n⁣\nY empezamos el 𝗱𝗼𝗺𝗶𝗻𝗴𝗼 𝟮 𝗱𝗲 𝗼𝗰𝘁𝘂𝗯𝗿𝗲 con los 𝘁𝗮𝗹𝗹𝗲𝗿𝗲𝘀 𝗱𝗲 𝘀𝗮𝗹𝘀𝗮 𝘆 𝗯𝗮𝗰𝗵𝗮𝘁𝗮\, que iremos haciendo cada 2 domingos\, cambiando también a los profesores\, para que cada vez sea una experiencia diferente\,⁣\n⁣\nSi eres un/a bailongo/a y te gusta mover el esqueleto\, toma nota de estos talleres y 𝘃𝗲𝗻𝘁𝗲 𝗮 𝗽𝗮𝘀𝗮𝗿 𝘂𝗻 𝗯𝘂𝗲𝗻 𝗿𝗮𝘁𝗼 𝗰𝗼𝗻 𝗻𝗼𝘀𝗼𝘁𝗿𝗼𝘀. Además\, puedes disfrutar del momento con nuestro 𝘀𝗲𝗿𝘃𝗶𝗰𝗶𝗼 𝗱𝗲 𝗯𝗮𝗿.⁣\n⁣\n𝘗𝘳𝘰́𝘹𝘪𝘮𝘰𝘴 𝘵𝘢𝘭𝘭𝘦𝘳𝘦𝘴:⁣\n⁣\n𝗗𝗼𝗺𝗶𝗻𝗴𝗼 𝟭𝟲 𝗱𝗲 𝗼𝗰𝘁𝘂𝗯𝗿𝗲: Taller de bachata y baile social⁣\n𝗗𝗼𝗺𝗶𝗻𝗴𝗼 𝟯𝟬 𝗱𝗲 𝗼𝗰𝘁𝘂𝗯𝗿𝗲: Taller de salsa y baile social⁣
URL:https://disfruta-denia.com/evento/taller-de-salsa-y-baile-social%e2%81%a3/2023-04-16/
LOCATION:Les Tramoies\, C/ de Patricio Ferrándiz\, 88\, Denia\, Alicante\, 03700\, España
CATEGORIES:Cultura,Danza
ATTACH;FMTTYPE=image/jpeg:https://disfruta-denia.com/wp-content/uploads/2022/09/307840742_199774219095472_8040054581989892813_n.jpg
END:VEVENT
BEGIN:VEVENT
DTSTART;TZID=Europe/Madrid:20230419T190000
DTEND;TZID=Europe/Madrid:20230419T190000
DTSTAMP:20260424T071520
CREATED:20230417T095159Z
LAST-MODIFIED:20230417T095159Z
UID:10010586-1681930800-1681930800@disfruta-denia.com
SUMMARY:Proyección Sorolla
DESCRIPTION:
URL:https://disfruta-denia.com/evento/proyeccion-sorolla/
LOCATION:Casa de la Cultura Denia\, Plaça Jaume I\, Denia\, Alicante\, 03700\, España
CATEGORIES:Charlas y conferencias,Ciné,Cultura
ATTACH;FMTTYPE=image/jpeg:https://disfruta-denia.com/wp-content/uploads/2023/04/336378552_239606985245788_5132775451142185662_n.jpg
ORGANIZER;CN="Denia Cultura":MAILTO:cultura@ayto-denia.es
END:VEVENT
BEGIN:VEVENT
DTSTART;TZID=Europe/Madrid:20230419T200000
DTEND;TZID=Europe/Madrid:20230419T233000
DTSTAMP:20260424T071520
CREATED:20221122T074309Z
LAST-MODIFIED:20221122T074309Z
UID:10008930-1681934400-1681947000@disfruta-denia.com
SUMMARY:Autocine: día del espectador
DESCRIPTION:
URL:https://disfruta-denia.com/evento/autocine-dia-del-espectador/2023-04-19/
LOCATION:Autociné Denia\, Partida Deveses D\, 27\, Denia\, Alicante\, 03700\, España
CATEGORIES:Ciné,Cultura
ATTACH;FMTTYPE=image/jpeg:https://disfruta-denia.com/wp-content/uploads/2022/11/Autocine-Drive-In-Denia-1.jpg
END:VEVENT
BEGIN:VEVENT
DTSTART;TZID=Europe/Madrid:20230420T193000
DTEND;TZID=Europe/Madrid:20230420T193000
DTSTAMP:20260424T071520
CREATED:20230418T072008Z
LAST-MODIFIED:20230418T072613Z
UID:10010587-1682019000-1682019000@disfruta-denia.com
SUMMARY:Contacontes
DESCRIPTION:
URL:https://disfruta-denia.com/evento/contacontes/2023-04-20/
LOCATION:Biblioteca pública Denia\, c/ de Sant Josep\, 6\, Denia\, Alicante\, 03700\, España
CATEGORIES:Charlas y conferencias,Cultura
ATTACH;FMTTYPE=image/jpeg:https://disfruta-denia.com/wp-content/uploads/2023/04/341847977_173080475628326_4333183234455959894_n.jpg
END:VEVENT
BEGIN:VEVENT
DTSTART;TZID=Europe/Madrid:20230420T203000
DTEND;TZID=Europe/Madrid:20230420T203000
DTSTAMP:20260424T071520
CREATED:20221118T123231Z
LAST-MODIFIED:20221118T130136Z
UID:10008513-1682022600-1682022600@disfruta-denia.com
SUMMARY:Tardeo Flamenco y punto
DESCRIPTION:Cada jueves te proponemos un tardeo Flamenco con Flamenco y Punto. Ambientazo! Apúntate!
URL:https://disfruta-denia.com/evento/tardeo-flamenco-y-punto/2023-04-20/
LOCATION:Bodega Casa Benjamín\, Ramón y Cajal\, 14\, Denia\, Alicante\, 03700\, España
CATEGORIES:Concierto,Danza,Música,Tardeo
ATTACH;FMTTYPE=image/jpeg:https://disfruta-denia.com/wp-content/uploads/2022/11/Post-de-Instagram-Feria-de-Sevilla-dibujo-sevillana-blanco-y-rojo-fondo-azul-2.jpg
END:VEVENT
BEGIN:VEVENT
DTSTART;TZID=Europe/Madrid:20230421T193000
DTEND;TZID=Europe/Madrid:20230421T193000
DTSTAMP:20260424T071520
CREATED:20230418T072008Z
LAST-MODIFIED:20230418T072613Z
UID:10010588-1682105400-1682105400@disfruta-denia.com
SUMMARY:Contacontes
DESCRIPTION:
URL:https://disfruta-denia.com/evento/contacontes/2023-04-21/
LOCATION:Biblioteca pública Denia\, c/ de Sant Josep\, 6\, Denia\, Alicante\, 03700\, España
CATEGORIES:Charlas y conferencias,Cultura
ATTACH;FMTTYPE=image/jpeg:https://disfruta-denia.com/wp-content/uploads/2023/04/341847977_173080475628326_4333183234455959894_n.jpg
END:VEVENT
BEGIN:VEVENT
DTSTART;TZID=Europe/Madrid:20230422T120000
DTEND;TZID=Europe/Madrid:20230422T120000
DTSTAMP:20260424T071520
CREATED:20230418T072008Z
LAST-MODIFIED:20230418T072613Z
UID:10010589-1682164800-1682164800@disfruta-denia.com
SUMMARY:Contacontes
DESCRIPTION:
URL:https://disfruta-denia.com/evento/contacontes/2023-04-22/
LOCATION:Biblioteca pública Denia\, c/ de Sant Josep\, 6\, Denia\, Alicante\, 03700\, España
CATEGORIES:Charlas y conferencias,Cultura
ATTACH;FMTTYPE=image/jpeg:https://disfruta-denia.com/wp-content/uploads/2023/04/341847977_173080475628326_4333183234455959894_n.jpg
END:VEVENT
BEGIN:VEVENT
DTSTART;TZID=Europe/Madrid:20230423T190000
DTEND;TZID=Europe/Madrid:20230423T190000
DTSTAMP:20260424T071520
CREATED:20230418T072850Z
LAST-MODIFIED:20230418T073036Z
UID:10010593-1682276400-1682276400@disfruta-denia.com
SUMMARY:Cineclub: LA CRÓNICA FRANCESA
DESCRIPTION:Dir.: Wes Anderson. EEUU\, 2021\, 108 min. V.O. en anglés/ inglés. Subtitulada al castellà/castellano.  + 12 anys/ años. \nEntrada 3 € en https://www.notikumi.com \nTaquilla: el mateix dia una hora abans/el mismo día una hora antes 
URL:https://disfruta-denia.com/evento/cineclub-la-cronica-francesa/
LOCATION:Teatro Auditorio Centro Social\, 4 Carrer Calderón\, Dénia\, VC\, 03700\, Spain
CATEGORIES:Ciné,Cultura
ATTACH;FMTTYPE=image/png:https://disfruta-denia.com/wp-content/uploads/2023/04/20-Cine-dia-23.png
ORGANIZER;CN="Denia Cultura":MAILTO:cultura@ayto-denia.es
END:VEVENT
BEGIN:VEVENT
DTSTART;TZID=Europe/Madrid:20230426T173000
DTEND;TZID=Europe/Madrid:20230426T173000
DTSTAMP:20260424T071520
CREATED:20230418T072008Z
LAST-MODIFIED:20230418T072613Z
UID:10010590-1682530200-1682530200@disfruta-denia.com
SUMMARY:Contacontes
DESCRIPTION:
URL:https://disfruta-denia.com/evento/contacontes/2023-04-26/
LOCATION:Biblioteca pública Denia\, c/ de Sant Josep\, 6\, Denia\, Alicante\, 03700\, España
CATEGORIES:Charlas y conferencias,Cultura
ATTACH;FMTTYPE=image/jpeg:https://disfruta-denia.com/wp-content/uploads/2023/04/341847977_173080475628326_4333183234455959894_n.jpg
END:VEVENT
BEGIN:VEVENT
DTSTART;TZID=Europe/Madrid:20230426T200000
DTEND;TZID=Europe/Madrid:20230426T233000
DTSTAMP:20260424T071520
CREATED:20221122T074309Z
LAST-MODIFIED:20221122T074309Z
UID:10008931-1682539200-1682551800@disfruta-denia.com
SUMMARY:Autocine: día del espectador
DESCRIPTION:
URL:https://disfruta-denia.com/evento/autocine-dia-del-espectador/2023-04-26/
LOCATION:Autociné Denia\, Partida Deveses D\, 27\, Denia\, Alicante\, 03700\, España
CATEGORIES:Ciné,Cultura
ATTACH;FMTTYPE=image/jpeg:https://disfruta-denia.com/wp-content/uploads/2022/11/Autocine-Drive-In-Denia-1.jpg
END:VEVENT
BEGIN:VEVENT
DTSTART;TZID=Europe/Madrid:20230427T203000
DTEND;TZID=Europe/Madrid:20230427T203000
DTSTAMP:20260424T071520
CREATED:20221118T123231Z
LAST-MODIFIED:20221118T130136Z
UID:10008514-1682627400-1682627400@disfruta-denia.com
SUMMARY:Tardeo Flamenco y punto
DESCRIPTION:Cada jueves te proponemos un tardeo Flamenco con Flamenco y Punto. Ambientazo! Apúntate!
URL:https://disfruta-denia.com/evento/tardeo-flamenco-y-punto/2023-04-27/
LOCATION:Bodega Casa Benjamín\, Ramón y Cajal\, 14\, Denia\, Alicante\, 03700\, España
CATEGORIES:Concierto,Danza,Música,Tardeo
ATTACH;FMTTYPE=image/jpeg:https://disfruta-denia.com/wp-content/uploads/2022/11/Post-de-Instagram-Feria-de-Sevilla-dibujo-sevillana-blanco-y-rojo-fondo-azul-2.jpg
END:VEVENT
BEGIN:VEVENT
DTSTART;TZID=Europe/Madrid:20230428T190000
DTEND;TZID=Europe/Madrid:20230428T190000
DTSTAMP:20260424T071520
CREATED:20230418T073121Z
LAST-MODIFIED:20230418T073402Z
UID:10010594-1682708400-1682708400@disfruta-denia.com
SUMMARY:DÉNIA CLÀSSICS
DESCRIPTION:Recital de cant i piano/ canto y piano.  \nCANTS D’AMOR \nEMILIA ONRUBIA\, soprano. \nINMACULADA GARCÍA SORIA\, piano \nObres de /obras de F. Schubert\, R. Strauss\, A. Dvorak\, Ch. Gounod\, F. Lehar\, G. Puccini \nEntrada única 15 €.  \n\nVenda anticipada d’entrades / Venta anticipada de entradas  :\n\nKONZERTFREUNDE: info@konzertfreunde.com \nPRO AKUSTIK.- DÉNIA: – Avd. Joan Fuster 28 C. \nTaquilla:  el mateix dia del concert / el mismo día del concierto a partir de 18 h.
URL:https://disfruta-denia.com/evento/denia-classics-3/
LOCATION:Teatro Auditorio Centro Social\, 4 Carrer Calderón\, Dénia\, VC\, 03700\, Spain
CATEGORIES:Concierto,Cultura,Música
ATTACH;FMTTYPE=image/png:https://disfruta-denia.com/wp-content/uploads/2023/04/21-denia-classics.png
ORGANIZER;CN="Denia Cultura":MAILTO:cultura@ayto-denia.es
END:VEVENT
BEGIN:VEVENT
DTSTART;TZID=Europe/Madrid:20230428T193000
DTEND;TZID=Europe/Madrid:20230428T193000
DTSTAMP:20260424T071520
CREATED:20230418T072008Z
LAST-MODIFIED:20230418T072613Z
UID:10010591-1682710200-1682710200@disfruta-denia.com
SUMMARY:Contacontes
DESCRIPTION:
URL:https://disfruta-denia.com/evento/contacontes/2023-04-28/
LOCATION:Biblioteca pública Denia\, c/ de Sant Josep\, 6\, Denia\, Alicante\, 03700\, España
CATEGORIES:Charlas y conferencias,Cultura
ATTACH;FMTTYPE=image/jpeg:https://disfruta-denia.com/wp-content/uploads/2023/04/341847977_173080475628326_4333183234455959894_n.jpg
END:VEVENT
BEGIN:VEVENT
DTSTART;TZID=Europe/Madrid:20230429T120000
DTEND;TZID=Europe/Madrid:20230429T120000
DTSTAMP:20260424T071520
CREATED:20230418T072008Z
LAST-MODIFIED:20230418T072613Z
UID:10010592-1682769600-1682769600@disfruta-denia.com
SUMMARY:Contacontes
DESCRIPTION:
URL:https://disfruta-denia.com/evento/contacontes/2023-04-29/
LOCATION:Biblioteca pública Denia\, c/ de Sant Josep\, 6\, Denia\, Alicante\, 03700\, España
CATEGORIES:Charlas y conferencias,Cultura
ATTACH;FMTTYPE=image/jpeg:https://disfruta-denia.com/wp-content/uploads/2023/04/341847977_173080475628326_4333183234455959894_n.jpg
END:VEVENT
BEGIN:VEVENT
DTSTART;TZID=Europe/Madrid:20230429T200000
DTEND;TZID=Europe/Madrid:20230429T200000
DTSTAMP:20260424T071520
CREATED:20230424T120803Z
LAST-MODIFIED:20230424T120918Z
UID:10010629-1682798400-1682798400@disfruta-denia.com
SUMMARY:𝗡𝗢𝗖𝗛𝗘𝗦 𝗗𝗘 𝗙𝗟𝗔𝗠𝗘𝗡𝗖𝗢 𝗲𝗻 𝗟𝗲𝘀 𝘁𝗿𝗮𝗺𝗼𝗶𝗲s
DESCRIPTION:𝗡𝗢𝗖𝗛𝗘𝗦 𝗗𝗘 𝗙𝗟𝗔𝗠𝗘𝗡𝗖𝗢 𝗲𝗻 𝗟𝗲𝘀 𝘁𝗿𝗮𝗺𝗼𝗶𝗲𝘀 .⁣\nY tenemos el gusto de tener con nosotros un elenco de lujo\, con Úrsula Moreno al baile (perteneciente a una de las familias con más solera de Andalucía\,); Antonio Andrade a la guitarra (sobrino del\, ya fallecido\, cantaor flamenco José Menese); y Jose de Murcia al cante.⁣\n⁣\n¡Quedan muy poquitas entradas para el pase de las 20:00!\n⁣\nSegundo pase a las 22:00.\n¡Reserva ya tu entrada anticipada y no te quedes sin!⁣
URL:https://disfruta-denia.com/evento/%f0%9d%97%a1%f0%9d%97%a2%f0%9d%97%96%f0%9d%97%9b%f0%9d%97%98%f0%9d%97%a6-%f0%9d%97%97%f0%9d%97%98-%f0%9d%97%99%f0%9d%97%9f%f0%9d%97%94%f0%9d%97%a0%f0%9d%97%98%f0%9d%97%a1%f0%9d%97%96%f0%9d%97%a2/
LOCATION:Les Tramoies\, C/ de Patricio Ferrándiz\, 88\, Denia\, Alicante\, 03700\, España
CATEGORIES:Baile,Cultura,Danza,Música
ATTACH;FMTTYPE=image/png:https://disfruta-denia.com/wp-content/uploads/2023/04/342186135_1406927746817702_5858949680069555646_n.png
END:VEVENT
BEGIN:VEVENT
DTSTART;TZID=Europe/Madrid:20230430T190000
DTEND;TZID=Europe/Madrid:20230430T190000
DTSTAMP:20260424T071520
CREATED:20230418T073423Z
LAST-MODIFIED:20230418T073628Z
UID:10010595-1682881200-1682881200@disfruta-denia.com
SUMMARY:Cineclub: LA CONSAGRACIÓN DE LA PRIMAVERA
DESCRIPTION:Dir.: Fernando Franco. Espanya/España\, 2022\, 110 min. VO en castellà / castellano.  + 12 anys/ años. \nEntrada 3 € en https://www.notikumi.com \nTaquilla: el mateix dia una hora abans/el mismo día una hora antes 
URL:https://disfruta-denia.com/evento/cineclub-la-consagracion-de-la-primavera/
LOCATION:Teatro Auditorio Centro Social\, 4 Carrer Calderón\, Dénia\, VC\, 03700\, Spain
CATEGORIES:Ciné,Cultura
ATTACH;FMTTYPE=image/png:https://disfruta-denia.com/wp-content/uploads/2023/04/25-cine-dia-30-1.png
ORGANIZER;CN="Denia Cultura":MAILTO:cultura@ayto-denia.es
END:VEVENT
END:VCALENDAR