BEGIN:VCALENDAR
VERSION:2.0
PRODID:-//Disfruta Denia - ECPv6.15.20//NONSGML v1.0//EN
CALSCALE:GREGORIAN
METHOD:PUBLISH
X-WR-CALNAME:Disfruta Denia
X-ORIGINAL-URL:https://disfruta-denia.com
X-WR-CALDESC:Eventos para Disfruta Denia
REFRESH-INTERVAL;VALUE=DURATION:PT1H
X-Robots-Tag:noindex
X-PUBLISHED-TTL:PT1H
BEGIN:VTIMEZONE
TZID:Europe/Madrid
BEGIN:DAYLIGHT
TZOFFSETFROM:+0100
TZOFFSETTO:+0200
TZNAME:CEST
DTSTART:20220327T010000
END:DAYLIGHT
BEGIN:STANDARD
TZOFFSETFROM:+0200
TZOFFSETTO:+0100
TZNAME:CET
DTSTART:20221030T010000
END:STANDARD
BEGIN:DAYLIGHT
TZOFFSETFROM:+0100
TZOFFSETTO:+0200
TZNAME:CEST
DTSTART:20230326T010000
END:DAYLIGHT
BEGIN:STANDARD
TZOFFSETFROM:+0200
TZOFFSETTO:+0100
TZNAME:CET
DTSTART:20231029T010000
END:STANDARD
BEGIN:DAYLIGHT
TZOFFSETFROM:+0100
TZOFFSETTO:+0200
TZNAME:CEST
DTSTART:20240331T010000
END:DAYLIGHT
BEGIN:STANDARD
TZOFFSETFROM:+0200
TZOFFSETTO:+0100
TZNAME:CET
DTSTART:20241027T010000
END:STANDARD
END:VTIMEZONE
BEGIN:VEVENT
DTSTART;VALUE=DATE:20230501
DTEND;VALUE=DATE:20230516
DTSTAMP:20260424T051625
CREATED:20230501T151834Z
LAST-MODIFIED:20230501T151935Z
UID:10010642-1682913600-1684123199@disfruta-denia.com
SUMMARY:OJOS ROJOS. V FESTIVAL INTERNACIONAL DE FOTOGRAFIA
DESCRIPTION:Neus Solà. POUPÉES. \nHorari/horario: tots els dies/ todos los días de 10 – 13 h / 17 – 21 h 
URL:https://disfruta-denia.com/evento/ojos-rojos-v-festival-internacional-de-fotografia/
LOCATION:Centre d’art l’Estació\, Carrer Calderón\, 2\, Denia\, Alicante\, 03700\, España
CATEGORIES:Cultura,Exposiciones
ATTACH;FMTTYPE=image/png:https://disfruta-denia.com/wp-content/uploads/2023/05/12-expo-Neus-Sola.png
ORGANIZER;CN="Denia Cultura":MAILTO:cultura@ayto-denia.es
END:VEVENT
BEGIN:VEVENT
DTSTART;TZID=Europe/Madrid:20230503T200000
DTEND;TZID=Europe/Madrid:20230503T233000
DTSTAMP:20260424T051625
CREATED:20221122T074309Z
LAST-MODIFIED:20221122T074309Z
UID:10008932-1683144000-1683156600@disfruta-denia.com
SUMMARY:Autocine: día del espectador
DESCRIPTION:
URL:https://disfruta-denia.com/evento/autocine-dia-del-espectador/2023-05-03/
LOCATION:Autociné Denia\, Partida Deveses D\, 27\, Denia\, Alicante\, 03700\, España
CATEGORIES:Ciné,Cultura
ATTACH;FMTTYPE=image/jpeg:https://disfruta-denia.com/wp-content/uploads/2022/11/Autocine-Drive-In-Denia-1.jpg
END:VEVENT
BEGIN:VEVENT
DTSTART;VALUE=DATE:20230504
DTEND;VALUE=DATE:20230522
DTSTAMP:20260424T051625
CREATED:20230427T101539Z
LAST-MODIFIED:20230427T101717Z
UID:10010632-1683172800-1684641599@disfruta-denia.com
SUMMARY:EXPOSICIÓN: “LUCES Y COLORES”
DESCRIPTION:“LUCES Y COLORES”. Pintures de/ pinturas de THOMAS INGLESANT        \nInauguració dia / inauguración día  4 – 19 h \nHorari/horario: laborables 11 – 14 h /  17 – 21 h\, dissabtes/sábados  10 -13.30 h 
URL:https://disfruta-denia.com/evento/exposicion-luces-y-colores/
LOCATION:Casa de la Cultura Denia\, Plaça Jaume I\, Denia\, Alicante\, 03700\, España
CATEGORIES:Cultura,Exposiciones
ATTACH;FMTTYPE=image/png:https://disfruta-denia.com/wp-content/uploads/2023/04/1-expo-Luces-y-Colores.png
ORGANIZER;CN="Denia Cultura":MAILTO:cultura@ayto-denia.es
END:VEVENT
BEGIN:VEVENT
DTSTART;TZID=Europe/Madrid:20230504T203000
DTEND;TZID=Europe/Madrid:20230504T203000
DTSTAMP:20260424T051625
CREATED:20221118T123231Z
LAST-MODIFIED:20221118T130136Z
UID:10008515-1683232200-1683232200@disfruta-denia.com
SUMMARY:Tardeo Flamenco y punto
DESCRIPTION:Cada jueves te proponemos un tardeo Flamenco con Flamenco y Punto. Ambientazo! Apúntate!
URL:https://disfruta-denia.com/evento/tardeo-flamenco-y-punto/2023-05-04/
LOCATION:Bodega Casa Benjamín\, Ramón y Cajal\, 14\, Denia\, Alicante\, 03700\, España
CATEGORIES:Concierto,Danza,Música,Tardeo
ATTACH;FMTTYPE=image/jpeg:https://disfruta-denia.com/wp-content/uploads/2022/11/Post-de-Instagram-Feria-de-Sevilla-dibujo-sevillana-blanco-y-rojo-fondo-azul-2.jpg
END:VEVENT
BEGIN:VEVENT
DTSTART;TZID=Europe/Madrid:20230505T080000
DTEND;TZID=Europe/Madrid:20230505T170000
DTSTAMP:20260424T051625
CREATED:20230427T101852Z
LAST-MODIFIED:20230427T102028Z
UID:10010633-1683273600-1683306000@disfruta-denia.com
SUMMARY:MÚSICA /CICLO MUJER Y MÚSICA
DESCRIPTION:CICLE DONA I MÚSICA /CICLO MUJER Y MÚSICA                            \nPresentació de/presentación de Maria Bertomeu\, LA MARIA.  \nEl nou fenomen de la cançó valenciana/el nuevo fenómeno de la canción valenciana. \nEntrada: lliure amb invitació / libre con invitación. Reserva: https://notikumi.com
URL:https://disfruta-denia.com/evento/musica-ciclo-mujer-y-musica/
LOCATION:Teatro Auditorio Centro Social\, 4 Carrer Calderón\, Dénia\, VC\, 03700\, Spain
CATEGORIES:Charlas y conferencias,Cultura,Música
ATTACH;FMTTYPE=image/png:https://disfruta-denia.com/wp-content/uploads/2023/04/2-cicle-dona-i-musica.-Dia-5.png
ORGANIZER;CN="Denia Cultura":MAILTO:cultura@ayto-denia.es
END:VEVENT
BEGIN:VEVENT
DTSTART;TZID=Europe/Madrid:20230506T080000
DTEND;TZID=Europe/Madrid:20230506T170000
DTSTAMP:20260424T051625
CREATED:20230501T150213Z
LAST-MODIFIED:20230501T150541Z
UID:10010635-1683360000-1683392400@disfruta-denia.com
SUMMARY:CONCIERTO DE PRIMAVERA
DESCRIPTION:GRUP POLIFÒNIC CADENZA.  \nEntrada: lliure limitada a l’aforament del local/ libre limitada al aforo del local.
URL:https://disfruta-denia.com/evento/concierto-de-primavera/
LOCATION:Teatro Auditorio Centro Social\, 4 Carrer Calderón\, Dénia\, VC\, 03700\, Spain
CATEGORIES:Concierto,Cultura,Música
ATTACH;FMTTYPE=image/png:https://disfruta-denia.com/wp-content/uploads/2023/05/4-GRUP-POLIFONIC-CADENZA.png
ORGANIZER;CN="Denia Cultura":MAILTO:cultura@ayto-denia.es
END:VEVENT
BEGIN:VEVENT
DTSTART;TZID=Europe/Madrid:20230510T200000
DTEND;TZID=Europe/Madrid:20230510T233000
DTSTAMP:20260424T051625
CREATED:20221122T074309Z
LAST-MODIFIED:20221122T074309Z
UID:10008933-1683748800-1683761400@disfruta-denia.com
SUMMARY:Autocine: día del espectador
DESCRIPTION:
URL:https://disfruta-denia.com/evento/autocine-dia-del-espectador/2023-05-10/
LOCATION:Autociné Denia\, Partida Deveses D\, 27\, Denia\, Alicante\, 03700\, España
CATEGORIES:Ciné,Cultura
ATTACH;FMTTYPE=image/jpeg:https://disfruta-denia.com/wp-content/uploads/2022/11/Autocine-Drive-In-Denia-1.jpg
END:VEVENT
BEGIN:VEVENT
DTSTART;TZID=Europe/Madrid:20230511T203000
DTEND;TZID=Europe/Madrid:20230511T203000
DTSTAMP:20260424T051625
CREATED:20221118T123231Z
LAST-MODIFIED:20221118T130136Z
UID:10008516-1683837000-1683837000@disfruta-denia.com
SUMMARY:Tardeo Flamenco y punto
DESCRIPTION:Cada jueves te proponemos un tardeo Flamenco con Flamenco y Punto. Ambientazo! Apúntate!
URL:https://disfruta-denia.com/evento/tardeo-flamenco-y-punto/2023-05-11/
LOCATION:Bodega Casa Benjamín\, Ramón y Cajal\, 14\, Denia\, Alicante\, 03700\, España
CATEGORIES:Concierto,Danza,Música,Tardeo
ATTACH;FMTTYPE=image/jpeg:https://disfruta-denia.com/wp-content/uploads/2022/11/Post-de-Instagram-Feria-de-Sevilla-dibujo-sevillana-blanco-y-rojo-fondo-azul-2.jpg
END:VEVENT
BEGIN:VEVENT
DTSTART;TZID=Europe/Madrid:20230512T200000
DTEND;TZID=Europe/Madrid:20230512T200000
DTSTAMP:20260424T051625
CREATED:20230501T151214Z
LAST-MODIFIED:20230501T151436Z
UID:10010639-1683921600-1683921600@disfruta-denia.com
SUMMARY:CICLO MUJER Y MÚSICA. LA BUDÚ
DESCRIPTION:Fusión flamenco y blockmusic con influencias que van del hip hop\, pasando por el jazz\, el neosoul\, el trap y las nuevas músicas urbanas. \nPastora Andrade\, veu i baix/voz y bajo. Juanma Montoya\, guitarra. Josué Ronkío\, baix/bajo. David Bao\, bateria. \nEntrada: lliure amb invitació / libre con invitación. Reserva: https://notikumi.com
URL:https://disfruta-denia.com/evento/ciclo-mujer-y-musica-la-budu/
LOCATION:Teatro Auditorio Centro Social\, 4 Carrer Calderón\, Dénia\, VC\, 03700\, Spain
CATEGORIES:Concierto,Cultura,Música
ATTACH;FMTTYPE=image/png:https://disfruta-denia.com/wp-content/uploads/2023/05/9-cicle-dona-i-musica.-Dia-12.png
ORGANIZER;CN="Denia Cultura":MAILTO:cultura@ayto-denia.es
END:VEVENT
BEGIN:VEVENT
DTSTART;TZID=Europe/Madrid:20230513T200000
DTEND;TZID=Europe/Madrid:20230513T200000
DTSTAMP:20260424T051625
CREATED:20230501T151454Z
LAST-MODIFIED:20230501T151633Z
UID:10010640-1684008000-1684008000@disfruta-denia.com
SUMMARY:DOCUMENTAL. FESTIVAL OJOS ROJOS
DESCRIPTION:SIGO SIENDO (Kachkaniraqui) \nLargometraje documental dirigido por JAVIER CORCUERA ANDRINO y rodada en 2012 en varios lugares de Perú. Retrata las historias de músicos populares de las tres regiones naturales peruanas y las relaciones entre ellos\, así como el retorno de los personajes a sus lugares de origen donde compusieron sus primeras melodías.\nEl documental ganó el premio del jurado al Mejor Documental en el 17 Festival de Cine de Lima. \n  \nEntrada: 3 € en  https://entradium.com/
URL:https://disfruta-denia.com/evento/documental-festival-ojos-rojos/
LOCATION:Teatro Auditorio Centro Social\, 4 Carrer Calderón\, Dénia\, VC\, 03700\, Spain
CATEGORIES:Ciné,Cultura
ATTACH;FMTTYPE=image/png:https://disfruta-denia.com/wp-content/uploads/2023/05/10-documental-ojos-rojos.png
ORGANIZER;CN="Denia Cultura":MAILTO:cultura@ayto-denia.es
END:VEVENT
BEGIN:VEVENT
DTSTART;TZID=Europe/Madrid:20230514T120000
DTEND;TZID=Europe/Madrid:20230514T170000
DTSTAMP:20260424T051625
CREATED:20230501T151656Z
LAST-MODIFIED:20230501T151753Z
UID:10010641-1684065600-1684083600@disfruta-denia.com
SUMMARY:ACTIVIDADES EN FAMÍLIA
DESCRIPTION:DANZAS POPULARES VALENCIANAS con el Grupo de infantil de Dianium Dansa y dulzaina y tambor.
URL:https://disfruta-denia.com/evento/actividades-en-familia/
LOCATION:Carrer del Marqués de Campo\, Carrer del Marqués de Campo\, Denia\, Alicante\, 03700\, España
CATEGORIES:Cultura,Danza
ATTACH;FMTTYPE=image/png:https://disfruta-denia.com/wp-content/uploads/2023/05/11-Danses-valencianes-dia-14.png
ORGANIZER;CN="Denia Cultura":MAILTO:cultura@ayto-denia.es
END:VEVENT
BEGIN:VEVENT
DTSTART;TZID=Europe/Madrid:20230517T200000
DTEND;TZID=Europe/Madrid:20230517T233000
DTSTAMP:20260424T051625
CREATED:20221122T074309Z
LAST-MODIFIED:20221122T074309Z
UID:10008934-1684353600-1684366200@disfruta-denia.com
SUMMARY:Autocine: día del espectador
DESCRIPTION:
URL:https://disfruta-denia.com/evento/autocine-dia-del-espectador/2023-05-17/
LOCATION:Autociné Denia\, Partida Deveses D\, 27\, Denia\, Alicante\, 03700\, España
CATEGORIES:Ciné,Cultura
ATTACH;FMTTYPE=image/jpeg:https://disfruta-denia.com/wp-content/uploads/2022/11/Autocine-Drive-In-Denia-1.jpg
END:VEVENT
BEGIN:VEVENT
DTSTART;TZID=Europe/Madrid:20230518T203000
DTEND;TZID=Europe/Madrid:20230518T203000
DTSTAMP:20260424T051625
CREATED:20221118T123231Z
LAST-MODIFIED:20221118T130136Z
UID:10008517-1684441800-1684441800@disfruta-denia.com
SUMMARY:Tardeo Flamenco y punto
DESCRIPTION:Cada jueves te proponemos un tardeo Flamenco con Flamenco y Punto. Ambientazo! Apúntate!
URL:https://disfruta-denia.com/evento/tardeo-flamenco-y-punto/2023-05-18/
LOCATION:Bodega Casa Benjamín\, Ramón y Cajal\, 14\, Denia\, Alicante\, 03700\, España
CATEGORIES:Concierto,Danza,Música,Tardeo
ATTACH;FMTTYPE=image/jpeg:https://disfruta-denia.com/wp-content/uploads/2022/11/Post-de-Instagram-Feria-de-Sevilla-dibujo-sevillana-blanco-y-rojo-fondo-azul-2.jpg
END:VEVENT
BEGIN:VEVENT
DTSTART;TZID=Europe/Madrid:20230519T190000
DTEND;TZID=Europe/Madrid:20230519T190000
DTSTAMP:20260424T051625
CREATED:20230501T152002Z
LAST-MODIFIED:20230501T152107Z
UID:10010643-1684522800-1684522800@disfruta-denia.com
SUMMARY:PRESENTACIÓN LIBRO
DESCRIPTION:POEMAS\, TEXTOS Y PRETEXTOS\, Antonio Losada Santos. \nEntrada lliure fins a completar aforament/ libre hasta completar aforo.
URL:https://disfruta-denia.com/evento/presentacion-libro-2/
LOCATION:Casa de la Cultura Denia\, Plaça Jaume I\, Denia\, Alicante\, 03700\, España
CATEGORIES:Charlas y conferencias,Cultura
ATTACH;FMTTYPE=image/png:https://disfruta-denia.com/wp-content/uploads/2023/05/15-Poemas-textos-y-pretextos.png
ORGANIZER;CN="Denia Cultura":MAILTO:cultura@ayto-denia.es
END:VEVENT
BEGIN:VEVENT
DTSTART;TZID=Europe/Madrid:20230519T200000
DTEND;TZID=Europe/Madrid:20230519T200000
DTSTAMP:20260424T051625
CREATED:20230501T152118Z
LAST-MODIFIED:20230501T152232Z
UID:10010644-1684526400-1684526400@disfruta-denia.com
SUMMARY:Presentación del segundo disco de ESTHER
DESCRIPTION:CICLE DONA I MÚSICA/CICLO MUJER Y MÚSICA \nPresentació del segon disc de / presentación del segundo disco de ESTHER.  \nLes cartes que mai vaig cremar. \nUn disc pop on la jove cantant i compositora  explora noves sonoritats  i es reafirma com una de les veus  més fresques i actuals del pop fet en la nostra llengua.  \nUn disco pop donde la joven cantante y compositora explora nuevas sonoridades y se reafirma como una de las voces más frescas y actuales del pop hecho en nuestra lengua. \nEntrada: lliure amb invitació / libre con invitación. Reserva: https://notikumi.com
URL:https://disfruta-denia.com/evento/presentacion-del-segundo-disco-de-esther/
LOCATION:Teatro Auditorio Centro Social\, 4 Carrer Calderón\, Dénia\, VC\, 03700\, Spain
CATEGORIES:Concierto,Cultura,Música
ATTACH;FMTTYPE=image/png:https://disfruta-denia.com/wp-content/uploads/2023/05/14-cicle-dona-i-musica.-Dia-19.png
ORGANIZER;CN="Denia Cultura":MAILTO:cultura@ayto-denia.es
END:VEVENT
BEGIN:VEVENT
DTSTART;TZID=Europe/Madrid:20230524T200000
DTEND;TZID=Europe/Madrid:20230524T233000
DTSTAMP:20260424T051625
CREATED:20221122T074309Z
LAST-MODIFIED:20221122T074309Z
UID:10008935-1684958400-1684971000@disfruta-denia.com
SUMMARY:Autocine: día del espectador
DESCRIPTION:
URL:https://disfruta-denia.com/evento/autocine-dia-del-espectador/2023-05-24/
LOCATION:Autociné Denia\, Partida Deveses D\, 27\, Denia\, Alicante\, 03700\, España
CATEGORIES:Ciné,Cultura
ATTACH;FMTTYPE=image/jpeg:https://disfruta-denia.com/wp-content/uploads/2022/11/Autocine-Drive-In-Denia-1.jpg
END:VEVENT
BEGIN:VEVENT
DTSTART;TZID=Europe/Madrid:20230525T203000
DTEND;TZID=Europe/Madrid:20230525T203000
DTSTAMP:20260424T051625
CREATED:20221118T123231Z
LAST-MODIFIED:20221118T130136Z
UID:10008518-1685046600-1685046600@disfruta-denia.com
SUMMARY:Tardeo Flamenco y punto
DESCRIPTION:Cada jueves te proponemos un tardeo Flamenco con Flamenco y Punto. Ambientazo! Apúntate!
URL:https://disfruta-denia.com/evento/tardeo-flamenco-y-punto/2023-05-25/
LOCATION:Bodega Casa Benjamín\, Ramón y Cajal\, 14\, Denia\, Alicante\, 03700\, España
CATEGORIES:Concierto,Danza,Música,Tardeo
ATTACH;FMTTYPE=image/jpeg:https://disfruta-denia.com/wp-content/uploads/2022/11/Post-de-Instagram-Feria-de-Sevilla-dibujo-sevillana-blanco-y-rojo-fondo-azul-2.jpg
END:VEVENT
BEGIN:VEVENT
DTSTART;TZID=Europe/Madrid:20230526T200000
DTEND;TZID=Europe/Madrid:20230526T200000
DTSTAMP:20260424T051625
CREATED:20230501T152427Z
LAST-MODIFIED:20230501T152537Z
UID:10010646-1685131200-1685131200@disfruta-denia.com
SUMMARY:CICLO MUJER Y MÚSICA. DEIXA’M DIR
DESCRIPTION:Direcció escènica / dirección escénica\, Alabama Laura Salido. \nConsuelo Hueso\, soprano. Renata Casero\, piano. Quintet Casulana. \nObres de / obras de: Sonia Megías\, Ángeles López Artiga\, Matilde Salvador\, María Teresa Oller\, Consuelo Colomer\, Sara Galiana\, Mercé Torrents. \nUna proposta musical i teatral que ens interpel·la  a prendre partit\, a convertir-nos en activistes en pro de la vindicació de les dones en la música. \nUna propuesta musical y teatral que nos interpela a tomar partido\, a convertirnos en activistas en pro de la vindicación de las mujeres en la música. \nEntrada: lliure amb invitació / libre con invitación. Reserva: https://notikumi.com \n 
URL:https://disfruta-denia.com/evento/ciclo-mujer-y-musica-deixam-dir/
LOCATION:Teatro Auditorio Centro Social\, 4 Carrer Calderón\, Dénia\, VC\, 03700\, Spain
CATEGORIES:Cultura,Música,Teatro
ATTACH;FMTTYPE=image/png:https://disfruta-denia.com/wp-content/uploads/2023/05/18-cicle-dona-i-musica.-Dia-26.png
ORGANIZER;CN="Denia Cultura":MAILTO:cultura@ayto-denia.es
END:VEVENT
BEGIN:VEVENT
DTSTART;TZID=Europe/Madrid:20230527T100000
DTEND;TZID=Europe/Madrid:20230527T140000
DTSTAMP:20260424T051625
CREATED:20230424T121035Z
LAST-MODIFIED:20230424T121227Z
UID:10010630-1685181600-1685196000@disfruta-denia.com
SUMMARY:Escape Game medieval
DESCRIPTION:¿Te apetece vivir una aventura de moros y cristianos en un escenario histórico? El Castell de Dénia acogerá el sábado 27 de mayo un Escape Room que llevará por título «La Fortaleza del Mar». \nUna iniciativa para aproximar la fiesta\, su historia y cultura de una forma amena y divertida a la juventud dianense. \nDesde el Castell\, un área defensiva estratégica en la costa\, podrás experimentar cómo vivieron los ataques berberiscos los ciudadanos de Dénia en la época final del medievo. Sólo tienes que apuntarte porque la actividad es gratuita\, y después dejarte llevar a una época de esplendor militar en Dénia. Podrás ver cómo vivían\, comían y se divertían los dianenses en la época medieval. Apúntate a este teléfono 606 762 099 y disfruta de la Dénia mora y cristiana.
URL:https://disfruta-denia.com/evento/escape-game-medieval/
LOCATION:Castillo de Denia\, Carrer Sant Francesc\, S/n\, Denia\, Alicante\, 03700\, España
CATEGORIES:Cultura
ATTACH;FMTTYPE=image/jpeg:https://disfruta-denia.com/wp-content/uploads/2023/04/342579300_2512650655558194_580450380740118000_n.jpg
ORGANIZER;CN="Femmicc":MAILTO:SECRETARIA@FEMMICCDENIA.COM
END:VEVENT
BEGIN:VEVENT
DTSTART;TZID=Europe/Madrid:20230527T200000
DTEND;TZID=Europe/Madrid:20230527T200000
DTSTAMP:20260424T051625
CREATED:20230523T131058Z
LAST-MODIFIED:20230523T131058Z
UID:10010679-1685217600-1685217600@disfruta-denia.com
SUMMARY:Noche Arabe
DESCRIPTION:El encanto de Arabia está justo aquí en Republic. No te pierdas este sábado nuestra noche árabe y vive las Mil y Una Noches
URL:https://disfruta-denia.com/evento/noche-arabe/
LOCATION:Food & lounge Bar\, Dársena de Babor s/n\, Denia\, Alicante\, 03700\, España
CATEGORIES:Baile,Danza,Música
ATTACH;FMTTYPE=image/jpeg:https://disfruta-denia.com/wp-content/uploads/2023/05/348551827_1590240658152518_5579002491284699389_n.jpg
END:VEVENT
BEGIN:VEVENT
DTSTART;TZID=Europe/Madrid:20230531T200000
DTEND;TZID=Europe/Madrid:20230531T233000
DTSTAMP:20260424T051625
CREATED:20221122T074309Z
LAST-MODIFIED:20221122T074309Z
UID:10008936-1685563200-1685575800@disfruta-denia.com
SUMMARY:Autocine: día del espectador
DESCRIPTION:
URL:https://disfruta-denia.com/evento/autocine-dia-del-espectador/2023-05-31/
LOCATION:Autociné Denia\, Partida Deveses D\, 27\, Denia\, Alicante\, 03700\, España
CATEGORIES:Ciné,Cultura
ATTACH;FMTTYPE=image/jpeg:https://disfruta-denia.com/wp-content/uploads/2022/11/Autocine-Drive-In-Denia-1.jpg
END:VEVENT
END:VCALENDAR