BEGIN:VCALENDAR
VERSION:2.0
PRODID:-//Disfruta Denia - ECPv6.15.20//NONSGML v1.0//EN
CALSCALE:GREGORIAN
METHOD:PUBLISH
X-WR-CALNAME:Disfruta Denia
X-ORIGINAL-URL:https://disfruta-denia.com
X-WR-CALDESC:Eventos para Disfruta Denia
REFRESH-INTERVAL;VALUE=DURATION:PT1H
X-Robots-Tag:noindex
X-PUBLISHED-TTL:PT1H
BEGIN:VTIMEZONE
TZID:Europe/Madrid
BEGIN:DAYLIGHT
TZOFFSETFROM:+0100
TZOFFSETTO:+0200
TZNAME:CEST
DTSTART:20220327T010000
END:DAYLIGHT
BEGIN:STANDARD
TZOFFSETFROM:+0200
TZOFFSETTO:+0100
TZNAME:CET
DTSTART:20221030T010000
END:STANDARD
BEGIN:DAYLIGHT
TZOFFSETFROM:+0100
TZOFFSETTO:+0200
TZNAME:CEST
DTSTART:20230326T010000
END:DAYLIGHT
BEGIN:STANDARD
TZOFFSETFROM:+0200
TZOFFSETTO:+0100
TZNAME:CET
DTSTART:20231029T010000
END:STANDARD
BEGIN:DAYLIGHT
TZOFFSETFROM:+0100
TZOFFSETTO:+0200
TZNAME:CEST
DTSTART:20240331T010000
END:DAYLIGHT
BEGIN:STANDARD
TZOFFSETFROM:+0200
TZOFFSETTO:+0100
TZNAME:CET
DTSTART:20241027T010000
END:STANDARD
END:VTIMEZONE
BEGIN:VEVENT
DTSTART;TZID=Europe/Madrid:20230601T203000
DTEND;TZID=Europe/Madrid:20230601T203000
DTSTAMP:20260424T033328
CREATED:20221118T123231Z
LAST-MODIFIED:20221118T130136Z
UID:10008519-1685651400-1685651400@disfruta-denia.com
SUMMARY:Tardeo Flamenco y punto
DESCRIPTION:Cada jueves te proponemos un tardeo Flamenco con Flamenco y Punto. Ambientazo! Apúntate!
URL:https://disfruta-denia.com/evento/tardeo-flamenco-y-punto/2023-06-01/
LOCATION:Bodega Casa Benjamín\, Ramón y Cajal\, 14\, Denia\, Alicante\, 03700\, España
CATEGORIES:Concierto,Danza,Música,Tardeo
ATTACH;FMTTYPE=image/jpeg:https://disfruta-denia.com/wp-content/uploads/2022/11/Post-de-Instagram-Feria-de-Sevilla-dibujo-sevillana-blanco-y-rojo-fondo-azul-2.jpg
END:VEVENT
BEGIN:VEVENT
DTSTART;TZID=Europe/Madrid:20230601T203000
DTEND;TZID=Europe/Madrid:20230601T203000
DTSTAMP:20260424T033328
CREATED:20230520T170136Z
LAST-MODIFIED:20230602T090706Z
UID:10010669-1685651400-1685651400@disfruta-denia.com
SUMMARY:32 MOSTRA DE TEATRE “CIUTAT DE DÉNIA”
DESCRIPTION:La 32 Muestra Internacional de Teatro Ciudad de Dénia se organiza del 1 al 10 de Junio de 2023 en Dénia (Alicante\, España). Este año podrá verse obras procedentes tanto de grupos de teatro nacionales (Dénia\, Elche\, Gandía y Valencia) como internacionales (Argentina e Israel). \nDies/días 1\,2\,3\,4\,8\,9 i/y10      \nEntrada: 5 €\, en taquilla una hora abans de cada funció / una hora antes de cada función. \nEntrada anticipada en https://www.eventbrite.es/o/32-mostra-de-teatre-ciutat-de-denia-63243536363 \nOrganitza/organiza: Ajuntament de Dénia. Joventut.
URL:https://disfruta-denia.com/evento/32-mostra-de-teatre-ciutat-de-denia/2023-06-01/
LOCATION:Teatro Auditorio Centro Social\, 4 Carrer Calderón\, Dénia\, VC\, 03700\, Spain
CATEGORIES:Cultura,Teatro
ATTACH;FMTTYPE=image/png:https://disfruta-denia.com/wp-content/uploads/2023/05/1-Mostra-de-teatre.png
ORGANIZER;CN="Denia Cultura":MAILTO:cultura@ayto-denia.es
END:VEVENT
BEGIN:VEVENT
DTSTART;TZID=Europe/Madrid:20230602T190000
DTEND;TZID=Europe/Madrid:20230602T190000
DTSTAMP:20260424T033328
CREATED:20230601T102526Z
LAST-MODIFIED:20230601T102526Z
UID:10010726-1685732400-1685732400@disfruta-denia.com
SUMMARY:Vuelven las ballenas a Denia
DESCRIPTION:Este viernes\, 2 de junio\, os invitamos a asistir a la conferencia «¡Vuelven las ballenas a Dénia!»\, una charla divulgativa sobre el paso del rorcual común y la presencia de otros cetáceos en nuestra costa.\n Os explicaremos el protocolo de avistamiento\, las normas de navegación y el programa de voluntariado 2023.
URL:https://disfruta-denia.com/evento/vuelven-las-ballenas-a-denia/
LOCATION:El Portet Denia\, Moll de la Pansa s/n\,\, Denia\, Alicante\, 03700\, España
CATEGORIES:Charlas y conferencias,Cultura
ATTACH;FMTTYPE=image/jpeg:https://disfruta-denia.com/wp-content/uploads/2023/06/350658826_815741636553424_1120403063668407566_n.jpg
END:VEVENT
BEGIN:VEVENT
DTSTART;TZID=Europe/Madrid:20230602T200000
DTEND;TZID=Europe/Madrid:20230602T200000
DTSTAMP:20260424T033328
CREATED:20230525T074146Z
LAST-MODIFIED:20230703T121656Z
UID:10010681-1685736000-1685736000@disfruta-denia.com
SUMMARY:Toma Falsa
DESCRIPTION:
URL:https://disfruta-denia.com/evento/toma-falsa/
LOCATION:Les Tramoies\, C/ de Patricio Ferrándiz\, 88\, Denia\, Alicante\, 03700\, España
CATEGORIES:Cultura,Espectáculo,Teatro
ATTACH;FMTTYPE=image/png:https://disfruta-denia.com/wp-content/uploads/2023/05/toma-falsa-julio-RRSS-1.png
END:VEVENT
BEGIN:VEVENT
DTSTART;TZID=Europe/Madrid:20230605T190000
DTEND;TZID=Europe/Madrid:20230605T190000
DTSTAMP:20260424T033328
CREATED:20230601T075749Z
LAST-MODIFIED:20230601T080216Z
UID:10010718-1685991600-1685991600@disfruta-denia.com
SUMMARY:Pride! Denia 2023
DESCRIPTION:El 28 de junio se reivindica el Orgullo LGTBI+; con este motivo\, la Concejalía de Igualdad y Diversidad ha diseñado una programación con charlas\, exposiciones y tertulias durante los meses de junio\, julio y agosto. \n  \nLas actividades empezarán el lunes 5 de junio con la charla ‘Diversidades sexuales e identidades sexuales a la infancia y adolescencia’\, a las 19 horas\, en la Biblioteca municipal de Dénia\, a cargo del sexólogo y psicoterapeuta Vicent Bataller Perelló. \n  \nEl viernes 16 de junio se instalará el photocall ‘Alas para la diversidad’ en los bajos del Ajuntament de Dénia. \n  \nEl jueves 22 de junio se podrá asistir en la conferencia ‘Sexualidad y diversidad funcional’\, impartida por la psicóloga y sexóloga Paula Peña; esta tendrá lugar en la Biblioteca municipal de Dénia\, a las 19 horas. Por otro lado\, este mismo jueves se inaugurará la exposición ‘Referentes LGTB: Voices’; con imágenes instaladas en la Casa de la Cultura\, el teatro auditorio del Centro Social\, las instalaciones de Juventud (ronda de las Murallas) y la Biblioteca municipal. La exposición ha sido cedida por el ayuntamiento de Fuenlabrada y se podrá visitar hasta el martes 4 de julio. \n  \nEl día central de la reivindicación\, el miércoles 28 de junio\, se leerá un manifiesto\, a la 1 del mediodía\, en la plaza de la Constitución. Más tarde\, a las 20 horas\, se emplazará en Els Magazinos la tertulia ‘Hablemos sobre diversidad afectiva-sexual\, de género y familiar’\, moderada por el presidente de Diversidad y miembro profesional del Consejo Valenciano LGTBI\, Juan David Santiago. \n  \nEl sábado 1 de julio\, a las 20 horas\, en el teatro auditorio del Centro Social\, la compañía Nueve Musas Producciones representará Maricas Todas\, de Daño Visiedo. La entrada es gratuita hasta agotar aforo. \n  \nPara cerrar la programación\, el lunes 17 de julio se inaugurará la exposición urbana ‘Planificando la diversidad LGTBI+. Arte y cultura’\, en la Glorieta del Pais Valencià. La muestra se podrá visitar hasta el domingo 6 de agosto.
URL:https://disfruta-denia.com/evento/pride-denia-2023/2023-06-05/
LOCATION:Denia\, Denia\, Alicante\, 03700\, España
CATEGORIES:Cultura,Fiesta
ATTACH;FMTTYPE=image/jpeg:https://disfruta-denia.com/wp-content/uploads/2023/06/6598f1.jpg
END:VEVENT
BEGIN:VEVENT
DTSTART;TZID=Europe/Madrid:20230607T200000
DTEND;TZID=Europe/Madrid:20230607T233000
DTSTAMP:20260424T033328
CREATED:20221122T074309Z
LAST-MODIFIED:20221122T074309Z
UID:10008937-1686168000-1686180600@disfruta-denia.com
SUMMARY:Autocine: día del espectador
DESCRIPTION:
URL:https://disfruta-denia.com/evento/autocine-dia-del-espectador/2023-06-07/
LOCATION:Autociné Denia\, Partida Deveses D\, 27\, Denia\, Alicante\, 03700\, España
CATEGORIES:Ciné,Cultura
ATTACH;FMTTYPE=image/jpeg:https://disfruta-denia.com/wp-content/uploads/2022/11/Autocine-Drive-In-Denia-1.jpg
END:VEVENT
BEGIN:VEVENT
DTSTART;TZID=Europe/Madrid:20230608T193000
DTEND;TZID=Europe/Madrid:20230608T193000
DTSTAMP:20260424T033328
CREATED:20230520T170503Z
LAST-MODIFIED:20230520T170503Z
UID:10010671-1686252600-1686252600@disfruta-denia.com
SUMMARY:PRESENTACIÓN LIBRO
DESCRIPTION:EL BUFÓN DE LAS SIETE MÁSCARAS de Raúl Espinosa Acero. \nEntrada: lliure fins a completar aforament / libre hasta completar aforo.
URL:https://disfruta-denia.com/evento/presentacion-libro-3/
LOCATION:Casa de la Cultura Denia\, Plaça Jaume I\, Denia\, Alicante\, 03700\, España
CATEGORIES:Cultura,Presentación
ATTACH;FMTTYPE=image/png:https://disfruta-denia.com/wp-content/uploads/2023/05/3-llibre-el-bufon-de-las-siete-mascaras.png
ORGANIZER;CN="Denia Cultura":MAILTO:cultura@ayto-denia.es
END:VEVENT
BEGIN:VEVENT
DTSTART;TZID=Europe/Madrid:20230608T203000
DTEND;TZID=Europe/Madrid:20230608T203000
DTSTAMP:20260424T033328
CREATED:20221118T123231Z
LAST-MODIFIED:20221118T130136Z
UID:10008520-1686256200-1686256200@disfruta-denia.com
SUMMARY:Tardeo Flamenco y punto
DESCRIPTION:Cada jueves te proponemos un tardeo Flamenco con Flamenco y Punto. Ambientazo! Apúntate!
URL:https://disfruta-denia.com/evento/tardeo-flamenco-y-punto/2023-06-08/
LOCATION:Bodega Casa Benjamín\, Ramón y Cajal\, 14\, Denia\, Alicante\, 03700\, España
CATEGORIES:Concierto,Danza,Música,Tardeo
ATTACH;FMTTYPE=image/jpeg:https://disfruta-denia.com/wp-content/uploads/2022/11/Post-de-Instagram-Feria-de-Sevilla-dibujo-sevillana-blanco-y-rojo-fondo-azul-2.jpg
END:VEVENT
BEGIN:VEVENT
DTSTART;TZID=Europe/Madrid:20230611T100000
DTEND;TZID=Europe/Madrid:20230611T140000
DTSTAMP:20260424T033328
CREATED:20230520T170937Z
LAST-MODIFIED:20230520T171025Z
UID:10010674-1686477600-1686492000@disfruta-denia.com
SUMMARY:IX CONCURS DE PINTURA RÀPIDA “CIUTAT DE DÉNIA”
DESCRIPTION:Inscripcions fins al 8 de juny segons l’establert en les bases / Inscripciones  hasta el 8 de junio según lo establecido en las bases.   + INFO: www.deniacultura.es  \nOrganitza/organiza: ADAMA\, Patrocina: Ajuntament de Dénia. Cultura. \nCol·labora/colabora: Fundació Baleària\,  Marina Colors.
URL:https://disfruta-denia.com/evento/ix-concurs-de-pintura-rapida-ciutat-de-denia/
CATEGORIES:Cultura,Exposiciones
ATTACH;FMTTYPE=image/png:https://disfruta-denia.com/wp-content/uploads/2023/05/7-Inscripcions-Pintura-rapida-1.png
ORGANIZER;CN="Denia Cultura":MAILTO:cultura@ayto-denia.es
END:VEVENT
BEGIN:VEVENT
DTSTART;TZID=Europe/Madrid:20230611T123000
DTEND;TZID=Europe/Madrid:20230611T123000
DTSTAMP:20260424T033328
CREATED:20230520T171150Z
LAST-MODIFIED:20230520T171150Z
UID:10010675-1686486600-1686486600@disfruta-denia.com
SUMMARY:PRESENTACIÓN DISCO
DESCRIPTION:YA NO SOY YO MISMO de Lellany i/y Paco Bonilla. \nEntrada lliure limitada a l’aforament del local / libre limitada al aforo del local. \nOrganitza/organiza: Esferas del saber.
URL:https://disfruta-denia.com/evento/presentacion-disco/
LOCATION:Teatro Auditorio Centro Social\, 4 Carrer Calderón\, Dénia\, VC\, 03700\, Spain
CATEGORIES:Cultura,Presentación
ATTACH;FMTTYPE=image/png:https://disfruta-denia.com/wp-content/uploads/2023/05/8-disco-Ya-no-soy-yo-mismo.png
ORGANIZER;CN="Denia Cultura":MAILTO:cultura@ayto-denia.es
END:VEVENT
BEGIN:VEVENT
DTSTART;TZID=Europe/Madrid:20230611T193000
DTEND;TZID=Europe/Madrid:20230611T193000
DTSTAMP:20260424T033328
CREATED:20230520T170822Z
LAST-MODIFIED:20230520T170822Z
UID:10010673-1686511800-1686511800@disfruta-denia.com
SUMMARY:BAILES DEL CORPUS
DESCRIPTION:De la Parròquia de Sant Antoni pel carrer Magallanes fins a la Parròquia de l’Assumpció.  \nDe la Parroquia de San Antonio por la calle Magallanes hasta la Parroquia de la Asunción. \nOrganitza/organiza: Dianium Dansa. Patrocina: Ajuntament de Dénia. Cultura. 
URL:https://disfruta-denia.com/evento/bailes-del-corpus/
LOCATION:Denia\, Denia\, Alicante\, 03700\, España
CATEGORIES:Cultura,Danza,Desfile
ATTACH;FMTTYPE=image/png:https://disfruta-denia.com/wp-content/uploads/2023/05/5-Balls-del-Corpus.png
ORGANIZER;CN="Denia Cultura":MAILTO:cultura@ayto-denia.es
END:VEVENT
BEGIN:VEVENT
DTSTART;VALUE=DATE:20230612
DTEND;VALUE=DATE:20230627
DTSTAMP:20260424T033328
CREATED:20230612T085909Z
LAST-MODIFIED:20230612T085909Z
UID:10010807-1686542400-1687751999@disfruta-denia.com
SUMMARY:Exposición CERVANTES
DESCRIPTION:Exposició CERVANTES. DON QUIJOTE de EBERHARD SCHLOTTER  \nHorari/horario: tots els dies/ todos los días de 10 – 13 h / 17 – 21 h  \n  \nVISITES GUIADES PER LA CURADORA\, no cal reservar/ Visitas guiadas por la curadora\, no es necesario reservar. \nDia 12:  de 10 a 11 h. \nDia 13:  d’11.30 a 12.30 h. \nDia 22:  de 19 a 20 h.
URL:https://disfruta-denia.com/evento/exposicion-cervantes/
LOCATION:Centre d’art l’Estació\, Carrer Calderón\, 2\, Denia\, Alicante\, 03700\, España
CATEGORIES:Cultura,Exposiciones
ATTACH;FMTTYPE=image/png:https://disfruta-denia.com/wp-content/uploads/2023/06/10-Expo-Eberhard-Schlotter.png
ORGANIZER;CN="Denia Cultura":MAILTO:cultura@ayto-denia.es
END:VEVENT
BEGIN:VEVENT
DTSTART;TZID=Europe/Madrid:20230614T200000
DTEND;TZID=Europe/Madrid:20230614T233000
DTSTAMP:20260424T033328
CREATED:20230612T102841Z
LAST-MODIFIED:20230612T102841Z
UID:10008938-1686772800-1686785400@disfruta-denia.com
SUMMARY:Autocine: día del espectador
DESCRIPTION:
URL:https://disfruta-denia.com/evento/autocine-dia-del-espectador-3-2/
LOCATION:Autociné Denia\, Partida Deveses D\, 27\, Denia\, Alicante\, 03700\, España
CATEGORIES:Ciné,Cultura
ATTACH;FMTTYPE=image/jpeg:https://disfruta-denia.com/wp-content/uploads/2023/06/tirailleurs-father-soldier-padre-y-soldado-45529-c-411-x-600.jpg
END:VEVENT
BEGIN:VEVENT
DTSTART;TZID=Europe/Madrid:20230615T203000
DTEND;TZID=Europe/Madrid:20230615T203000
DTSTAMP:20260424T033328
CREATED:20221118T123231Z
LAST-MODIFIED:20221118T130136Z
UID:10008521-1686861000-1686861000@disfruta-denia.com
SUMMARY:Tardeo Flamenco y punto
DESCRIPTION:Cada jueves te proponemos un tardeo Flamenco con Flamenco y Punto. Ambientazo! Apúntate!
URL:https://disfruta-denia.com/evento/tardeo-flamenco-y-punto/2023-06-15/
LOCATION:Bodega Casa Benjamín\, Ramón y Cajal\, 14\, Denia\, Alicante\, 03700\, España
CATEGORIES:Concierto,Danza,Música,Tardeo
ATTACH;FMTTYPE=image/jpeg:https://disfruta-denia.com/wp-content/uploads/2022/11/Post-de-Instagram-Feria-de-Sevilla-dibujo-sevillana-blanco-y-rojo-fondo-azul-2.jpg
END:VEVENT
BEGIN:VEVENT
DTSTART;VALUE=DATE:20230616
DTEND;VALUE=DATE:20230620
DTSTAMP:20260424T033328
CREATED:20230608T062306Z
LAST-MODIFIED:20230608T062306Z
UID:10010739-1686888000-1687147199@disfruta-denia.com
SUMMARY:Jornadas Europeas de Arqueología
DESCRIPTION:
URL:https://disfruta-denia.com/evento/jornadas-europeas-de-arqueologia/
LOCATION:Denia\, Denia\, Alicante\, 03700\, España
CATEGORIES:Cultura,Visita
ATTACH;FMTTYPE=image/jpeg:https://disfruta-denia.com/wp-content/uploads/2023/06/6606f1.jpg
ORGANIZER;CN="Denia Cultura":MAILTO:cultura@ayto-denia.es
END:VEVENT
BEGIN:VEVENT
DTSTART;TZID=Europe/Madrid:20230616T170000
DTEND;TZID=Europe/Madrid:20230616T170000
DTSTAMP:20260424T033328
CREATED:20230601T075749Z
LAST-MODIFIED:20230601T080216Z
UID:10010719-1686934800-1686934800@disfruta-denia.com
SUMMARY:Pride! Denia 2023
DESCRIPTION:El 28 de junio se reivindica el Orgullo LGTBI+; con este motivo\, la Concejalía de Igualdad y Diversidad ha diseñado una programación con charlas\, exposiciones y tertulias durante los meses de junio\, julio y agosto. \n  \nLas actividades empezarán el lunes 5 de junio con la charla ‘Diversidades sexuales e identidades sexuales a la infancia y adolescencia’\, a las 19 horas\, en la Biblioteca municipal de Dénia\, a cargo del sexólogo y psicoterapeuta Vicent Bataller Perelló. \n  \nEl viernes 16 de junio se instalará el photocall ‘Alas para la diversidad’ en los bajos del Ajuntament de Dénia. \n  \nEl jueves 22 de junio se podrá asistir en la conferencia ‘Sexualidad y diversidad funcional’\, impartida por la psicóloga y sexóloga Paula Peña; esta tendrá lugar en la Biblioteca municipal de Dénia\, a las 19 horas. Por otro lado\, este mismo jueves se inaugurará la exposición ‘Referentes LGTB: Voices’; con imágenes instaladas en la Casa de la Cultura\, el teatro auditorio del Centro Social\, las instalaciones de Juventud (ronda de las Murallas) y la Biblioteca municipal. La exposición ha sido cedida por el ayuntamiento de Fuenlabrada y se podrá visitar hasta el martes 4 de julio. \n  \nEl día central de la reivindicación\, el miércoles 28 de junio\, se leerá un manifiesto\, a la 1 del mediodía\, en la plaza de la Constitución. Más tarde\, a las 20 horas\, se emplazará en Els Magazinos la tertulia ‘Hablemos sobre diversidad afectiva-sexual\, de género y familiar’\, moderada por el presidente de Diversidad y miembro profesional del Consejo Valenciano LGTBI\, Juan David Santiago. \n  \nEl sábado 1 de julio\, a las 20 horas\, en el teatro auditorio del Centro Social\, la compañía Nueve Musas Producciones representará Maricas Todas\, de Daño Visiedo. La entrada es gratuita hasta agotar aforo. \n  \nPara cerrar la programación\, el lunes 17 de julio se inaugurará la exposición urbana ‘Planificando la diversidad LGTBI+. Arte y cultura’\, en la Glorieta del Pais Valencià. La muestra se podrá visitar hasta el domingo 6 de agosto.
URL:https://disfruta-denia.com/evento/pride-denia-2023/2023-06-16/
LOCATION:Denia\, Denia\, Alicante\, 03700\, España
CATEGORIES:Cultura,Fiesta
ATTACH;FMTTYPE=image/jpeg:https://disfruta-denia.com/wp-content/uploads/2023/06/6598f1.jpg
END:VEVENT
BEGIN:VEVENT
DTSTART;TZID=Europe/Madrid:20230616T193000
DTEND;TZID=Europe/Madrid:20230616T193000
DTSTAMP:20260424T033328
CREATED:20221103T082206Z
LAST-MODIFIED:20230613T111953Z
UID:10010844-1686943800-1686943800@disfruta-denia.com
SUMMARY:Arabian Nights @ MoVida Dénia
DESCRIPTION:¡¡Ultima Noche Arabe por la temporada!! ¡Únase a nosotros en un viaje culinario y sensorial a Medio Oriente y más allá! ¡Fantástico menú libanés auténtico de 3 platos\, así como la fabulosa Claudia que nos da una serenata con su baile!\n\n\nVIERNES 16 de JUNIO\n\n\nReservas llamar al 966 838 493\n\n\nLast Arabian Night for the season!!\nJoin us on a culinary and sensory journey to Middle East and beyond! Fantastic 3 course authentic Lebanese menu as well as the fabulous Claudia serenading us with her dance!\n\n\nFRIDAY 16th JUNE
URL:https://disfruta-denia.com/evento/arabian-nights-movida-denia/2023-06-16/
LOCATION:Movida Denia\, Carrer del Pont\, 29\, Denia\, Alicante\, 03700\, España
CATEGORIES:Danza,Espectáculo,Gastronomía
ATTACH;FMTTYPE=image/jpeg:https://disfruta-denia.com/wp-content/uploads/2022/11/353820419_750647930396027_366138165914185114_n.jpg
END:VEVENT
BEGIN:VEVENT
DTSTART;TZID=Europe/Madrid:20230616T200000
DTEND;TZID=Europe/Madrid:20230616T200000
DTSTAMP:20260424T033328
CREATED:20230520T171418Z
LAST-MODIFIED:20230520T171418Z
UID:10010676-1686945600-1686945600@disfruta-denia.com
SUMMARY:MÚSICA  I POESIA
DESCRIPTION:AÑO SOROLLA. Centenario de la muerte del pintor. \nMediterranean Guitar presenta\, PALABRA\, MÚSICA Y DANZA PARA SOROLLA. Un espectáculo original y único\, entorno a la figura de Joaquín Sorolla. La palabra hará un recorrido por su obra pictórica y su vida\, entre versos y relatos\, guitarra\, violonchelo y danza\, acompañado de la proyección de una selección de fotografías y de las obras que han inspirado los textos. \nEntrada: lliure limitada a l’aforament del local / libre limitada al aforo del local.
URL:https://disfruta-denia.com/evento/musica-i-poesia/
LOCATION:Teatro Auditorio Centro Social\, 4 Carrer Calderón\, Dénia\, VC\, 03700\, Spain
CATEGORIES:Cultura
ATTACH;FMTTYPE=image/png:https://disfruta-denia.com/wp-content/uploads/2023/05/12-PARAULA-MUSICA-I-DANSA-PER-A-SOROLLA-2.png
ORGANIZER;CN="Denia Cultura":MAILTO:cultura@ayto-denia.es
END:VEVENT
BEGIN:VEVENT
DTSTART;TZID=Europe/Madrid:20230621T200000
DTEND;TZID=Europe/Madrid:20230621T233000
DTSTAMP:20260424T033328
CREATED:20230612T102803Z
LAST-MODIFIED:20230612T102804Z
UID:10008939-1687377600-1687390200@disfruta-denia.com
SUMMARY:Autocine: día del espectador
DESCRIPTION:
URL:https://disfruta-denia.com/evento/autocine-dia-del-espectador-3/2023-06-21/
LOCATION:Autociné Denia\, Partida Deveses D\, 27\, Denia\, Alicante\, 03700\, España
CATEGORIES:Ciné,Cultura
ATTACH;FMTTYPE=image/jpeg:https://disfruta-denia.com/wp-content/uploads/2022/11/Autocine-Drive-In-Denia-1.jpg
END:VEVENT
BEGIN:VEVENT
DTSTART;TZID=Europe/Madrid:20230622T190000
DTEND;TZID=Europe/Madrid:20230622T190000
DTSTAMP:20260424T033328
CREATED:20230601T075749Z
LAST-MODIFIED:20230601T080216Z
UID:10010720-1687460400-1687460400@disfruta-denia.com
SUMMARY:Pride! Denia 2023
DESCRIPTION:El 28 de junio se reivindica el Orgullo LGTBI+; con este motivo\, la Concejalía de Igualdad y Diversidad ha diseñado una programación con charlas\, exposiciones y tertulias durante los meses de junio\, julio y agosto. \n  \nLas actividades empezarán el lunes 5 de junio con la charla ‘Diversidades sexuales e identidades sexuales a la infancia y adolescencia’\, a las 19 horas\, en la Biblioteca municipal de Dénia\, a cargo del sexólogo y psicoterapeuta Vicent Bataller Perelló. \n  \nEl viernes 16 de junio se instalará el photocall ‘Alas para la diversidad’ en los bajos del Ajuntament de Dénia. \n  \nEl jueves 22 de junio se podrá asistir en la conferencia ‘Sexualidad y diversidad funcional’\, impartida por la psicóloga y sexóloga Paula Peña; esta tendrá lugar en la Biblioteca municipal de Dénia\, a las 19 horas. Por otro lado\, este mismo jueves se inaugurará la exposición ‘Referentes LGTB: Voices’; con imágenes instaladas en la Casa de la Cultura\, el teatro auditorio del Centro Social\, las instalaciones de Juventud (ronda de las Murallas) y la Biblioteca municipal. La exposición ha sido cedida por el ayuntamiento de Fuenlabrada y se podrá visitar hasta el martes 4 de julio. \n  \nEl día central de la reivindicación\, el miércoles 28 de junio\, se leerá un manifiesto\, a la 1 del mediodía\, en la plaza de la Constitución. Más tarde\, a las 20 horas\, se emplazará en Els Magazinos la tertulia ‘Hablemos sobre diversidad afectiva-sexual\, de género y familiar’\, moderada por el presidente de Diversidad y miembro profesional del Consejo Valenciano LGTBI\, Juan David Santiago. \n  \nEl sábado 1 de julio\, a las 20 horas\, en el teatro auditorio del Centro Social\, la compañía Nueve Musas Producciones representará Maricas Todas\, de Daño Visiedo. La entrada es gratuita hasta agotar aforo. \n  \nPara cerrar la programación\, el lunes 17 de julio se inaugurará la exposición urbana ‘Planificando la diversidad LGTBI+. Arte y cultura’\, en la Glorieta del Pais Valencià. La muestra se podrá visitar hasta el domingo 6 de agosto.
URL:https://disfruta-denia.com/evento/pride-denia-2023/2023-06-22/
LOCATION:Denia\, Denia\, Alicante\, 03700\, España
CATEGORIES:Cultura,Fiesta
ATTACH;FMTTYPE=image/jpeg:https://disfruta-denia.com/wp-content/uploads/2023/06/6598f1.jpg
END:VEVENT
BEGIN:VEVENT
DTSTART;TZID=Europe/Madrid:20230622T193000
DTEND;TZID=Europe/Madrid:20230622T193000
DTSTAMP:20260424T033328
CREATED:20230520T195339Z
LAST-MODIFIED:20230520T195339Z
UID:10010678-1687462200-1687462200@disfruta-denia.com
SUMMARY:CONFERÈNCIA
DESCRIPTION:Celebració del 150 aniversari del naixement d’AZORÍN. \nCABALGUEMOS HACIA LO IMPOSIBLE. “ Un mundo de dibujos en un libro de Azorín”. \nPer/por Aldo Dante Alvarado\, amb la participació de /con la participación de Joan Castejón.  \nEntrada: lliure limitada a l’aforament del local / libre limitada al aforo del local.
URL:https://disfruta-denia.com/evento/conferencia-3/
LOCATION:Casa de la Cultura Denia\, Plaça Jaume I\, Denia\, Alicante\, 03700\, España
CATEGORIES:Charlas y conferencias,Cultura
ATTACH;FMTTYPE=image/png:https://disfruta-denia.com/wp-content/uploads/2023/05/14-celebracio-del-150-aniversari-del-naixement-dAzorin.png
ORGANIZER;CN="Denia Cultura":MAILTO:cultura@ayto-denia.es
END:VEVENT
BEGIN:VEVENT
DTSTART;TZID=Europe/Madrid:20230622T203000
DTEND;TZID=Europe/Madrid:20230622T203000
DTSTAMP:20260424T033328
CREATED:20221118T123231Z
LAST-MODIFIED:20221118T130136Z
UID:10008522-1687465800-1687465800@disfruta-denia.com
SUMMARY:Tardeo Flamenco y punto
DESCRIPTION:Cada jueves te proponemos un tardeo Flamenco con Flamenco y Punto. Ambientazo! Apúntate!
URL:https://disfruta-denia.com/evento/tardeo-flamenco-y-punto/2023-06-22/
LOCATION:Bodega Casa Benjamín\, Ramón y Cajal\, 14\, Denia\, Alicante\, 03700\, España
CATEGORIES:Concierto,Danza,Música,Tardeo
ATTACH;FMTTYPE=image/jpeg:https://disfruta-denia.com/wp-content/uploads/2022/11/Post-de-Instagram-Feria-de-Sevilla-dibujo-sevillana-blanco-y-rojo-fondo-azul-2.jpg
END:VEVENT
BEGIN:VEVENT
DTSTART;TZID=Europe/Madrid:20230628T200000
DTEND;TZID=Europe/Madrid:20230628T233000
DTSTAMP:20260424T033328
CREATED:20230626T082753Z
LAST-MODIFIED:20230626T082754Z
UID:10008940-1687982400-1687995000@disfruta-denia.com
SUMMARY:Autocine: día del espectador
DESCRIPTION:
URL:https://disfruta-denia.com/evento/autocine-dia-del-espectador-3-3/
LOCATION:Autociné Denia\, Partida Deveses D\, 27\, Denia\, Alicante\, 03700\, España
CATEGORIES:Ciné,Cultura
ATTACH;FMTTYPE=image/jpeg:https://disfruta-denia.com/wp-content/uploads/2023/06/flash-205686824-large-405-x-600.jpg
END:VEVENT
BEGIN:VEVENT
DTSTART;TZID=Europe/Madrid:20230629T203000
DTEND;TZID=Europe/Madrid:20230629T203000
DTSTAMP:20260424T033328
CREATED:20221118T123231Z
LAST-MODIFIED:20221118T130136Z
UID:10008523-1688070600-1688070600@disfruta-denia.com
SUMMARY:Tardeo Flamenco y punto
DESCRIPTION:Cada jueves te proponemos un tardeo Flamenco con Flamenco y Punto. Ambientazo! Apúntate!
URL:https://disfruta-denia.com/evento/tardeo-flamenco-y-punto/2023-06-29/
LOCATION:Bodega Casa Benjamín\, Ramón y Cajal\, 14\, Denia\, Alicante\, 03700\, España
CATEGORIES:Concierto,Danza,Música,Tardeo
ATTACH;FMTTYPE=image/jpeg:https://disfruta-denia.com/wp-content/uploads/2022/11/Post-de-Instagram-Feria-de-Sevilla-dibujo-sevillana-blanco-y-rojo-fondo-azul-2.jpg
END:VEVENT
BEGIN:VEVENT
DTSTART;TZID=Europe/Madrid:20230630T193000
DTEND;TZID=Europe/Madrid:20230630T193000
DTSTAMP:20260424T033328
CREATED:20230612T085728Z
LAST-MODIFIED:20230612T085728Z
UID:10010806-1688153400-1688153400@disfruta-denia.com
SUMMARY:Presentació del llibre NOTAFLORISMOS
DESCRIPTION:Presentació del llibre NOTAFLORISMOS de Francisco Cejudo. \nEntrada: lliure limitada a l’aforament del local / libre limitada al aforo del local.
URL:https://disfruta-denia.com/evento/presentacio-del-llibre-notaflorismos/
LOCATION:Casa de la Cultura Denia\, Plaça Jaume I\, Denia\, Alicante\, 03700\, España
CATEGORIES:Cultura,Presentación
ATTACH;FMTTYPE=image/png:https://disfruta-denia.com/wp-content/uploads/2023/06/15-Notaflorismos.png
END:VEVENT
BEGIN:VEVENT
DTSTART;TZID=Europe/Madrid:20230630T200000
DTEND;TZID=Europe/Madrid:20230630T200000
DTSTAMP:20260424T033328
CREATED:20230525T073726Z
LAST-MODIFIED:20230525T073726Z
UID:10010680-1688155200-1688155200@disfruta-denia.com
SUMMARY:Obra en Les Tramoies
DESCRIPTION:
URL:https://disfruta-denia.com/evento/obra-en-les-tramoies/
LOCATION:Les Tramoies\, C/ de Patricio Ferrándiz\, 88\, Denia\, Alicante\, 03700\, España
CATEGORIES:Cultura,Teatro
ATTACH;FMTTYPE=image/png:https://disfruta-denia.com/wp-content/uploads/2023/05/1.png
END:VEVENT
END:VCALENDAR