BEGIN:VCALENDAR
VERSION:2.0
PRODID:-//Disfruta Denia - ECPv6.15.20//NONSGML v1.0//EN
CALSCALE:GREGORIAN
METHOD:PUBLISH
X-ORIGINAL-URL:https://disfruta-denia.com
X-WR-CALDESC:Eventos para Disfruta Denia
REFRESH-INTERVAL;VALUE=DURATION:PT1H
X-Robots-Tag:noindex
X-PUBLISHED-TTL:PT1H
BEGIN:VTIMEZONE
TZID:Europe/Madrid
BEGIN:DAYLIGHT
TZOFFSETFROM:+0100
TZOFFSETTO:+0200
TZNAME:CEST
DTSTART:20230326T010000
END:DAYLIGHT
BEGIN:STANDARD
TZOFFSETFROM:+0200
TZOFFSETTO:+0100
TZNAME:CET
DTSTART:20231029T010000
END:STANDARD
BEGIN:DAYLIGHT
TZOFFSETFROM:+0100
TZOFFSETTO:+0200
TZNAME:CEST
DTSTART:20240331T010000
END:DAYLIGHT
BEGIN:STANDARD
TZOFFSETFROM:+0200
TZOFFSETTO:+0100
TZNAME:CET
DTSTART:20241027T010000
END:STANDARD
BEGIN:DAYLIGHT
TZOFFSETFROM:+0100
TZOFFSETTO:+0200
TZNAME:CEST
DTSTART:20250330T010000
END:DAYLIGHT
BEGIN:STANDARD
TZOFFSETFROM:+0200
TZOFFSETTO:+0100
TZNAME:CET
DTSTART:20251026T010000
END:STANDARD
END:VTIMEZONE
BEGIN:VEVENT
DTSTART;VALUE=DATE:20240116
DTEND;VALUE=DATE:20240227
DTSTAMP:20260423T131444
CREATED:20240115T100316Z
LAST-MODIFIED:20240115T100316Z
UID:10015229-1705377600-1708919999@disfruta-denia.com
SUMMARY:Expo: PLATS DE MANISES
DESCRIPTION:PLATS DE MANISES. Exposició de ceràmica. Manises\, Ciutat Creativa de la UNESCO d’Artesania i Arts Populars \nHorari/horario: tots els dies/ todos los días de 10 – 13 h / 16 – 20 h 
URL:https://disfruta-denia.com/evento/expo-plats-de-manises-2/
LOCATION:Centre d’art l’Estació\, Carrer Calderón\, 2\, Denia\, Alicante\, 03700\, España
CATEGORIES:Cultura,Exposiciones
ATTACH;FMTTYPE=image/png:https://disfruta-denia.com/wp-content/uploads/2024/01/2-Plats-de-Manises.-fins-al-25.png
ORGANIZER;CN="Denia Cultura":MAILTO:cultura@ayto-denia.es
END:VEVENT
BEGIN:VEVENT
DTSTART;VALUE=DATE:20240201
DTEND;VALUE=DATE:20240226
DTSTAMP:20260423T131444
CREATED:20240115T093743Z
LAST-MODIFIED:20240115T093743Z
UID:10015228-1706760000-1708833599@disfruta-denia.com
SUMMARY:Expo: 48 MOMENTS DE LA HISTÒRIA DE DÉNIA
DESCRIPTION:48 MOMENTS DE LA HISTÒRIA DE DÉNIA. Obres i textos de / Obras y textos de Miguel Mairena. \nInauguració dia 1 – 19 h  \nVisites guiades/visitas guiadas els divendres/viernes a las 19 h i/y dissabtes/sábados a las 11 h.  \nHorari/horario: laborables 11 – 14 h / 17 – 21 h Dissabte/sábado 10 – 13.30 h 
URL:https://disfruta-denia.com/evento/expo-48-moments-de-la-historia-de-denia/
LOCATION:Casa de la Cultura Denia\, Plaça Jaume I\, Denia\, Alicante\, 03700\, España
CATEGORIES:Cultura,Exposiciones
ATTACH;FMTTYPE=image/png:https://disfruta-denia.com/wp-content/uploads/2024/01/1-Expo-Miguel-Mairena.png
ORGANIZER;CN="Denia Cultura":MAILTO:cultura@ayto-denia.es
END:VEVENT
BEGIN:VEVENT
DTSTART;TZID=Europe/Madrid:20240203T083000
DTEND;TZID=Europe/Madrid:20240203T083000
DTSTAMP:20260423T131444
CREATED:20240131T170420Z
LAST-MODIFIED:20240131T170420Z
UID:10017117-1706949000-1706949000@disfruta-denia.com
SUMMARY:VI JORNADA EDUCACIÓ INFANTIL A LA MARINA ALTA
DESCRIPTION:PROGRAMA \n08:30h | Recepció i Acollida. \n09:00h | Presentació i Benvinguda. ROSA ANA MARÍ – Regidora d’Educació Ajuntament d’Ondara ANDREU ALMIÑANA – Inspector d’Educació \n09:05h | Ponència. EVA SARGATAL (PART I) \n10:30h | Col·loqui \n11:00h | Café\, infusions i Coca Maria \n11:45h | Ponència . EVA SARGATAL (PART II) \n13:15h | Col·loqui \n13:45 h | Cloenda
URL:https://disfruta-denia.com/evento/vi-jornada-educacio-infantil-a-la-marina-alta/
LOCATION:Casa de la Cultura Ondara\, Plaça Major\, 10\, Ondara\, 03760\, España
CATEGORIES:Charlas y conferencias,Cultura,Presentación
ATTACH;FMTTYPE=image/webp:https://disfruta-denia.com/wp-content/uploads/2024/01/event-image-WQ1Mq6df.webp
END:VEVENT
BEGIN:VEVENT
DTSTART;TZID=Europe/Madrid:20240203T200000
DTEND;TZID=Europe/Madrid:20240203T200000
DTSTAMP:20260423T131444
CREATED:20240115T101432Z
LAST-MODIFIED:20240115T101432Z
UID:10015230-1706990400-1706990400@disfruta-denia.com
SUMMARY:Teatro: EL MOBLE
DESCRIPTION:Albena Teatre\, EL MOBLE\, de Yolanda García i/y Juan Carlos Rubio\, versió / versión de Juli Disla.  \nDir.: Rafa Calatayud. Intèrprets / Intérpretes : Silvia Valero i/y Juli Disla. \nJuli Disla\, nominat a millor versió\, traducció o adaptació als premis de les Arts Escèniques Valencianes / nominado a mejor versión\, traducción o adaptación en los premios de las Artes Escénicas Valencianas. \nCarles y Tere serían la pareja ideal si no fuera porque el montaje de un sencillo mueble de Ikea\, sacará a la luz su complicada convivencia después de 25 años. \nCarles i Tere serien una parella ideal si no fora perquè el muntatge d’un senzill moble d’Ikea\, traurà a la llum la seua complicada convivència després de 25 anys.  \nRecomanat per a + 16 anys / años. En valencià/En valenciano. 1 h 30 min. \nEntrada: 10 €  en  https://www.notikumi.com. En taquilla: el mateix dia una hora abans/el mismo dia una hora antes. \n 
URL:https://disfruta-denia.com/evento/teatro-el-moble/
LOCATION:Teatro Auditorio Centro Social\, 4 Carrer Calderón\, Dénia\, VC\, 03700\, Spain
CATEGORIES:Cultura,Teatro
ATTACH;FMTTYPE=image/png:https://disfruta-denia.com/wp-content/uploads/2024/01/3-TEATRE-El-Moble.png
ORGANIZER;CN="Denia Cultura":MAILTO:cultura@ayto-denia.es
END:VEVENT
BEGIN:VEVENT
DTSTART;TZID=Europe/Madrid:20240204T190000
DTEND;TZID=Europe/Madrid:20240204T190000
DTSTAMP:20260423T131444
CREATED:20240115T105313Z
LAST-MODIFIED:20240115T105313Z
UID:10015232-1707073200-1707073200@disfruta-denia.com
SUMMARY:Cineclub: Suro
DESCRIPTION:Suro.  Dir.: Mikel Gurrea. Espanya  /España\, 2022\, 116’. VO en castellà / castellano\, català/catalán i francés. Subtitulada en castellà / castellano.   Per a  + 12 anys / años \nEntrada: 3 € en  https://www.notikumi.com . En taquilla: el mateix dia una hora abans/el mismo día una hora antes.
URL:https://disfruta-denia.com/evento/cineclub-suro/
LOCATION:Teatro Auditorio Centro Social\, 4 Carrer Calderón\, Dénia\, VC\, 03700\, Spain
CATEGORIES:Ciné,Cultura
ATTACH;FMTTYPE=image/png:https://disfruta-denia.com/wp-content/uploads/2024/01/5-cine-dia-4.png
ORGANIZER;CN="Denia Cultura":MAILTO:cultura@ayto-denia.es
END:VEVENT
BEGIN:VEVENT
DTSTART;TZID=Europe/Madrid:20240207T200000
DTEND;TZID=Europe/Madrid:20240207T233000
DTSTAMP:20260423T131444
CREATED:20240207T093613Z
LAST-MODIFIED:20240207T093615Z
UID:10008972-1707336000-1707348600@disfruta-denia.com
SUMMARY:Autocine: día del espectador
DESCRIPTION:
URL:https://disfruta-denia.com/evento/autocine-dia-del-espectador-3-22/
LOCATION:Autociné Denia\, Partida Deveses D\, 27\, Denia\, Alicante\, 03700\, España
CATEGORIES:Ciné,Cultura
ATTACH;FMTTYPE=image/png:https://disfruta-denia.com/wp-content/uploads/2023/06/Autocine-Drive-In-autocine_drivein-•-Photos-et-videos-Instagram-1-3.png
END:VEVENT
BEGIN:VEVENT
DTSTART;VALUE=DATE:20240210
DTEND;VALUE=DATE:20240226
DTSTAMP:20260423T131444
CREATED:20240209T112520Z
LAST-MODIFIED:20240724T135235Z
UID:10017186-1707537600-1708833599@disfruta-denia.com
SUMMARY:Mig Any 2024 Moros y Cristianos Denia
DESCRIPTION:Programa moros y cristianos denia 2024 \nEmpezamos el Mig Any fester de Moros y Cristianos en Denia. Esta tarde\, en torno a las 19:30 h\, el Ayuntamiento de Dénia acogerá la rueda de prensa en la que se presentará la programación y el cartel del Mig Any Fester\, ante toda la sociedad festera de Dénia. Si no puedes venir\, podrás seguir el evento por el directo de Facebook o Instagram y de esta forma serás de los primeros en saber cuál es la programación de este año. ¡Te esperamos!
URL:https://disfruta-denia.com/evento/mig-any-2024-moros-y-cristianos-denia/
LOCATION:Denia\, Denia\, Alicante\, 03700\, España
CATEGORIES:Cultura,Desfile,Espectáculo,Fiesta
ATTACH;FMTTYPE=image/jpeg:https://disfruta-denia.com/wp-content/uploads/2024/02/426266094_792460882920339_4487986926392742102_n.jpg
END:VEVENT
BEGIN:VEVENT
DTSTART;TZID=Europe/Madrid:20240211T103000
DTEND;TZID=Europe/Madrid:20240211T103000
DTSTAMP:20260423T131444
CREATED:20240115T113818Z
LAST-MODIFIED:20240115T113818Z
UID:10015233-1707647400-1707647400@disfruta-denia.com
SUMMARY:Visita en familia: LA DÉNIA DE MADOZ
DESCRIPTION:UNA INSTANTÀNIA DE LA CIUTAT DE 1847 \nInformació i reserves: Museu Etnològic de Dénia\, 966420260. De dimarts a diumenge\, de 10 h a 13 h.  \nVisita amb guia expert. \nInscripción y reservas: Museo Etnológico de Dénia. 966420260. De martes a domingo de 10 h a 13 h. \nVisita guiada con guía experto.
URL:https://disfruta-denia.com/evento/visita-en-familia-la-denia-de-madoz/
LOCATION:Plaza del Consell\, Carrer de la Mar\, Denia\, 03700
CATEGORIES:Cultura,Visita
ATTACH;FMTTYPE=image/png:https://disfruta-denia.com/wp-content/uploads/2024/01/6-Visita-en-familia.png
ORGANIZER;CN="Denia Cultura":MAILTO:cultura@ayto-denia.es
END:VEVENT
BEGIN:VEVENT
DTSTART;TZID=Europe/Madrid:20240211T190000
DTEND;TZID=Europe/Madrid:20240211T190000
DTSTAMP:20260423T131444
CREATED:20240115T124043Z
LAST-MODIFIED:20240115T124043Z
UID:10015234-1707678000-1707678000@disfruta-denia.com
SUMMARY:Cineclub: Mon Crime
DESCRIPTION:Mon Crime. Dir.: François Ozon. França/Francia\, 2023\, 102’. VO en francès\, subtitulada en castellà / castellano. \n + de 12 anys/años. \nEntrada: 3 € en  https://www.notikumi.com . En taquilla: el mateix dia una hora abans/el mismo día una hora antes \n.
URL:https://disfruta-denia.com/evento/cineclub-mon-crime/
LOCATION:Teatro Auditorio Centro Social\, 4 Carrer Calderón\, Dénia\, VC\, 03700\, Spain
CATEGORIES:Ciné,Cultura
ATTACH;FMTTYPE=image/png:https://disfruta-denia.com/wp-content/uploads/2024/01/7-cine-dia-11.png
ORGANIZER;CN="Denia Cultura":MAILTO:cultura@ayto-denia.es
END:VEVENT
BEGIN:VEVENT
DTSTART;TZID=Europe/Madrid:20240214T200000
DTEND;TZID=Europe/Madrid:20240214T233000
DTSTAMP:20260423T131444
CREATED:20230612T102803Z
LAST-MODIFIED:20230612T102804Z
UID:10008973-1707940800-1707953400@disfruta-denia.com
SUMMARY:Autocine: día del espectador
DESCRIPTION:
URL:https://disfruta-denia.com/evento/autocine-dia-del-espectador-3/2024-02-14/
LOCATION:Autociné Denia\, Partida Deveses D\, 27\, Denia\, Alicante\, 03700\, España
CATEGORIES:Ciné,Cultura
ATTACH;FMTTYPE=image/jpeg:https://disfruta-denia.com/wp-content/uploads/2022/11/Autocine-Drive-In-Denia-1.jpg
END:VEVENT
BEGIN:VEVENT
DTSTART;TZID=Europe/Madrid:20240215T193000
DTEND;TZID=Europe/Madrid:20240215T193000
DTSTAMP:20260423T131444
CREATED:20240211T095949Z
LAST-MODIFIED:20240211T095949Z
UID:10017188-1708025400-1708025400@disfruta-denia.com
SUMMARY:Presentación de libro 𝘾𝙧𝙚𝙢𝙖𝙧𝙚𝙪 𝙖𝙦𝙪𝙚𝙨𝙩𝙖 𝙘𝙖𝙧𝙩𝙖
DESCRIPTION:El dijous dia 15 es presenta en La Casa de la Paraula el llibre 𝘾𝙧𝙚𝙢𝙖𝙧𝙚𝙪 𝙖𝙦𝙪𝙚𝙨𝙩𝙖 𝙘𝙖𝙧𝙩𝙖 de Tomàs Llopis Guardiola. \n Vos esperem a les 19:30 h per conéixer aquesta novel·la històrica situada en la Germania valenciana on es conta la història de Joan Caro. \nOrganitzem aquest tipus d’actes amb la col·laboració de  Fundació Baleària.
URL:https://disfruta-denia.com/evento/presentacion-de-libro-%f0%9d%98%be%f0%9d%99%a7%f0%9d%99%9a%f0%9d%99%a2%f0%9d%99%96%f0%9d%99%a7%f0%9d%99%9a%f0%9d%99%aa-%f0%9d%99%96%f0%9d%99%a6%f0%9d%99%aa%f0%9d%99%9a%f0%9d%99%a8%f0%9d%99%a9/
LOCATION:El Portet Denia\, Moll de la Pansa s/n\,\, Denia\, Alicante\, 03700\, España
CATEGORIES:Cultura,Presentación
ATTACH;FMTTYPE=image/jpeg:https://disfruta-denia.com/wp-content/uploads/2024/02/426741227_775035264653837_683033408759268795_n.jpg
END:VEVENT
BEGIN:VEVENT
DTSTART;TZID=Europe/Madrid:20240216T190000
DTEND;TZID=Europe/Madrid:20240216T190000
DTSTAMP:20260423T131444
CREATED:20240115T135812Z
LAST-MODIFIED:20240115T135812Z
UID:10015235-1708110000-1708110000@disfruta-denia.com
SUMMARY:Presentació del llibre ALE
DESCRIPTION:Presentació del llibre ALE: Biografía de un hombre. El precio de alcanzar mis sueños\, de Alejandro Farias  \nEntrada: lliure fins a completar aforament / libre hasta completar aforo
URL:https://disfruta-denia.com/evento/presentacio-del-llibre-ale/
LOCATION:Casa de la Cultura Denia\, Plaça Jaume I\, Denia\, Alicante\, 03700\, España
CATEGORIES:Cultura,Presentación
ATTACH;FMTTYPE=image/png:https://disfruta-denia.com/wp-content/uploads/2024/01/8-presentacio-llibre-ALE.png
ORGANIZER;CN="Denia Cultura":MAILTO:cultura@ayto-denia.es
END:VEVENT
BEGIN:VEVENT
DTSTART;TZID=Europe/Madrid:20240216T190000
DTEND;TZID=Europe/Madrid:20240216T190000
DTSTAMP:20260423T131444
CREATED:20240118T140442Z
LAST-MODIFIED:20240118T140442Z
UID:10015781-1708110000-1708110000@disfruta-denia.com
SUMMARY:Danza del vientre y cena lebanesa
DESCRIPTION:¡Las Arabian Nights vuelven a MoVida Dénia en 2024! ¡Sumérjase en un viaje culinario y cultural al Líbano y más allá para experimentar un auténtico banquete tradicional libanés de 3 platos mientras queda hipnotizado por la artística danza del vientre de Claudia Caldera en vivo! \nviernes 16 de Febrero\nviernes 15 de Marzo\nviernes 19 de Abril\nviernes 17 de Mayo\nviernes 14 de Junio
URL:https://disfruta-denia.com/evento/danza-del-vientre-y-cena-lebanesa/2024-02-16/
LOCATION:Movida Denia\, Carrer del Pont\, 29\, Denia\, Alicante\, 03700\, España
CATEGORIES:Cultura,Danza,Gastronomía
ATTACH;FMTTYPE=image/jpeg:https://disfruta-denia.com/wp-content/uploads/2024/01/419521567_913445284116290_2106551917712111023_n-1.jpg
END:VEVENT
BEGIN:VEVENT
DTSTART;TZID=Europe/Madrid:20240221T200000
DTEND;TZID=Europe/Madrid:20240221T233000
DTSTAMP:20260423T131444
CREATED:20230612T102803Z
LAST-MODIFIED:20230612T102804Z
UID:10008974-1708545600-1708558200@disfruta-denia.com
SUMMARY:Autocine: día del espectador
DESCRIPTION:
URL:https://disfruta-denia.com/evento/autocine-dia-del-espectador-3/2024-02-21/
LOCATION:Autociné Denia\, Partida Deveses D\, 27\, Denia\, Alicante\, 03700\, España
CATEGORIES:Ciné,Cultura
ATTACH;FMTTYPE=image/jpeg:https://disfruta-denia.com/wp-content/uploads/2022/11/Autocine-Drive-In-Denia-1.jpg
END:VEVENT
BEGIN:VEVENT
DTSTART;TZID=Europe/Madrid:20240222T200000
DTEND;TZID=Europe/Madrid:20240222T200000
DTSTAMP:20260423T131444
CREATED:20240221T150929Z
LAST-MODIFIED:20240221T150929Z
UID:10017238-1708632000-1708632000@disfruta-denia.com
SUMMARY:Open Mic en Babilonia
DESCRIPTION:Discover your talent at our Open Mic every Thursday at 8:00 PM! \nCome and share your passion for music\, poetry\, or dance.  \nImmerse yourself in a world of artistic expression and join us.\n Everyone is welcome to shine on stage! \nReady to captivate the audience?\nWe can’t wait to see you! \n– Free entrance.
URL:https://disfruta-denia.com/evento/open-mic-en-babilonia/2024-02-22/
LOCATION:Babilonia Restaurante\, Calle Cavallers 11\, Denia\, Alicante\, 03700\, España
CATEGORIES:Espectáculo,Música
ATTACH;FMTTYPE=image/jpeg:https://disfruta-denia.com/wp-content/uploads/2024/02/425011009_375331362029714_8464622446710910306_n.jpg
END:VEVENT
BEGIN:VEVENT
DTSTART;TZID=Europe/Madrid:20240224T200000
DTEND;TZID=Europe/Madrid:20240224T200000
DTSTAMP:20260423T131444
CREATED:20240214T171832Z
LAST-MODIFIED:20240214T171832Z
UID:10017220-1708804800-1708804800@disfruta-denia.com
SUMMARY:MELOMANS presentan LIBRE (Nino Bravo 100% a capela)
DESCRIPTION:MELOMANS presentan LIBRE (Nino Bravo 100% a capela) de Santiago Sánchez\, Víctor Lucas y Melomans. \nComedia musical que nos descubre los momentos estelares de la carrera de Nino Bravo a partir de les sus canciones. Un homenaje al legado de Luís Manuel Ferri\, que 50 años después\, está más vivo que nunca. \n  \nRecomendada para todos los públicos
URL:https://disfruta-denia.com/evento/melomans-presentan-libre-nino-bravo-100-a-capela/
LOCATION:Teatro Auditorio Centro Social\, 4 Carrer Calderón\, Dénia\, VC\, 03700\, Spain
CATEGORIES:Concierto,Cultura,Espectáculo,Música
ATTACH;FMTTYPE=image/jpeg:https://disfruta-denia.com/wp-content/uploads/2024/02/417450904_788472963323548_497042285155034545_n-1.jpg
ORGANIZER;CN="Denia Cultura":MAILTO:cultura@ayto-denia.es
END:VEVENT
BEGIN:VEVENT
DTSTART;TZID=Europe/Madrid:20240224T210000
DTEND;TZID=Europe/Madrid:20240224T210000
DTSTAMP:20260423T131444
CREATED:20231105T085606Z
LAST-MODIFIED:20231105T085606Z
UID:10014786-1708808400-1708808400@disfruta-denia.com
SUMMARY:Espectáculo: Eugeni Alemany
DESCRIPTION:No deixes escapar aquesta meravellossa oportunitat per a vorer el nou show d’Eugeni Alemany. Seràn rises assegurades.\nÚltimes entrades\, corre i fes-te amb la teua\, no t’ho pots pedre❕❕❕❕❕
URL:https://disfruta-denia.com/evento/espectaculo-eugeni-alemany/
LOCATION:Auditori Municipal Ondara\, 14 Carrer Sant Jaume\, Ondara\, VC\, 03760\, Spain
CATEGORIES:Cultura,Espectáculo
ATTACH;FMTTYPE=image/jpeg:https://disfruta-denia.com/wp-content/uploads/2023/11/image0.jpeg
END:VEVENT
BEGIN:VEVENT
DTSTART;TZID=Europe/Madrid:20240228T200000
DTEND;TZID=Europe/Madrid:20240228T233000
DTSTAMP:20260423T131444
CREATED:20240227T140013Z
LAST-MODIFIED:20240227T140015Z
UID:10008975-1709150400-1709163000@disfruta-denia.com
SUMMARY:Autocine: día del espectador
DESCRIPTION:
URL:https://disfruta-denia.com/evento/autocine-dia-del-espectador-3-23/
LOCATION:Autociné Denia\, Partida Deveses D\, 27\, Denia\, Alicante\, 03700\, España
CATEGORIES:Ciné,Cultura
ATTACH;FMTTYPE=image/png:https://disfruta-denia.com/wp-content/uploads/2023/06/Autocine-Drive-In-autocine_drivein-•-Photos-et-videos-Instagram-2-1.png
END:VEVENT
BEGIN:VEVENT
DTSTART;TZID=Europe/Madrid:20240229T200000
DTEND;TZID=Europe/Madrid:20240229T200000
DTSTAMP:20260423T131444
CREATED:20240221T150929Z
LAST-MODIFIED:20240221T150929Z
UID:10017239-1709236800-1709236800@disfruta-denia.com
SUMMARY:Open Mic en Babilonia
DESCRIPTION:Discover your talent at our Open Mic every Thursday at 8:00 PM! \nCome and share your passion for music\, poetry\, or dance.  \nImmerse yourself in a world of artistic expression and join us.\n Everyone is welcome to shine on stage! \nReady to captivate the audience?\nWe can’t wait to see you! \n– Free entrance.
URL:https://disfruta-denia.com/evento/open-mic-en-babilonia/2024-02-29/
LOCATION:Babilonia Restaurante\, Calle Cavallers 11\, Denia\, Alicante\, 03700\, España
CATEGORIES:Espectáculo,Música
ATTACH;FMTTYPE=image/jpeg:https://disfruta-denia.com/wp-content/uploads/2024/02/425011009_375331362029714_8464622446710910306_n.jpg
END:VEVENT
END:VCALENDAR