BEGIN:VCALENDAR
VERSION:2.0
PRODID:-//Disfruta Denia - ECPv6.15.20//NONSGML v1.0//EN
CALSCALE:GREGORIAN
METHOD:PUBLISH
X-ORIGINAL-URL:https://disfruta-denia.com
X-WR-CALDESC:Eventos para Disfruta Denia
REFRESH-INTERVAL;VALUE=DURATION:PT1H
X-Robots-Tag:noindex
X-PUBLISHED-TTL:PT1H
BEGIN:VTIMEZONE
TZID:Europe/Madrid
BEGIN:DAYLIGHT
TZOFFSETFROM:+0100
TZOFFSETTO:+0200
TZNAME:CEST
DTSTART:20230326T010000
END:DAYLIGHT
BEGIN:STANDARD
TZOFFSETFROM:+0200
TZOFFSETTO:+0100
TZNAME:CET
DTSTART:20231029T010000
END:STANDARD
BEGIN:DAYLIGHT
TZOFFSETFROM:+0100
TZOFFSETTO:+0200
TZNAME:CEST
DTSTART:20240331T010000
END:DAYLIGHT
BEGIN:STANDARD
TZOFFSETFROM:+0200
TZOFFSETTO:+0100
TZNAME:CET
DTSTART:20241027T010000
END:STANDARD
BEGIN:DAYLIGHT
TZOFFSETFROM:+0100
TZOFFSETTO:+0200
TZNAME:CEST
DTSTART:20250330T010000
END:DAYLIGHT
BEGIN:STANDARD
TZOFFSETFROM:+0200
TZOFFSETTO:+0100
TZNAME:CET
DTSTART:20251026T010000
END:STANDARD
END:VTIMEZONE
BEGIN:VEVENT
DTSTART;TZID=Europe/Madrid:20240801T100000
DTEND;TZID=Europe/Madrid:20240801T100000
DTSTAMP:20260424T211349
CREATED:20240630T095944Z
LAST-MODIFIED:20240630T100116Z
UID:10018794-1722506400-1722506400@disfruta-denia.com
SUMMARY:Visita guíada en catamarán
DESCRIPTION:El día 4 de julio empiezan las salidas en barco a la Reserva del Cabo de San Antonio!\nNo te pierdas esta oportunidad de conocer esta zona natural de incalculable valor ecológico y medioambiental-\nOrganizado por el centro de interpretación del Parque Natural del Montgó.
URL:https://disfruta-denia.com/evento/visita-guiada-en-catamaran/2024-08-01/
LOCATION:Puerto de Denia  Portet\, carrer moll de la pansa\, s n\,\, Denia\, 03700
CATEGORIES:Cultura,Visita
ATTACH;FMTTYPE=image/jpeg:https://disfruta-denia.com/wp-content/uploads/2024/06/448546120_872208904946891_6057863289591207933_n.jpg
END:VEVENT
BEGIN:VEVENT
DTSTART;TZID=Europe/Madrid:20240804T220000
DTEND;TZID=Europe/Madrid:20240804T220000
DTSTAMP:20260424T211349
CREATED:20240716T172725Z
LAST-MODIFIED:20240716T172946Z
UID:10018830-1722808800-1722808800@disfruta-denia.com
SUMMARY:Cine Vora Mar: THABO Y EL CASO DEL RINOCERONTE
DESCRIPTION:Dir.: Mara Eibl-Eibesfeldt. Alemanya / Alemania. 2023. 93 min. \nRecomanada / Recomendada  TP. Cine familiar. \nTràiler/ tráiler: https://www.youtube.com/watch?v=Ulm73R9ueMw
URL:https://disfruta-denia.com/evento/cine-vora-mar-thabo-y-el-caso-del-rinoceronte/
LOCATION:Playa Punta del Raset\, Punta del Raset\, Denia\, Alicante\, 03700\, España
CATEGORIES:Ciné,Cultura
ATTACH;FMTTYPE=image/png:https://disfruta-denia.com/wp-content/uploads/2024/07/6-Cine-voramar.png
END:VEVENT
BEGIN:VEVENT
DTSTART;TZID=Europe/Madrid:20240805T203000
DTEND;TZID=Europe/Madrid:20240805T203000
DTSTAMP:20260424T211349
CREATED:20240708T134753Z
LAST-MODIFIED:20240708T134836Z
UID:10018823-1722889800-1722889800@disfruta-denia.com
SUMMARY:Tablao Flamenco
DESCRIPTION:𝗝𝗨𝗟𝗜𝗢 𝘆 𝗔𝗚𝗢𝗦𝗧𝗢 𝘀𝗼𝗻 𝗱𝗲 𝗧𝗔𝗕𝗟𝗔𝗢 𝗙𝗟𝗔𝗠𝗘𝗡𝗖𝗢 💃 𝗲𝗻 𝗟𝗲𝘀 𝘁𝗿𝗮𝗺𝗼𝗶𝗲𝘀.⁣\n⁣\nVive un auténtico tablao flamenco con una puesta en escena única y espectacular. Baile\, cante\, percusión y guitarra.⁣\n⁣\n****⁣\n⁣\nExperience an authentic flamenco tablao with a unique and spectacular staging. Dance\, singing\, percussion and guitar.⁣\n⁣\n📆𝘍𝘦𝘤𝘩𝘢𝘴/ Dates:⁣\n⁣\n𝟭𝟱 𝗱𝗲 𝗷𝘂𝗹𝗶𝗼⁣\n𝟮𝟵 𝗱𝗲 𝗷𝘂𝗹𝗶𝗼⁣\n𝟱 𝗱𝗲 𝗮𝗴𝗼𝘀to\n𝟭𝟵 𝗱𝗲 𝗮𝗴𝗼𝘀𝘁𝗼⁣\n⁣\n🕣Todas las 𝘀𝗲𝘀𝗶𝗼𝗻𝗲𝘀 𝘀𝗼𝗻 𝗮 𝗹𝗮𝘀 𝟮𝟬:𝟯𝟬. Apertura de puertas 30 minutos antes.⁣\n⁣\n⁣\n𝗜𝗻𝗳𝗼𝗿𝗺𝗮𝗰𝗶𝗼́𝗻 𝘆 𝗿𝗲𝘀𝗲𝗿𝘃𝗮𝘀🎟️/ 𝗧𝗶𝗰𝗸𝗲𝘁𝘀:⁣\n☎️605 28 23 28⁣\n\n\nhttps://www.notikumi.com/2024/7/15/tablao-flamenco
URL:https://disfruta-denia.com/evento/tablao-flamenco/2024-08-05/
LOCATION:Les Tramoies\, C/ de Patricio Ferrándiz\, 88\, Denia\, Alicante\, 03700\, España
CATEGORIES:Baile,Cultura,Danza,Música
ATTACH;FMTTYPE=image/jpeg:https://disfruta-denia.com/wp-content/uploads/2024/07/image0.jpeg
END:VEVENT
BEGIN:VEVENT
DTSTART;TZID=Europe/Madrid:20240806T210000
DTEND;TZID=Europe/Madrid:20240806T210000
DTSTAMP:20260424T211349
CREATED:20240724T134305Z
LAST-MODIFIED:20240724T134305Z
UID:10019129-1722978000-1722978000@disfruta-denia.com
SUMMARY:Entraeta de la Capitanía cristiana
DESCRIPTION:Entraeta de la Capitanía cristiana desde Plaza del Consell\, calle Diana\, Marqués de Campo\, finalización en Cruz Roja. Al finalizar cena de recepción cristiana
URL:https://disfruta-denia.com/evento/entraeta-de-la-capitania-cristiana/
LOCATION:Plaza del Consell\, Carrer de la Mar\, Denia\, 03700
CATEGORIES:Cultura,Desfile
ATTACH;FMTTYPE=image/jpeg:https://disfruta-denia.com/wp-content/uploads/2024/07/cartel-de-las-fiestas-de-moros-y-cristianos-2024-1449x2048-1.jpg
END:VEVENT
BEGIN:VEVENT
DTSTART;TZID=Europe/Madrid:20240807T200000
DTEND;TZID=Europe/Madrid:20240807T233000
DTSTAMP:20260424T211349
CREATED:20230612T102803Z
LAST-MODIFIED:20230612T102804Z
UID:10008998-1723060800-1723073400@disfruta-denia.com
SUMMARY:Autocine: día del espectador
DESCRIPTION:
URL:https://disfruta-denia.com/evento/autocine-dia-del-espectador-3/2024-08-07/
LOCATION:Autociné Denia\, Partida Deveses D\, 27\, Denia\, Alicante\, 03700\, España
CATEGORIES:Ciné,Cultura
ATTACH;FMTTYPE=image/jpeg:https://disfruta-denia.com/wp-content/uploads/2022/11/Autocine-Drive-In-Denia-1.jpg
END:VEVENT
BEGIN:VEVENT
DTSTART;TZID=Europe/Madrid:20240808T210000
DTEND;TZID=Europe/Madrid:20240808T210000
DTSTAMP:20260424T211349
CREATED:20240724T134425Z
LAST-MODIFIED:20240724T134425Z
UID:10019130-1723150800-1723150800@disfruta-denia.com
SUMMARY:Entraeta de la Capitanía mora
DESCRIPTION:Entraeta de la Capitanía mora desde Plaza del Consell\, calle Diana\, Marqués de Campo\, finalización en Cruz Roja. Al finalizar cena de recepción mora
URL:https://disfruta-denia.com/evento/entraeta-de-la-capitania-mora/
LOCATION:Plaza del Consell\, Carrer de la Mar\, Denia\, 03700
CATEGORIES:Cultura,Desfile
ATTACH;FMTTYPE=image/jpeg:https://disfruta-denia.com/wp-content/uploads/2024/07/moros-y-cristianos-2023-1.jpg
ORGANIZER;CN="Femmicc":MAILTO:SECRETARIA@FEMMICCDENIA.COM
END:VEVENT
BEGIN:VEVENT
DTSTART;TZID=Europe/Madrid:20240809T200000
DTEND;TZID=Europe/Madrid:20240809T200000
DTSTAMP:20260424T211349
CREATED:20240716T171301Z
LAST-MODIFIED:20240716T171301Z
UID:10018829-1723233600-1723233600@disfruta-denia.com
SUMMARY:Sonafilm Festival 2024
DESCRIPTION:Vuelve el concierto más refrescante del Festival de Música de Cine de la Marina Alta y vuelve nuevamente la Banda Moanin’ Project en la que será su tercera participación en el Sonafilm y en Dénia. \nEn esta sexta edición disfrutaremos de un fantástico espectáculo creado exclusivamente para el Festival basado en las canciones originales de las series de televisión más famosas de todos los tiempos y que se estrenará el próximo 9 de agosto a las 20:00h en el Teatre Auditori del Centre Social de Dénia. \nTV SERIES SONGS podrás disfrutar de temas de series de televisión como Vikingos\, True Detective\, Narcos\, Friends\, el Coche Fantástico\, Cazafantasmas\, el Equipo A\, Starsky and Hutch o la Casa de Papel entre otras\, serán algunos de los temas que podrán escuchar de la mano de una orquesta Pop/Rock. \nLas entradas a un precio único de 10 €\, las puedes adquirir próximamente
URL:https://disfruta-denia.com/evento/sonafilm-festival-2024/
LOCATION:Teatro Auditorio Centro Social\, 4 Carrer Calderón\, Dénia\, VC\, 03700\, Spain
CATEGORIES:Ciné,Cultura
ATTACH;FMTTYPE=image/jpeg:https://disfruta-denia.com/wp-content/uploads/2024/07/5-SONAFILM-scaled.jpg
END:VEVENT
BEGIN:VEVENT
DTSTART;TZID=Europe/Madrid:20240810T190000
DTEND;TZID=Europe/Madrid:20240810T190000
DTSTAMP:20260424T211349
CREATED:20240810T071836Z
LAST-MODIFIED:20240810T071836Z
UID:10019202-1723316400-1723316400@disfruta-denia.com
SUMMARY:Marchen Filás - desfile Moros y Cristianos en el Portal
DESCRIPTION:Este año el Portal de la Marina vuelve a renovar el acuerdo de colaboración con @femmicc_denia y qué mejor forma de hacerlo\nque volver a realizar el Desfile de Moros y Cristianos en la galería del centro comercial. \nTe esperamos marcando el paso el 10 de agosto a las 19:00 h. \n¡Verás que bien lo pasamos!
URL:https://disfruta-denia.com/evento/marchen-filas-desfile-moros-y-cristianos-en-el-portal/
LOCATION:Portal de la Marina\, Av. Costa Blanca\, 2\, Ondara\, Alicante\, 03760\, España
CATEGORIES:Cultura,Desfile
ATTACH;FMTTYPE=image/png:https://disfruta-denia.com/wp-content/uploads/2024/08/Portal-de-la-Marina-portaldelamarina-•-Instagram-photos-and-videos.png
END:VEVENT
BEGIN:VEVENT
DTSTART;TZID=Europe/Madrid:20240811T220000
DTEND;TZID=Europe/Madrid:20240811T220000
DTSTAMP:20260424T211349
CREATED:20240718T071227Z
LAST-MODIFIED:20240718T071227Z
UID:10019099-1723413600-1723413600@disfruta-denia.com
SUMMARY:Cine Vora Mar: SUEÑOS DE ROBOTS
DESCRIPTION:Dir.: Pablo Berger. España. 2023. 102 min. \nRecomendada TP. Cine familiar \n 
URL:https://disfruta-denia.com/evento/cine-vora-mar-suenos-de-robots/
LOCATION:Playa Punta del Raset\, Punta del Raset\, Denia\, Alicante\, 03700\, España
CATEGORIES:Ciné,Cultura
ATTACH;FMTTYPE=image/jpeg:https://disfruta-denia.com/wp-content/uploads/2024/07/CARTELLSUENOSDEROBOTS_Vertical.jpg
END:VEVENT
BEGIN:VEVENT
DTSTART;TZID=Europe/Madrid:20240813T200000
DTEND;TZID=Europe/Madrid:20240813T200000
DTSTAMP:20260424T211349
CREATED:20240813T104739Z
LAST-MODIFIED:20240813T110318Z
UID:10019210-1723579200-1723579200@disfruta-denia.com
SUMMARY:Desembarco moro y acto de firma de tregua
DESCRIPTION:Nos vemos hoy\, a las 20.00 horas\, en la playa de la Escollera Norte para presenciar el desembarco moro y el acto de firma de tregua.\n😍¡No te pierdas el espectáculo!
URL:https://disfruta-denia.com/evento/desembarco-moro-y-acto-de-firma-de-tregua/
LOCATION:El Portet Denia\, Moll de la Pansa s/n\,\, Denia\, Alicante\, 03700\, España
CATEGORIES:Cultura,Espectáculo
ATTACH;FMTTYPE=image/png:https://disfruta-denia.com/wp-content/uploads/2024/08/Desembraco-Moro.png
END:VEVENT
BEGIN:VEVENT
DTSTART;TZID=Europe/Madrid:20240813T200000
DTEND;TZID=Europe/Madrid:20240813T233000
DTSTAMP:20260424T211349
CREATED:20240813T101834Z
LAST-MODIFIED:20240813T101835Z
UID:10008999-1723579200-1723591800@disfruta-denia.com
SUMMARY:Autocine: día del espectador
DESCRIPTION:
URL:https://disfruta-denia.com/evento/autocine-dia-del-espectador-3-33/
LOCATION:Autociné Denia\, Partida Deveses D\, 27\, Denia\, Alicante\, 03700\, España
CATEGORIES:Ciné,Cultura
ATTACH;FMTTYPE=image/png:https://disfruta-denia.com/wp-content/uploads/2023/06/Autocine-Drive-In-autocine_drivein-•-Instagram-photos-and-videos-4.png
END:VEVENT
BEGIN:VEVENT
DTSTART;TZID=Europe/Madrid:20240815T100000
DTEND;TZID=Europe/Madrid:20240815T100000
DTSTAMP:20260424T211349
CREATED:20240630T095944Z
LAST-MODIFIED:20240630T100116Z
UID:10018795-1723716000-1723716000@disfruta-denia.com
SUMMARY:Visita guíada en catamarán
DESCRIPTION:El día 4 de julio empiezan las salidas en barco a la Reserva del Cabo de San Antonio!\nNo te pierdas esta oportunidad de conocer esta zona natural de incalculable valor ecológico y medioambiental-\nOrganizado por el centro de interpretación del Parque Natural del Montgó.
URL:https://disfruta-denia.com/evento/visita-guiada-en-catamaran/2024-08-15/
LOCATION:Puerto de Denia  Portet\, carrer moll de la pansa\, s n\,\, Denia\, 03700
CATEGORIES:Cultura,Visita
ATTACH;FMTTYPE=image/jpeg:https://disfruta-denia.com/wp-content/uploads/2024/06/448546120_872208904946891_6057863289591207933_n.jpg
END:VEVENT
BEGIN:VEVENT
DTSTART;TZID=Europe/Madrid:20240815T180000
DTEND;TZID=Europe/Madrid:20240815T180000
DTSTAMP:20260424T211349
CREATED:20240724T134940Z
LAST-MODIFIED:20240724T134940Z
UID:10019132-1723744800-1723744800@disfruta-denia.com
SUMMARY:Gran desfile de gala Moros y Cristianos Dénia 2024
DESCRIPTION:18:00 horas Gran desfile de gala\, con las capitanías cerrando su respectivo bando. Itinerario: salida de Calle La Via\, Diana y hasta el final de Marqués de Campo
URL:https://disfruta-denia.com/evento/gran-desfile-de-gala-moros-y-cristianos-denia-2024/
LOCATION:Carrer del Marqués de Campo\, Carrer del Marqués de Campo\, Denia\, Alicante\, 03700\, España
CATEGORIES:Cultura,Desfile,Espectáculo
ATTACH;FMTTYPE=image/jpeg:https://disfruta-denia.com/wp-content/uploads/2024/07/cartel-de-las-fiestas-de-moros-y-cristianos-2024-1449x2048-1.jpg
ORGANIZER;CN="Femmicc":MAILTO:SECRETARIA@FEMMICCDENIA.COM
END:VEVENT
BEGIN:VEVENT
DTSTART;TZID=Europe/Madrid:20240815T235500
DTEND;TZID=Europe/Madrid:20240815T235500
DTSTAMP:20260424T211349
CREATED:20240724T135050Z
LAST-MODIFIED:20240724T135050Z
UID:10019133-1723766100-1723766100@disfruta-denia.com
SUMMARY:Castillo de fuegos artificiales
DESCRIPTION:
URL:https://disfruta-denia.com/evento/castillo-de-fuegos-artificiales/
LOCATION:Puerto de Denia  Portet\, carrer moll de la pansa\, s n\,\, Denia\, 03700
CATEGORIES:Cultura,Espectáculo
ATTACH;FMTTYPE=image/jpeg:https://disfruta-denia.com/wp-content/uploads/2024/07/cartel-de-las-fiestas-de-moros-y-cristianos-2024-1449x2048-1.jpg
ORGANIZER;CN="Femmicc":MAILTO:SECRETARIA@FEMMICCDENIA.COM
END:VEVENT
BEGIN:VEVENT
DTSTART;TZID=Europe/Madrid:20240818T220000
DTEND;TZID=Europe/Madrid:20240818T220000
DTSTAMP:20260424T211349
CREATED:20240718T071537Z
LAST-MODIFIED:20240718T071537Z
UID:10019100-1724018400-1724018400@disfruta-denia.com
SUMMARY:Cine Vora Mar: CAMPEONEX
DESCRIPTION:Dir.: Javier Fesser. Espanya/ España. 2023. 124 min. \nRecomanada / recomendada TP. Comèdia / Comedia \n 
URL:https://disfruta-denia.com/evento/cine-vora-mar-campeonex/
LOCATION:Playa Punta del Raset\, Punta del Raset\, Denia\, Alicante\, 03700\, España
CATEGORIES:Ciné,Cultura
ATTACH;FMTTYPE=image/jpeg:https://disfruta-denia.com/wp-content/uploads/2024/07/CAMPEONEX.jpg
END:VEVENT
BEGIN:VEVENT
DTSTART;TZID=Europe/Madrid:20240819T203000
DTEND;TZID=Europe/Madrid:20240819T203000
DTSTAMP:20260424T211349
CREATED:20240708T134753Z
LAST-MODIFIED:20240708T134836Z
UID:10018824-1724099400-1724099400@disfruta-denia.com
SUMMARY:Tablao Flamenco
DESCRIPTION:𝗝𝗨𝗟𝗜𝗢 𝘆 𝗔𝗚𝗢𝗦𝗧𝗢 𝘀𝗼𝗻 𝗱𝗲 𝗧𝗔𝗕𝗟𝗔𝗢 𝗙𝗟𝗔𝗠𝗘𝗡𝗖𝗢 💃 𝗲𝗻 𝗟𝗲𝘀 𝘁𝗿𝗮𝗺𝗼𝗶𝗲𝘀.⁣\n⁣\nVive un auténtico tablao flamenco con una puesta en escena única y espectacular. Baile\, cante\, percusión y guitarra.⁣\n⁣\n****⁣\n⁣\nExperience an authentic flamenco tablao with a unique and spectacular staging. Dance\, singing\, percussion and guitar.⁣\n⁣\n📆𝘍𝘦𝘤𝘩𝘢𝘴/ Dates:⁣\n⁣\n𝟭𝟱 𝗱𝗲 𝗷𝘂𝗹𝗶𝗼⁣\n𝟮𝟵 𝗱𝗲 𝗷𝘂𝗹𝗶𝗼⁣\n𝟱 𝗱𝗲 𝗮𝗴𝗼𝘀to\n𝟭𝟵 𝗱𝗲 𝗮𝗴𝗼𝘀𝘁𝗼⁣\n⁣\n🕣Todas las 𝘀𝗲𝘀𝗶𝗼𝗻𝗲𝘀 𝘀𝗼𝗻 𝗮 𝗹𝗮𝘀 𝟮𝟬:𝟯𝟬. Apertura de puertas 30 minutos antes.⁣\n⁣\n⁣\n𝗜𝗻𝗳𝗼𝗿𝗺𝗮𝗰𝗶𝗼́𝗻 𝘆 𝗿𝗲𝘀𝗲𝗿𝘃𝗮𝘀🎟️/ 𝗧𝗶𝗰𝗸𝗲𝘁𝘀:⁣\n☎️605 28 23 28⁣\n\n\nhttps://www.notikumi.com/2024/7/15/tablao-flamenco
URL:https://disfruta-denia.com/evento/tablao-flamenco/2024-08-19/
LOCATION:Les Tramoies\, C/ de Patricio Ferrándiz\, 88\, Denia\, Alicante\, 03700\, España
CATEGORIES:Baile,Cultura,Danza,Música
ATTACH;FMTTYPE=image/jpeg:https://disfruta-denia.com/wp-content/uploads/2024/07/image0.jpeg
END:VEVENT
BEGIN:VEVENT
DTSTART;TZID=Europe/Madrid:20240821T200000
DTEND;TZID=Europe/Madrid:20240821T233000
DTSTAMP:20260424T211349
CREATED:20230612T102803Z
LAST-MODIFIED:20230612T102804Z
UID:10009000-1724270400-1724283000@disfruta-denia.com
SUMMARY:Autocine: día del espectador
DESCRIPTION:
URL:https://disfruta-denia.com/evento/autocine-dia-del-espectador-3/2024-08-21/
LOCATION:Autociné Denia\, Partida Deveses D\, 27\, Denia\, Alicante\, 03700\, España
CATEGORIES:Ciné,Cultura
ATTACH;FMTTYPE=image/jpeg:https://disfruta-denia.com/wp-content/uploads/2022/11/Autocine-Drive-In-Denia-1.jpg
END:VEVENT
BEGIN:VEVENT
DTSTART;TZID=Europe/Madrid:20240821T223000
DTEND;TZID=Europe/Madrid:20240821T223000
DTSTAMP:20260424T211349
CREATED:20240716T164635Z
LAST-MODIFIED:20240716T164635Z
UID:10018828-1724279400-1724279400@disfruta-denia.com
SUMMARY:CINE A LA FRESCA: GRAN TURISMO
DESCRIPTION:Dir.: Neill Blomkamp. EEUU. 2023. 134 min. \nRecomendada   + 7 años.  Acción. \nTráiler: 
URL:https://disfruta-denia.com/evento/cine-a-la-fresca-gran-turismo/
LOCATION:Parc de Les Bassetes\, Carr. de les Marines\, 53\, Denia\, Alicante\, 03700\, España
CATEGORIES:Ciné,Cultura
ATTACH;FMTTYPE=image/png:https://disfruta-denia.com/wp-content/uploads/2024/07/4-BASSETES.png
END:VEVENT
BEGIN:VEVENT
DTSTART;TZID=Europe/Madrid:20240824T213000
DTEND;TZID=Europe/Madrid:20240824T213000
DTSTAMP:20260424T211349
CREATED:20240825T193000Z
LAST-MODIFIED:20240719T075956Z
UID:10019106-1724535000-1724535000@disfruta-denia.com
SUMMARY:XIII Edició Riurau Film Festival - Projecció Curtmetratges
DESCRIPTION:Jardins de Torrecremada\, entrada per / por passeig de Ricardo Ortega. \nDia 24     \n21.30 h  Jardins de Torrecremada  \nProjecció Curtmetratges / proyección de cortometrajes: \n\nFICCIÓ SOCIAL: dirigits per dones/ Ficción social:dirigidos por mujeres.\nFICCIÓ GENERAL / Ficción general.\nFILM DE DANSA / Film de danza\n\n  \nDia 25     \n10.30 h. Teatre Auditori\, c/ Calderón\, 4. \n2on Encontre del nostre cinema/ 2. Encuentro de nuestro cinema \n– Projecció de curts d’autors comarcals/proyección de cortos de autores comarcales. \n– Taula redona/mesa redonda: La indústria cinematogràfica a la Comarca \nAmb la col·laboració de / Con la colaboración de la Fundació Salom Sabar \n  \n21.30 h. Jardins de Torrecremada  \n Projecció Curtmetratges / proyección de cortometrajes: \n∙   FICCIÓ GENERAL / Ficción general. \n  \nGRAN GALA DE LLIURAMENT DE PREMIS // GRAN GALA DE ENTREGA DE PREMIOS \nEntada lliure fins a completar aforament/ Entrada libre hasta completar aforo.   \n Organitza/organiza: ESCOLA DE CINEMA RIURAU
URL:https://disfruta-denia.com/evento/xiii-edicio-riurau-film-festival-projeccio-curtmetratges/2024-08-24/
LOCATION:Parque de Torrecremada\, Carrer Germans Maristes\, Denia\, Alicante\, 03700\, España
CATEGORIES:Ciné,Cultura
ATTACH;FMTTYPE=image/png:https://disfruta-denia.com/wp-content/uploads/2024/08/5-Riuraufilm-festival.png
END:VEVENT
BEGIN:VEVENT
DTSTART;TZID=Europe/Madrid:20240825T103000
DTEND;TZID=Europe/Madrid:20240825T103000
DTSTAMP:20260424T211349
CREATED:20240825T193000Z
LAST-MODIFIED:20240719T075956Z
UID:10019107-1724581800-1724581800@disfruta-denia.com
SUMMARY:XIII Edició Riurau Film Festival - Projecció Curtmetratges
DESCRIPTION:Jardins de Torrecremada\, entrada per / por passeig de Ricardo Ortega. \nDia 24     \n21.30 h  Jardins de Torrecremada  \nProjecció Curtmetratges / proyección de cortometrajes: \n\nFICCIÓ SOCIAL: dirigits per dones/ Ficción social:dirigidos por mujeres.\nFICCIÓ GENERAL / Ficción general.\nFILM DE DANSA / Film de danza\n\n  \nDia 25     \n10.30 h. Teatre Auditori\, c/ Calderón\, 4. \n2on Encontre del nostre cinema/ 2. Encuentro de nuestro cinema \n– Projecció de curts d’autors comarcals/proyección de cortos de autores comarcales. \n– Taula redona/mesa redonda: La indústria cinematogràfica a la Comarca \nAmb la col·laboració de / Con la colaboración de la Fundació Salom Sabar \n  \n21.30 h. Jardins de Torrecremada  \n Projecció Curtmetratges / proyección de cortometrajes: \n∙   FICCIÓ GENERAL / Ficción general. \n  \nGRAN GALA DE LLIURAMENT DE PREMIS // GRAN GALA DE ENTREGA DE PREMIOS \nEntada lliure fins a completar aforament/ Entrada libre hasta completar aforo.   \n Organitza/organiza: ESCOLA DE CINEMA RIURAU
URL:https://disfruta-denia.com/evento/xiii-edicio-riurau-film-festival-projeccio-curtmetratges/2024-08-25/1/
LOCATION:Parque de Torrecremada\, Carrer Germans Maristes\, Denia\, Alicante\, 03700\, España
CATEGORIES:Ciné,Cultura
ATTACH;FMTTYPE=image/png:https://disfruta-denia.com/wp-content/uploads/2024/08/5-Riuraufilm-festival.png
END:VEVENT
BEGIN:VEVENT
DTSTART;TZID=Europe/Madrid:20240825T213000
DTEND;TZID=Europe/Madrid:20240825T213000
DTSTAMP:20260424T211349
CREATED:20240825T193000Z
LAST-MODIFIED:20240719T075956Z
UID:10019108-1724621400-1724621400@disfruta-denia.com
SUMMARY:XIII Edició Riurau Film Festival - Projecció Curtmetratges
DESCRIPTION:Jardins de Torrecremada\, entrada per / por passeig de Ricardo Ortega. \nDia 24     \n21.30 h  Jardins de Torrecremada  \nProjecció Curtmetratges / proyección de cortometrajes: \n\nFICCIÓ SOCIAL: dirigits per dones/ Ficción social:dirigidos por mujeres.\nFICCIÓ GENERAL / Ficción general.\nFILM DE DANSA / Film de danza\n\n  \nDia 25     \n10.30 h. Teatre Auditori\, c/ Calderón\, 4. \n2on Encontre del nostre cinema/ 2. Encuentro de nuestro cinema \n– Projecció de curts d’autors comarcals/proyección de cortos de autores comarcales. \n– Taula redona/mesa redonda: La indústria cinematogràfica a la Comarca \nAmb la col·laboració de / Con la colaboración de la Fundació Salom Sabar \n  \n21.30 h. Jardins de Torrecremada  \n Projecció Curtmetratges / proyección de cortometrajes: \n∙   FICCIÓ GENERAL / Ficción general. \n  \nGRAN GALA DE LLIURAMENT DE PREMIS // GRAN GALA DE ENTREGA DE PREMIOS \nEntada lliure fins a completar aforament/ Entrada libre hasta completar aforo.   \n Organitza/organiza: ESCOLA DE CINEMA RIURAU
URL:https://disfruta-denia.com/evento/xiii-edicio-riurau-film-festival-projeccio-curtmetratges/2024-08-25/2/
LOCATION:Parque de Torrecremada\, Carrer Germans Maristes\, Denia\, Alicante\, 03700\, España
CATEGORIES:Ciné,Cultura
ATTACH;FMTTYPE=image/png:https://disfruta-denia.com/wp-content/uploads/2024/08/5-Riuraufilm-festival.png
END:VEVENT
BEGIN:VEVENT
DTSTART;TZID=Europe/Madrid:20240825T220000
DTEND;TZID=Europe/Madrid:20240825T220000
DTSTAMP:20260424T211349
CREATED:20240719T080236Z
LAST-MODIFIED:20240719T080250Z
UID:10019109-1724623200-1724623200@disfruta-denia.com
SUMMARY:Cine Vora Mar - Dragones y Mazmorras: Honor entre ladrones
DESCRIPTION:Dir. John Francis Daley\, Jonathan M. Goldstein.  EEUU. 2023. 128 min. \nRecomendada  + 12 años.  Fantástico. Aventuras.
URL:https://disfruta-denia.com/evento/cine-vora-mar-dragones-y-mazmorras-honor-entre-ladrones/
LOCATION:Playa Punta del Raset\, Punta del Raset\, Denia\, Alicante\, 03700\, España
CATEGORIES:Ciné,Cultura
ATTACH;FMTTYPE=image/jpeg:https://disfruta-denia.com/wp-content/uploads/2024/07/CARTELLLADRONESYMAZMORRAS_Vertical-1.jpg
END:VEVENT
BEGIN:VEVENT
DTSTART;TZID=Europe/Madrid:20240826T080000
DTEND;TZID=Europe/Madrid:20240826T170000
DTSTAMP:20260424T211349
CREATED:20240826T113243Z
LAST-MODIFIED:20240826T113243Z
UID:10019256-1724659200-1724691600@disfruta-denia.com
SUMMARY:INA MARTÍ canta a  MARÍA IBARS
DESCRIPTION:Presentació de les Unitats Didàctiques sobre Maria Ibars realitzades per Acció Cultural del País Valencià.  \n  \n\nTaula redona amb la participació de: Tomàs Llopis\, escriptor\, Pepa Guardiola\, escriptora\, Maria José Gálvez\, directora general del Llibre del govern d’Espanya\, JoanBa Martí i Escobar\, director de l’IES Maria Ibars de Dénia\, Àngels Gregori\, de l’Acadèmia Valenciana de la Llengua i Raúl García de la Reina\, regidor de Cultura.\n\n \n\nActuació musical. INA MARTÍ canta a  MARÍA IBARS.\n\n  \nOrganitza: ACPV. Ajuntament de Dénia. Cultura.
URL:https://disfruta-denia.com/evento/ina-marti-canta-a-maria-ibars/
CATEGORIES:Cultura
ATTACH;FMTTYPE=image/png:https://disfruta-denia.com/wp-content/uploads/2024/08/5-Maria-Ibars.-INA-MARTI.png
ORGANIZER;CN="Denia Cultura":MAILTO:cultura@ayto-denia.es
END:VEVENT
BEGIN:VEVENT
DTSTART;TZID=Europe/Madrid:20240828T200000
DTEND;TZID=Europe/Madrid:20240828T233000
DTSTAMP:20260424T211349
CREATED:20240826T091026Z
LAST-MODIFIED:20240826T091027Z
UID:10009001-1724875200-1724887800@disfruta-denia.com
SUMMARY:Autocine: día del espectador
DESCRIPTION:
URL:https://disfruta-denia.com/evento/autocine-dia-del-espectador-3-34/
LOCATION:Autociné Denia\, Partida Deveses D\, 27\, Denia\, Alicante\, 03700\, España
CATEGORIES:Ciné,Cultura
ATTACH;FMTTYPE=image/png:https://disfruta-denia.com/wp-content/uploads/2023/06/Autocine-Drive-In-autocine_drivein-•-Instagram-photos-and-videos-5.png
END:VEVENT
END:VCALENDAR