BEGIN:VCALENDAR
VERSION:2.0
PRODID:-//Disfruta Denia - ECPv6.15.20//NONSGML v1.0//EN
CALSCALE:GREGORIAN
METHOD:PUBLISH
X-WR-CALNAME:Disfruta Denia
X-ORIGINAL-URL:https://disfruta-denia.com
X-WR-CALDESC:Eventos para Disfruta Denia
REFRESH-INTERVAL;VALUE=DURATION:PT1H
X-Robots-Tag:noindex
X-PUBLISHED-TTL:PT1H
BEGIN:VTIMEZONE
TZID:Europe/Madrid
BEGIN:DAYLIGHT
TZOFFSETFROM:+0100
TZOFFSETTO:+0200
TZNAME:CEST
DTSTART:20230326T010000
END:DAYLIGHT
BEGIN:STANDARD
TZOFFSETFROM:+0200
TZOFFSETTO:+0100
TZNAME:CET
DTSTART:20231029T010000
END:STANDARD
BEGIN:DAYLIGHT
TZOFFSETFROM:+0100
TZOFFSETTO:+0200
TZNAME:CEST
DTSTART:20240331T010000
END:DAYLIGHT
BEGIN:STANDARD
TZOFFSETFROM:+0200
TZOFFSETTO:+0100
TZNAME:CET
DTSTART:20241027T010000
END:STANDARD
BEGIN:DAYLIGHT
TZOFFSETFROM:+0100
TZOFFSETTO:+0200
TZNAME:CEST
DTSTART:20250330T010000
END:DAYLIGHT
BEGIN:STANDARD
TZOFFSETFROM:+0200
TZOFFSETTO:+0100
TZNAME:CET
DTSTART:20251026T010000
END:STANDARD
END:VTIMEZONE
BEGIN:VEVENT
DTSTART;TZID=Europe/Madrid:20240904T200000
DTEND;TZID=Europe/Madrid:20240904T233000
DTSTAMP:20260424T193843
CREATED:20240902T104942Z
LAST-MODIFIED:20240902T104943Z
UID:10009002-1725480000-1725492600@disfruta-denia.com
SUMMARY:Autocine: día del espectador
DESCRIPTION:
URL:https://disfruta-denia.com/evento/autocine-dia-del-espectador-3-35/
LOCATION:Autociné Denia\, Partida Deveses D\, 27\, Denia\, Alicante\, 03700\, España
CATEGORIES:Ciné,Cultura
ATTACH;FMTTYPE=image/png:https://disfruta-denia.com/wp-content/uploads/2023/06/Autocine-Drive-In-autocine_drivein-•-Instagram-photos-and-videos-6.png
END:VEVENT
BEGIN:VEVENT
DTSTART;VALUE=DATE:20240905
DTEND;VALUE=DATE:20240923
DTSTAMP:20260424T193843
CREATED:20240826T105452Z
LAST-MODIFIED:20240826T105452Z
UID:10019253-1725508800-1726977599@disfruta-denia.com
SUMMARY:Expo:  COLECTIVO ADAMA
DESCRIPTION:Inauguració dia 5 a les 19 h \nHorari/ horario: Laborables 11 – 14 h  /  17  –  21 h.  Dissabte/Sábado  10 – 13.30 h  
URL:https://disfruta-denia.com/evento/expo-colectivo-adama/
LOCATION:Casa de la Cultura Denia\, Plaça Jaume I\, Denia\, Alicante\, 03700\, España
CATEGORIES:Cultura,Exposiciones
ATTACH;FMTTYPE=image/png:https://disfruta-denia.com/wp-content/uploads/2024/08/1-ADAMA.png
ORGANIZER;CN="Denia Cultura":MAILTO:cultura@ayto-denia.es
END:VEVENT
BEGIN:VEVENT
DTSTART;TZID=Europe/Madrid:20240905T113000
DTEND;TZID=Europe/Madrid:20240905T113000
DTSTAMP:20260424T193843
CREATED:20240902T085629Z
LAST-MODIFIED:20240902T085652Z
UID:10019278-1725535800-1725535800@disfruta-denia.com
SUMMARY:CONVIVIUM. UN BANQUETE ROMANO EN DIANIUM
DESCRIPTION:VISITA GUIADA \n\n\n\n\nEl banquete o convivium era una ocasión especial para celebrar algún acontecimiento familiar o festividad importante. Tenía un relevante carácter social\, un momento de entretenimiento y placer alrededor de una buena mesa\, donde se unía la conversación con el gusto culinario\, pero también servía para mostrar la riqueza y posición del anfitrión. \nEn la visita se explicará la vasa escaria\, nombre que recibe el conjunto de mesa\, se dio en la antigüedad romana al conjunto de utensilios de mesa\, a través de los materiales procedentes de las últimas intervenciones arqueológicas desarrolladas en la ciudad romana. \nVISITAS GUIADAS los jueves a las 11.30 horas. \nPUNTO DE ENCUENTRO: puerta de acceso al Museo. Recepción. \nInformación e inscripción: teléfono 966420260\, de lunes a domingo de 10 a 13 horas.
URL:https://disfruta-denia.com/evento/convivium-un-banquete-romano-en-dianium/2024-09-05/
LOCATION:Museo del Mar\, Explanada Cervantes 2\, Dénia\, 03700\, España
CATEGORIES:Cultura,Visita
ATTACH;FMTTYPE=image/jpeg:https://disfruta-denia.com/wp-content/uploads/2024/09/1724672568MARCASTELLA.jpg
END:VEVENT
BEGIN:VEVENT
DTSTART;TZID=Europe/Madrid:20240906T190000
DTEND;TZID=Europe/Madrid:20241031T235900
DTSTAMP:20260424T193843
CREATED:20240904T145928Z
LAST-MODIFIED:20240904T145928Z
UID:10019286-1725649200-1730419140@disfruta-denia.com
SUMMARY:Exposición fotográfica ‘Sinestesia'
DESCRIPTION:Presentamos Sinestesia: Dénia\, una nueva exposición fotográfica por Reuben Ross con poemas por Sonia Sánchez. \nEsta exposición estará abierta al público del 06 de septiembre al 31 de octubre en Códigos del Arte  y podrá visitarse en horario de miércoles a sábado de 19:00 a 00:00 horas. \nLa inauguración\, el 6 de septiembre a partir de las 20.00 horas\, irá acompañada de música electrónica en vivo del artista valenciano PLLCK . \n\nEl verano en Dénia estalla en una sinfonía de colores\, sabores\, sonidos y olores. Es el aire salado de la Playa de las Marinas\, el sabor refrescante de un mojito en la Plaza San Antonio y el bullicio en la calle Marqués de Campo. Vivimos aquí\, en Dénia\, y fue nuestro profundo afecto por esta ciudad el que inspiró este proyecto. \nPara crear esta serie fotográfica\, utilizamos una técnica experimental llamada «film soup». Primero\, tomamos las fotos con película en color Kodak Gold de forma totalmente analógica. A continuación\, sumergimos los rollos de película en una mezcla líquida\, que contiene diversos ingredientes\, entre doce y veinticuatro horas. Así alteramos las propiedades químicas de la película\, dando lugar a efectos únicos e impredecibles. \nCada fotografía ha sido sometida a este proceso utilizando ingredientes encontrados en el lugar correspondiente o inspirados en él. Por ejemplo\, la foto de la Playa de las Marinas contiene sal marina\, algas y limón. La foto de la Plaza de San Antonio contiene mojito\, cerveza Turia y Aperol. Y la de la calle Marqués de Campo contiene perfume y el tinte azul de la ropa. Así nació sinestesia. \nInspirados en estos lugares\, también encontraréis unos hermosos versos que acompañan a cada fotografía. \n¡Nos vemos en la exposición!
URL:https://disfruta-denia.com/evento/exposicion-fotografica-sinestesia/
LOCATION:Códigos del Arte\, Carreró de Morant\, 8\, Dénia\, 03700\, España
CATEGORIES:Cultura,Exposiciones
ATTACH;FMTTYPE=image/jpeg:https://disfruta-denia.com/wp-content/uploads/2024/09/Sinestesia-Denia-COVER.jpg
END:VEVENT
BEGIN:VEVENT
DTSTART;TZID=Europe/Madrid:20240906T220000
DTEND;TZID=Europe/Madrid:20240906T220000
DTSTAMP:20260424T193843
CREATED:20240609T200000Z
LAST-MODIFIED:20240719T075252Z
UID:10019105-1725660000-1725660000@disfruta-denia.com
SUMMARY:XXXI Mostra Internacional de Dansa Folklòrica - Agrupación de Proyecciones Folklóricas Alegrías y Tradiciones de Panamá
DESCRIPTION:Actuación de la Agrupación de Proyecciones Folklóricas Alegrías y Tradiciones de Panamá.
URL:https://disfruta-denia.com/evento/xxxi-mostra-internacional-de-dansa-folklorica-agrupacion-de-proyecciones-folkloricas-alegrias-y-tradiciones-de-panama/
LOCATION:Plaza del Consell\, Carrer de la Mar\, Denia\, 03700
CATEGORIES:Cultura,Danza
ATTACH;FMTTYPE=image/jpeg:https://disfruta-denia.com/wp-content/uploads/2024/08/CARTELL-A3-DANSA_Vertical.jpg
END:VEVENT
BEGIN:VEVENT
DTSTART;TZID=Europe/Madrid:20240907T220000
DTEND;TZID=Europe/Madrid:20240907T220000
DTSTAMP:20260424T193843
CREATED:20240709T200000Z
LAST-MODIFIED:20240719T075211Z
UID:10019104-1725746400-1725746400@disfruta-denia.com
SUMMARY:XXXI Mostra Internacional de Dansa Folklòrica - Ballet Flamenco 'Raíces'
DESCRIPTION:Actuación del Ballet Flamenco ‘Raíces’. Direcció i coreografies de José Porcel. Juan Vicente Gil\, guitarra. Manuel Quintero\, percussió.
URL:https://disfruta-denia.com/evento/xxxi-mostra-internacional-de-dansa-folklorica-ballet-flamenco-raices/
LOCATION:Plaza del Consell\, Carrer de la Mar\, Denia\, 03700
CATEGORIES:Cultura,Danza
ATTACH;FMTTYPE=image/jpeg:https://disfruta-denia.com/wp-content/uploads/2024/08/CARTELL-A3-DANSA_Vertical.jpg
END:VEVENT
BEGIN:VEVENT
DTSTART;TZID=Europe/Madrid:20240908T210000
DTEND;TZID=Europe/Madrid:20240908T210000
DTSTAMP:20260424T193843
CREATED:20240909T190000Z
LAST-MODIFIED:20240719T075415Z
UID:10019103-1725829200-1725829200@disfruta-denia.com
SUMMARY:XXXI Mostra Internacional de Dansa Folklòrica - Asociación de Ucranianos en Dénia
DESCRIPTION:Actuación de la Asociación de Ucranianos en Dénia. Grup “Zabava” i Grup infantil “Kvity Ucraïny”. Grup DIANIUM DANSA de Dénia.
URL:https://disfruta-denia.com/evento/xxxi-mostra-internacional-de-dansa-folklorica-asociacion-de-ucranianos-en-denia/
LOCATION:Plaza del Consell\, Carrer de la Mar\, Denia\, 03700
CATEGORIES:Cultura,Danza
ATTACH;FMTTYPE=image/jpeg:https://disfruta-denia.com/wp-content/uploads/2024/08/CARTELL-A3-DANSA_Vertical.jpg
END:VEVENT
BEGIN:VEVENT
DTSTART;TZID=Europe/Madrid:20240911T200000
DTEND;TZID=Europe/Madrid:20240911T233000
DTSTAMP:20260424T193843
CREATED:20230612T102803Z
LAST-MODIFIED:20230612T102804Z
UID:10009003-1726084800-1726097400@disfruta-denia.com
SUMMARY:Autocine: día del espectador
DESCRIPTION:
URL:https://disfruta-denia.com/evento/autocine-dia-del-espectador-3/2024-09-11/
LOCATION:Autociné Denia\, Partida Deveses D\, 27\, Denia\, Alicante\, 03700\, España
CATEGORIES:Ciné,Cultura
ATTACH;FMTTYPE=image/jpeg:https://disfruta-denia.com/wp-content/uploads/2022/11/Autocine-Drive-In-Denia-1.jpg
END:VEVENT
BEGIN:VEVENT
DTSTART;TZID=Europe/Madrid:20240912T113000
DTEND;TZID=Europe/Madrid:20240912T113000
DTSTAMP:20260424T193843
CREATED:20240902T085629Z
LAST-MODIFIED:20240902T085652Z
UID:10019279-1726140600-1726140600@disfruta-denia.com
SUMMARY:CONVIVIUM. UN BANQUETE ROMANO EN DIANIUM
DESCRIPTION:VISITA GUIADA \n\n\n\n\nEl banquete o convivium era una ocasión especial para celebrar algún acontecimiento familiar o festividad importante. Tenía un relevante carácter social\, un momento de entretenimiento y placer alrededor de una buena mesa\, donde se unía la conversación con el gusto culinario\, pero también servía para mostrar la riqueza y posición del anfitrión. \nEn la visita se explicará la vasa escaria\, nombre que recibe el conjunto de mesa\, se dio en la antigüedad romana al conjunto de utensilios de mesa\, a través de los materiales procedentes de las últimas intervenciones arqueológicas desarrolladas en la ciudad romana. \nVISITAS GUIADAS los jueves a las 11.30 horas. \nPUNTO DE ENCUENTRO: puerta de acceso al Museo. Recepción. \nInformación e inscripción: teléfono 966420260\, de lunes a domingo de 10 a 13 horas.
URL:https://disfruta-denia.com/evento/convivium-un-banquete-romano-en-dianium/2024-09-12/
LOCATION:Museo del Mar\, Explanada Cervantes 2\, Dénia\, 03700\, España
CATEGORIES:Cultura,Visita
ATTACH;FMTTYPE=image/jpeg:https://disfruta-denia.com/wp-content/uploads/2024/09/1724672568MARCASTELLA.jpg
END:VEVENT
BEGIN:VEVENT
DTSTART;TZID=Europe/Madrid:20240918T200000
DTEND;TZID=Europe/Madrid:20240918T233000
DTSTAMP:20260424T193843
CREATED:20230612T102803Z
LAST-MODIFIED:20230612T102804Z
UID:10009004-1726689600-1726702200@disfruta-denia.com
SUMMARY:Autocine: día del espectador
DESCRIPTION:
URL:https://disfruta-denia.com/evento/autocine-dia-del-espectador-3/2024-09-18/
LOCATION:Autociné Denia\, Partida Deveses D\, 27\, Denia\, Alicante\, 03700\, España
CATEGORIES:Ciné,Cultura
ATTACH;FMTTYPE=image/jpeg:https://disfruta-denia.com/wp-content/uploads/2022/11/Autocine-Drive-In-Denia-1.jpg
END:VEVENT
BEGIN:VEVENT
DTSTART;TZID=Europe/Madrid:20240920T190000
DTEND;TZID=Europe/Madrid:20240920T190000
DTSTAMP:20260424T193843
CREATED:20240826T105802Z
LAST-MODIFIED:20240827T152306Z
UID:10019254-1726858800-1726858800@disfruta-denia.com
SUMMARY:Teatro: Soledad
DESCRIPTION:SOLEDAD. El tiempo de María. Compañía LaPili. \nDentro del programa JUNTOS\, contra la soledad no deseada\, en la que colaboran el Ayuntamiento de Dénia y Cruz Roja\, el 20 de septiembre se representará en el Centro Social la obra de teatro SOLEDAD. El tiempo de María\, de la compañía LaPili. \nA través de las vivencias\, recuerdos y emociones de María Soledad (basadas en testimonios reales)\, el público se acerca a los sentimientos de una persona en situación de soledad no deseada y a cómo podemos combatir el aislamiento de mucha gente mayor con el voluntariado. \nLa función empezará a las 19 h y la entrada es libre. \n¿Cómo acogernos al programa JUNTOS\, contra la soledad no deseada? \nLas personas interesadas pueden acudir a la Oficina del Mayor (2ª planta del Centro Social). Allí se les dará toda la información y se les derivará a Cruz Roja para hacer la valoración y un plan personalizado de intervención\, que puede incluir servicios como acompañamiento para realizar gestiones y trámites\, actividades diversas para disminuir el sentimiento de soledad\, talleres de prevención del deterioro cognitivo\, actividades lúdicas en períodos festivos y préstamo de productos de apoyo (camas articuladas\, sillas de ruedas)\, entre otros. \n60 min.  en Castellà/castellano. \nEntrada lliure fins a completar l’aforament / Entrada libre hasta completar aforo. \nUna col·laboració entre la Regidoria del Major i la Creu Roja / Una colaboración entre la Concejalía del Mayor y la Cruz Roja. .
URL:https://disfruta-denia.com/evento/teatro-soledad/
LOCATION:Teatro Auditorio Centro Social\, 4 Carrer Calderón\, Dénia\, VC\, 03700\, Spain
CATEGORIES:Cultura,Teatro
ATTACH;FMTTYPE=image/jpeg:https://disfruta-denia.com/wp-content/uploads/2024/08/7102f1.jpeg
ORGANIZER;CN="Denia Cultura":MAILTO:cultura@ayto-denia.es
END:VEVENT
BEGIN:VEVENT
DTSTART;TZID=Europe/Madrid:20240920T193000
DTEND;TZID=Europe/Madrid:20240920T193000
DTSTAMP:20260424T193843
CREATED:20240901T180354Z
LAST-MODIFIED:20240901T180354Z
UID:10019277-1726860600-1726860600@disfruta-denia.com
SUMMARY:Presentación del libro de Just I. Sellés
DESCRIPTION:Presentación del libro La Marina en caiac\, de Just I. Sellés. Con la proyección del documental La Marina: una mar d’històries. \nViernes 20 de septiembre\, a las 19.30 h\, en la Biblioteca Pública (c/ de Sant Josep\, 6)
URL:https://disfruta-denia.com/evento/presentacion-del-libro-de-just-i-selles/
LOCATION:Biblioteca pública Denia\, c/ de Sant Josep\, 6\, Denia\, Alicante\, 03700\, España
CATEGORIES:Charlas y conferencias,Cultura,Presentación
ATTACH;FMTTYPE=image/jpeg:https://disfruta-denia.com/wp-content/uploads/2024/09/cartellDENIABIBLIO_ExtraGrande.jpg
END:VEVENT
BEGIN:VEVENT
DTSTART;TZID=Europe/Madrid:20240922T123000
DTEND;TZID=Europe/Madrid:20240922T143000
DTSTAMP:20260424T193843
CREATED:20240831T102958Z
LAST-MODIFIED:20240831T103121Z
UID:10019271-1727008200-1727015400@disfruta-denia.com
SUMMARY:Fusión de sentidos - degustación a bordo
DESCRIPTION:Navega con una degustación de tapas a bordo\, concierto de música en vivo y la magia de un artista creando pinturas del mar en directo!\nA continuación\, exposición de pinturas en el restaurante Místico del 22 septiembre al 22 de octubre en la plaza del Convent\, 6\, 03700\, Denia.\n• Música: Altea Bues Proyect\n• Restaurante: Místico Restaurante\n• Pintor: Hans Petter Fjugstad
URL:https://disfruta-denia.com/evento/fusion-de-sentidos-degustacion-a-bordo/2024-09-22/
LOCATION:Muelle Mundo Marino\, Esplanada Cervantes\, 23\, Denia\, Alicante\, 03700\, España
CATEGORIES:Cata,Cultura,Excursión,Exposiciones,Gastronomía
ATTACH;FMTTYPE=image/jpeg:https://disfruta-denia.com/wp-content/uploads/2024/08/457361108_1064261152368457_851324482060992919_n.jpg
END:VEVENT
BEGIN:VEVENT
DTSTART;TZID=Europe/Madrid:20240924T080000
DTEND;TZID=Europe/Madrid:20240924T170000
DTSTAMP:20260424T193843
CREATED:20240924T122652Z
LAST-MODIFIED:20240924T122652Z
UID:10019622-1727164800-1727197200@disfruta-denia.com
SUMMARY:INAUGURACIÓ MUSEU
DESCRIPTION:EL MUSEU ARQUEOLÒGIC DE LA CIUTAT DE DÉNIA ESTRENA UN NOU PUNT DE VISTA \nDianivm\, Dāniya\, Dénia… Una ciutat de mar estant \nAntiguas colecciones de la arqueología de ciudad desde una nueva perspectiva museográfica. \nCasa de la Marquesa de Valero de Palma. Carrer de Cavallers\, 3
URL:https://disfruta-denia.com/evento/inauguracio-museu/
LOCATION:Casa de la Marquesa de Valero de Palma\, Carrer de Cavallers\, 3\, Denia\, 03700\, España
CATEGORIES:Cultura,Exposiciones
ORGANIZER;CN="Denia Cultura":MAILTO:cultura@ayto-denia.es
END:VEVENT
BEGIN:VEVENT
DTSTART;TZID=Europe/Madrid:20240925T190000
DTEND;TZID=Europe/Madrid:20240925T190000
DTSTAMP:20260424T193843
CREATED:20240921T174042Z
LAST-MODIFIED:20240921T174042Z
UID:10019612-1727290800-1727290800@disfruta-denia.com
SUMMARY:IX Educando en el presente
DESCRIPTION:“IMPACTO DE LAS TRIC Y EL PAPEL DE LAS FAMILIAS EN LA EDUCACIÓN DIGITAL” \nCon esta sesión se pretende formar a las familias sobre los desafíos y oportunidades que enfrentan los hijos/as en la era digital\, proporcionando estrategias para fomentar una comunicación abierta y efectiva\, sensibilizar sobre los riesgos y beneficios de las TRIC (Tecnologías de la Relación\, Información y Comunicación) y como prevenir su uso inadecuado. Es muy importante la comunicación\, la supervisión y el acompañamiento en la crianza digital. La labor de acompañamiento y supervisión familiar\, tiene que tener en cuenta el impacto de las TRIC y su tiempo de utilización. Tenemos que velar por el desarrollo de habilidades sociales básicas y sobre el tiempo que dedican a realizar actividades esenciales como dormir\, comer\, estudiar\, hacer deporte y socializarse; sin que las TRIC generen dificultades. \nINSCRIPCIÓN PREVIA: Donde constará NOMBRE y APELLIDOS\, CORREO y TELÉFONO. \n\nEscanenado el código QR que podrán encontrar en el cartel\nEnviando un correo a upccadenia@ayto-denia.es\nPor mensaje directo en las redes sociales\, Facebook o Instagram\, de la UPCCA de Dénia (@UPCCAdenia)\nAl teléfono 628 076 449 (Vía Whatsapp
URL:https://disfruta-denia.com/evento/ix-educando-en-el-presente/
LOCATION:Casa de la Cultura Denia\, Plaça Jaume I\, Denia\, Alicante\, 03700\, España
CATEGORIES:Charlas y conferencias,Cultura
ATTACH;FMTTYPE=image/png:https://disfruta-denia.com/wp-content/uploads/2024/09/1725882975IXEDUCANDOENELPRESENTE2024Cast_forCrop-e1726940212717.png
END:VEVENT
BEGIN:VEVENT
DTSTART;TZID=Europe/Madrid:20240926T193000
DTEND;TZID=Europe/Madrid:20240926T193000
DTSTAMP:20260424T193843
CREATED:20240921T173511Z
LAST-MODIFIED:20240921T173511Z
UID:10019611-1727379000-1727379000@disfruta-denia.com
SUMMARY:ACTOS CONMEMORACIÓN 9 DE OCTUBRE: MÁS ALLÁ DE JAUME I
DESCRIPTION:En nuestro ideario colectivo\, la conquista y colonización del territorio valenciano se asocia\, inmediatamente\, con el rey Jaume I. Después del éxito conseguido en Mallorca\, el monarca puso en marcha una empresa para anexionar a sus dominios los territorios en el sur del Ebro. Aun así\, esta iniciativa no fue solos del rey. Un esfuerzo colectivo de hombres y mujeres de todos los segmentos de la sociedad se movilizaron para asegurar la conquista y\, especialmente\, la creación de una nueva sociedad feudal y cristiana en los nuevos territorios. Más allá del rey encontramos otros protagonistas: campesinos\, burgueses\, eclesiásticos\, mercaderes\, nobles y eruditos. La conferencia se centrará en estos otros protagonistas\, empezando por la misma reina Violante de Hungría\, personaje central en muchos momentos de la conquista\, para seguir con estas personas que han quedado a la sombra del rey conquistador. \nLa conferencia será impartida por Lledó Ruiz Domingo\, doctora en Historia. \nMás información y reservas: \nMuseo Enológico de Dénia \n966420260 \nTODAS LAS ACTIVIDADES SE REALIZARÁN EN VALENCIANO
URL:https://disfruta-denia.com/evento/actos-conmemoracion-9-de-octubre-mas-alla-de-jaume-i/
LOCATION:Biblioteca pública Denia\, c/ de Sant Josep\, 6\, Denia\, Alicante\, 03700\, España
CATEGORIES:Charlas y conferencias,Cultura
ATTACH;FMTTYPE=image/png:https://disfruta-denia.com/wp-content/uploads/2024/09/ACTESCOMMEMORACIO9DOCTUBREMESENLLADEJAUMEILACONQUESTADELREGNEDEVALENCIA.DELSCOSTUMSALSFURS1_Mediano.png
END:VEVENT
END:VCALENDAR