BEGIN:VCALENDAR
VERSION:2.0
PRODID:-//Disfruta Denia - ECPv6.15.20//NONSGML v1.0//EN
CALSCALE:GREGORIAN
METHOD:PUBLISH
X-WR-CALNAME:Disfruta Denia
X-ORIGINAL-URL:https://disfruta-denia.com
X-WR-CALDESC:Eventos para Disfruta Denia
REFRESH-INTERVAL;VALUE=DURATION:PT1H
X-Robots-Tag:noindex
X-PUBLISHED-TTL:PT1H
BEGIN:VTIMEZONE
TZID:Europe/Madrid
BEGIN:DAYLIGHT
TZOFFSETFROM:+0100
TZOFFSETTO:+0200
TZNAME:CEST
DTSTART:20240331T010000
END:DAYLIGHT
BEGIN:STANDARD
TZOFFSETFROM:+0200
TZOFFSETTO:+0100
TZNAME:CET
DTSTART:20241027T010000
END:STANDARD
BEGIN:DAYLIGHT
TZOFFSETFROM:+0100
TZOFFSETTO:+0200
TZNAME:CEST
DTSTART:20250330T010000
END:DAYLIGHT
BEGIN:STANDARD
TZOFFSETFROM:+0200
TZOFFSETTO:+0100
TZNAME:CET
DTSTART:20251026T010000
END:STANDARD
BEGIN:DAYLIGHT
TZOFFSETFROM:+0100
TZOFFSETTO:+0200
TZNAME:CEST
DTSTART:20260329T010000
END:DAYLIGHT
BEGIN:STANDARD
TZOFFSETFROM:+0200
TZOFFSETTO:+0100
TZNAME:CET
DTSTART:20261025T010000
END:STANDARD
END:VTIMEZONE
BEGIN:VEVENT
DTSTART;TZID=Europe/Madrid:20250101T200000
DTEND;TZID=Europe/Madrid:20250101T233000
DTSTAMP:20260424T122719
CREATED:20230612T102803Z
LAST-MODIFIED:20230612T102804Z
UID:10009019-1735761600-1735774200@disfruta-denia.com
SUMMARY:Autocine: día del espectador
DESCRIPTION:
URL:https://disfruta-denia.com/evento/autocine-dia-del-espectador-3/2025-01-01/
LOCATION:Autociné Denia\, Partida Deveses D\, 27\, Denia\, Alicante\, 03700\, España
CATEGORIES:Ciné,Cultura
ATTACH;FMTTYPE=image/jpeg:https://disfruta-denia.com/wp-content/uploads/2022/11/Autocine-Drive-In-Denia-1.jpg
END:VEVENT
BEGIN:VEVENT
DTSTART;TZID=Europe/Madrid:20250108T200000
DTEND;TZID=Europe/Madrid:20250108T233000
DTSTAMP:20260424T122719
CREATED:20250107T094841Z
LAST-MODIFIED:20250107T094842Z
UID:10009020-1736366400-1736379000@disfruta-denia.com
SUMMARY:Autocine: día del espectador
DESCRIPTION:
URL:https://disfruta-denia.com/evento/autocine-dia-del-espectador-3-42/
LOCATION:Autociné Denia\, Partida Deveses D\, 27\, Denia\, Alicante\, 03700\, España
CATEGORIES:Ciné,Cultura
ATTACH;FMTTYPE=image/png:https://disfruta-denia.com/wp-content/uploads/2023/06/Rebeldia-Blues-rebeldiablues-•-Instagram-photos-and-videos-01-07-2025_10_47_AM.png
END:VEVENT
BEGIN:VEVENT
DTSTART;TZID=Europe/Madrid:20250112T190000
DTEND;TZID=Europe/Madrid:20250112T190000
DTSTAMP:20260424T122719
CREATED:20241218T174812Z
LAST-MODIFIED:20250110T095052Z
UID:10020358-1736708400-1736708400@disfruta-denia.com
SUMMARY:Cineclub: LA ZONA DE INTERÉS
DESCRIPTION:Dir.: Jonathan Glazer. Regne Unit / Reino Unido\, 2023\, 106’. V.O. en alemany /alemán Subtitulada en castellà / castellano. Recomanada / recomendada + 12 anys / años. \nEntrada 3 €  en   https://www.notikumi.com.Taquilla: el mateix dia una hora abans / el mismo día una hora antes.
URL:https://disfruta-denia.com/evento/cineclub-la-zona-de-interes/
LOCATION:Teatro Auditorio Centro Social\, 4 Carrer Calderón\, Dénia\, VC\, 03700\, Spain
CATEGORIES:Ciné,Cultura
ATTACH;FMTTYPE=image/png:https://disfruta-denia.com/wp-content/uploads/2024/12/unnamed-1.png
END:VEVENT
BEGIN:VEVENT
DTSTART;TZID=Europe/Madrid:20250115T193000
DTEND;TZID=Europe/Madrid:20250115T193000
DTSTAMP:20260424T122719
CREATED:20250110T095247Z
LAST-MODIFIED:20250110T095247Z
UID:10020457-1736969400-1736969400@disfruta-denia.com
SUMMARY:Presentación de libro
DESCRIPTION:
URL:https://disfruta-denia.com/evento/presentacion-de-libro/
LOCATION:Biblioteca pública Denia\, c/ de Sant Josep\, 6\, Denia\, Alicante\, 03700\, España
CATEGORIES:Cultura,Presentación
ATTACH;FMTTYPE=image/png:https://disfruta-denia.com/wp-content/uploads/2025/01/unnamed-2.png
ORGANIZER;CN="Denia Cultura":MAILTO:cultura@ayto-denia.es
END:VEVENT
BEGIN:VEVENT
DTSTART;TZID=Europe/Madrid:20250115T200000
DTEND;TZID=Europe/Madrid:20250115T233000
DTSTAMP:20260424T122719
CREATED:20250113T150309Z
LAST-MODIFIED:20250113T150310Z
UID:10009021-1736971200-1736983800@disfruta-denia.com
SUMMARY:Autocine: día del espectador
DESCRIPTION:
URL:https://disfruta-denia.com/evento/autocine-dia-del-espectador-3-43/
LOCATION:Autociné Denia\, Partida Deveses D\, 27\, Denia\, Alicante\, 03700\, España
CATEGORIES:Ciné,Cultura
ATTACH;FMTTYPE=image/png:https://disfruta-denia.com/wp-content/uploads/2023/06/Rebeldia-Blues-rebeldiablues-•-Instagram-photos-and-videos-01-13-2025_03_59_PM.png
END:VEVENT
BEGIN:VEVENT
DTSTART;VALUE=DATE:20250116
DTEND;VALUE=DATE:20250317
DTSTAMP:20260424T122719
CREATED:20250109T082532Z
LAST-MODIFIED:20250109T082532Z
UID:10020450-1737000000-1742097599@disfruta-denia.com
SUMMARY:Expo: Mi Mar
DESCRIPTION:despues del gran exito obtenido en Valencia\, se inaugurará en Dénia el proximo sábado 18 de Enero.\nLa exposición de la pintora italiana afincada en Dénia\, Valeria Oliva\, se quedará en el restaurante Con Alma hasta al 15 de Marzo.\nLos lienzos representan un tributo a los mares y a la necesidad de cuidarlos.
URL:https://disfruta-denia.com/evento/expo-mi-mar/
LOCATION:Con Alma\, Carrer Gabriel Moreno 23\, Dénia\, 03700\, España
CATEGORIES:Cultura,Exposiciones
ATTACH;FMTTYPE=image/jpeg:https://disfruta-denia.com/wp-content/uploads/2025/01/IMG_4898.jpg
END:VEVENT
BEGIN:VEVENT
DTSTART;VALUE=DATE:20250117
DTEND;VALUE=DATE:20250218
DTSTAMP:20260424T122719
CREATED:20241218T173432Z
LAST-MODIFIED:20241218T173432Z
UID:10020360-1737086400-1739764799@disfruta-denia.com
SUMMARY:Expo: El món màgic de Toni Mahiques Lattur
DESCRIPTION:Inauguració dia / inauguración día  17 – 19 h  \nHorari/horario: \nDilluns a dissabte / lunes a sábado:  10 – 14 h / 16 – 19 h. Diumenges i festius / Domingos y festivos: 9 a 15 h
URL:https://disfruta-denia.com/evento/expo-el-mon-magic-de-toni-mahiques-lattur/
LOCATION:Centre d’art l’Estació\, Carrer Calderón\, 2\, Denia\, Alicante\, 03700\, España
CATEGORIES:Cultura,Exposiciones
ATTACH;FMTTYPE=image/png:https://disfruta-denia.com/wp-content/uploads/2024/12/4-Expo-Toni-Mahiques-Lattur.png
ORGANIZER;CN="Denia Cultura":MAILTO:cultura@ayto-denia.es
END:VEVENT
BEGIN:VEVENT
DTSTART;TZID=Europe/Madrid:20250117T193000
DTEND;TZID=Europe/Madrid:20250117T193000
DTSTAMP:20260424T122719
CREATED:20250110T095442Z
LAST-MODIFIED:20250110T095442Z
UID:10020458-1737142200-1737142200@disfruta-denia.com
SUMMARY:Presentación-recital del libro El Gran Baile o al carajo
DESCRIPTION:Presentación-recital del libro El Gran Baile o al carajo\, de Pau Soler Roselló\, poeta y documentalista social y ambiental
URL:https://disfruta-denia.com/evento/presentacion-recital-del-libro-el-gran-baile-o-al-carajo/
LOCATION:Biblioteca pública Denia\, c/ de Sant Josep\, 6\, Denia\, Alicante\, 03700\, España
CATEGORIES:Cultura,Música,Presentación
ATTACH;FMTTYPE=image/png:https://disfruta-denia.com/wp-content/uploads/2025/01/unnamed-3.png
END:VEVENT
BEGIN:VEVENT
DTSTART;TZID=Europe/Madrid:20250119T103000
DTEND;TZID=Europe/Madrid:20250119T103000
DTSTAMP:20260424T122719
CREATED:20241218T171647Z
LAST-MODIFIED:20241218T171647Z
UID:10020362-1737282600-1737282600@disfruta-denia.com
SUMMARY:Visita en familia: ELS PLAFONS CERÀMICS DEVOCIONALS DE LA CIUTAT DE DÉNIA
DESCRIPTION:Visita guiada. Punt d’Encontre: 10.30 h. C/ de Sant Narcís\, núm. 3\, davant la porta del Convent.  \nInformación y reservas: Museo Etnológico de Dénia\, 966420260. De martes a domingo\, de 10 h a 13 h. Visita con guía experto. Dificultad media.
URL:https://disfruta-denia.com/evento/visita-en-familia-els-plafons-ceramics-devocionals-de-la-ciutat-de-denia/
LOCATION:Denia\, Denia\, Alicante\, 03700\, España
CATEGORIES:Cultura,Visita
ATTACH;FMTTYPE=image/png:https://disfruta-denia.com/wp-content/uploads/2024/12/1-FAMILIA.png
END:VEVENT
BEGIN:VEVENT
DTSTART;TZID=Europe/Madrid:20250119T190000
DTEND;TZID=Europe/Madrid:20250119T190000
DTSTAMP:20260424T122719
CREATED:20241218T171522Z
LAST-MODIFIED:20250110T095553Z
UID:10020363-1737313200-1737313200@disfruta-denia.com
SUMMARY:Cineclub: DISPARARON AL PIANISTA
DESCRIPTION:Dir.: Fernando Trueba i Javier Mariscal. Espanya/España\,  2023\, 103’.  \nV.O. en castellà\, anglès\, i portuguès / castellano\, inglés y portugués\,  subtitulada en castellà / castellano. Recomanada / recomendada +  12 anys / años. \nEntrada 3 € en   https://www.notikumi.com.Taquilla: el mateix dia una hora abans/ el mismo día una hora antes.
URL:https://disfruta-denia.com/evento/cineclub-dispararon-al-pianista/
LOCATION:Teatro Auditorio Centro Social\, 4 Carrer Calderón\, Dénia\, VC\, 03700\, Spain
CATEGORIES:Ciné,Cultura
ATTACH;FMTTYPE=image/png:https://disfruta-denia.com/wp-content/uploads/2024/12/unnamed-4.png
END:VEVENT
BEGIN:VEVENT
DTSTART;TZID=Europe/Madrid:20250122T200000
DTEND;TZID=Europe/Madrid:20250122T233000
DTSTAMP:20260424T122719
CREATED:20250121T065854Z
LAST-MODIFIED:20250121T065855Z
UID:10009022-1737576000-1737588600@disfruta-denia.com
SUMMARY:Autocine: día del espectador
DESCRIPTION:
URL:https://disfruta-denia.com/evento/autocine-dia-del-espectador-3-44/
LOCATION:Autociné Denia\, Partida Deveses D\, 27\, Denia\, Alicante\, 03700\, España
CATEGORIES:Ciné,Cultura
ATTACH;FMTTYPE=image/png:https://disfruta-denia.com/wp-content/uploads/2023/06/Rebeldia-Blues-rebeldiablues-•-Instagram-photos-and-videos-01-21-2025_07_56_AM.png
END:VEVENT
BEGIN:VEVENT
DTSTART;TZID=Europe/Madrid:20250125T200000
DTEND;TZID=Europe/Madrid:20250125T213000
DTSTAMP:20260424T122719
CREATED:20241218T151054Z
LAST-MODIFIED:20241218T151054Z
UID:10020364-1737835200-1737840600@disfruta-denia.com
SUMMARY:Teatro: EL PERFUME DEL TIEMPO
DESCRIPTION:Sinopsis:  \nBuenos Aires\, 2010. Héctor Kessler\, un médico militar jubilado\, vive su retiro elaborando perfumes caseros como afición. Sus dos hijos\, ya independientes\, le visitan frecuentemente con la intención de sacarle de su encierro. \nParalelamente aparece Sofía Timmerman\, una mujer perteneciente a las llamadas “abuelas de Plaza de Mayo”\, que inician una nueva campaña para localizar a los niños robados durante la dictadura militar del General Videla\, a finales de los años 70. \nAmbas historias se entrelazan y llegan a converger\, cambiando drásticamente la vida de sus protagonistas. El pasado vuelve a cobrar importancia y trataremos de descubrir qué es verdad y qué mentira en esta pequeña historia de seres anónimos\, pero tan reales como la propia tragedia que les ha tocado vivir. \nEn castellà/castellano. 80‘\, + 16 anys/años. \n  \nENTRADA 10 € en  \nhttps://www.notikumi.com   \nTaquilla: el mateix dia una hora abans / el mismo día una hora antes.
URL:https://disfruta-denia.com/evento/teatro-el-perfume-del-tiempo-2/
LOCATION:Teatro Auditorio Centro Social\, 4 Carrer Calderón\, Dénia\, VC\, 03700\, Spain
CATEGORIES:Cultura,Teatro
ATTACH;FMTTYPE=image/png:https://disfruta-denia.com/wp-content/uploads/2024/12/5-El-perfume-del-tiempo.png
ORGANIZER;CN="Denia Cultura":MAILTO:cultura@ayto-denia.es
END:VEVENT
BEGIN:VEVENT
DTSTART;TZID=Europe/Madrid:20250126T120000
DTEND;TZID=Europe/Madrid:20250126T131500
DTSTAMP:20260424T122719
CREATED:20241218T135951Z
LAST-MODIFIED:20241218T135951Z
UID:10020365-1737892800-1737897300@disfruta-denia.com
SUMMARY:Cine en familia: LA MEUA MARE ÉS UNA GORIL·LA
DESCRIPTION:Any 2021\, 75’. En valencià / valenciano. Recomanada/ Recomendada  Infantil i/y 1r cicle de Primària.  \nEntrada: lliure fins a completar aforament / libre hasta completar aforo
URL:https://disfruta-denia.com/evento/cine-en-familia-la-meua-mare-es-una-goril%c2%b7la/
LOCATION:Teatro Auditorio Centro Social\, 4 Carrer Calderón\, Dénia\, VC\, 03700\, Spain
CATEGORIES:Ciné,Cultura
ATTACH;FMTTYPE=image/png:https://disfruta-denia.com/wp-content/uploads/2024/12/1-FAMILIA.png
ORGANIZER;CN="Denia Cultura":MAILTO:cultura@ayto-denia.es
END:VEVENT
BEGIN:VEVENT
DTSTART;TZID=Europe/Madrid:20250126T190000
DTEND;TZID=Europe/Madrid:20250126T203000
DTSTAMP:20260424T122719
CREATED:20241218T133805Z
LAST-MODIFIED:20241218T133805Z
UID:10020366-1737918000-1737923400@disfruta-denia.com
SUMMARY:Cineclub: LA MEMORIA INFINITA
DESCRIPTION:Dir.: Maite Alberdi. Xile / Chile\, 2023\, 85’. V.O. en castellà / castellano.   \nRecomanat / recomendado + 12 anys / años. \nEntrada 3 € en  https://www.notikumi.com. En taquilla: el mateix dia una hora abans/ el mismo día una hora antes.
URL:https://disfruta-denia.com/evento/cineclub-la-memoria-infinita/
LOCATION:Teatro Auditorio Centro Social\, 4 Carrer Calderón\, Dénia\, VC\, 03700\, Spain
CATEGORIES:Ciné,Cultura
ATTACH;FMTTYPE=image/png:https://disfruta-denia.com/wp-content/uploads/2024/12/2-CINECLUB-GENERAL.png
ORGANIZER;CN="Denia Cultura":MAILTO:cultura@ayto-denia.es
END:VEVENT
BEGIN:VEVENT
DTSTART;TZID=Europe/Madrid:20250129T200000
DTEND;TZID=Europe/Madrid:20250129T233000
DTSTAMP:20260424T122719
CREATED:20230612T102803Z
LAST-MODIFIED:20230612T102804Z
UID:10009023-1738180800-1738193400@disfruta-denia.com
SUMMARY:Autocine: día del espectador
DESCRIPTION:
URL:https://disfruta-denia.com/evento/autocine-dia-del-espectador-3/2025-01-29/
LOCATION:Autociné Denia\, Partida Deveses D\, 27\, Denia\, Alicante\, 03700\, España
CATEGORIES:Ciné,Cultura
ATTACH;FMTTYPE=image/jpeg:https://disfruta-denia.com/wp-content/uploads/2022/11/Autocine-Drive-In-Denia-1.jpg
END:VEVENT
BEGIN:VEVENT
DTSTART;TZID=Europe/Madrid:20250131T193000
DTEND;TZID=Europe/Madrid:20250131T210000
DTSTAMP:20260424T122719
CREATED:20241218T133557Z
LAST-MODIFIED:20241218T133557Z
UID:10020368-1738351800-1738357200@disfruta-denia.com
SUMMARY:Joaquín Araújo “Naturaleza y educación”
DESCRIPTION:Naturalista\, escritor\, ensayista\, agricultor\, periodista ambiental\, realizador\, guionista. \nUna vida dedicada a la divulgación y defensa del mundo natural para mostrar a la sociedad la importancia del medio ambiente en la vida cotidiana.  \nEntrada:  lliure fins a completar aforament / libre hasta completar aforo. En castellà/en castellano. \nOrganitza / Organiza: Ajuntament de Dénia. Medi Ambient. \n  \nConferencia. Entrada libre hasta completar aforo.
URL:https://disfruta-denia.com/evento/joaquin-araujo-naturaleza-y-educacion/
LOCATION:Teatro Auditorio Centro Social\, 4 Carrer Calderón\, Dénia\, VC\, 03700\, Spain
CATEGORIES:Charlas y conferencias,Cultura
ATTACH;FMTTYPE=image/png:https://disfruta-denia.com/wp-content/uploads/2024/12/7-ARAUJO-31-gener.png
END:VEVENT
END:VCALENDAR