BEGIN:VCALENDAR
VERSION:2.0
PRODID:-//Disfruta Denia - ECPv6.15.20//NONSGML v1.0//EN
CALSCALE:GREGORIAN
METHOD:PUBLISH
X-ORIGINAL-URL:https://disfruta-denia.com
X-WR-CALDESC:Eventos para Disfruta Denia
REFRESH-INTERVAL;VALUE=DURATION:PT1H
X-Robots-Tag:noindex
X-PUBLISHED-TTL:PT1H
BEGIN:VTIMEZONE
TZID:Europe/Madrid
BEGIN:DAYLIGHT
TZOFFSETFROM:+0100
TZOFFSETTO:+0200
TZNAME:CEST
DTSTART:20240331T010000
END:DAYLIGHT
BEGIN:STANDARD
TZOFFSETFROM:+0200
TZOFFSETTO:+0100
TZNAME:CET
DTSTART:20241027T010000
END:STANDARD
BEGIN:DAYLIGHT
TZOFFSETFROM:+0100
TZOFFSETTO:+0200
TZNAME:CEST
DTSTART:20250330T010000
END:DAYLIGHT
BEGIN:STANDARD
TZOFFSETFROM:+0200
TZOFFSETTO:+0100
TZNAME:CET
DTSTART:20251026T010000
END:STANDARD
BEGIN:DAYLIGHT
TZOFFSETFROM:+0100
TZOFFSETTO:+0200
TZNAME:CEST
DTSTART:20260329T010000
END:DAYLIGHT
BEGIN:STANDARD
TZOFFSETFROM:+0200
TZOFFSETTO:+0100
TZNAME:CET
DTSTART:20261025T010000
END:STANDARD
END:VTIMEZONE
BEGIN:VEVENT
DTSTART;VALUE=DATE:20250313
DTEND;VALUE=DATE:20250414
DTSTAMP:20260424T072328
CREATED:20250306T093008Z
LAST-MODIFIED:20250306T093008Z
UID:10020545-1741838400-1744516799@disfruta-denia.com
SUMMARY:Exposición: BAJO LA PIEL
DESCRIPTION:Exposició de pintura BAJO LA PIEL\, de ROBERTO CALVO \nHorari/horario: laborables 11 – 14 h / 17 – 21 h. Dissabte/sábado 10 – 13.30 h 
URL:https://disfruta-denia.com/evento/exposicion-bajo-la-piel/
LOCATION:Casa de la Cultura Denia\, Plaça Jaume I\, Denia\, Alicante\, 03700\, España
CATEGORIES:Cultura,Exposiciones
ATTACH;FMTTYPE=image/png:https://disfruta-denia.com/wp-content/uploads/2025/03/10-Expo-Roberto-Calvo-1.png
END:VEVENT
BEGIN:VEVENT
DTSTART;VALUE=DATE:20250314
DTEND;VALUE=DATE:20250408
DTSTAMP:20260424T072328
CREATED:20250306T093439Z
LAST-MODIFIED:20250306T101517Z
UID:10020547-1741924800-1743998399@disfruta-denia.com
SUMMARY:Exposición DEL PINZELL A LA GRANERA
DESCRIPTION:Centenari d’Inés Bas i Nebot (1925-2025) \nInauguració dia 14- 19 h  \nHorari/horario: \nDilluns a dissabte / lunes a sábado:  10 – 14 h / 16 – 19 h. Diumenges i festius / Domingos y festivos: 9 a 15 h
URL:https://disfruta-denia.com/evento/exposicion-del-pinzell-a-la-granera/
LOCATION:Centre d’art l’Estació\, Carrer Calderón\, 2\, Denia\, Alicante\, 03700\, España
CATEGORIES:Cultura,Exposiciones
ATTACH;FMTTYPE=image/png:https://disfruta-denia.com/wp-content/uploads/2025/03/5-Expo-Ines-Bas-1.png
END:VEVENT
BEGIN:VEVENT
DTSTART;VALUE=DATE:20250320
DTEND;VALUE=DATE:20250407
DTSTAMP:20260424T072328
CREATED:20250306T093936Z
LAST-MODIFIED:20250306T093936Z
UID:10020549-1742443200-1743911999@disfruta-denia.com
SUMMARY:Expo: BUNDLES
DESCRIPTION:BUNDLES de GARY COOK. Escultura. \nInauguració dia 20-19 h \nHorari/horario: laborables 11 – 14 h / 17 – 21 h. Dissabte/sábado 10 – 13.30 h 
URL:https://disfruta-denia.com/evento/expo-bundles/
LOCATION:Casa de la Cultura Denia\, Plaça Jaume I\, Denia\, Alicante\, 03700\, España
CATEGORIES:Cultura,Exposiciones
ATTACH;FMTTYPE=image/png:https://disfruta-denia.com/wp-content/uploads/2025/03/13-EXPO-GARY-COOK-1.png
END:VEVENT
BEGIN:VEVENT
DTSTART;TZID=Europe/Madrid:20250402T200000
DTEND;TZID=Europe/Madrid:20250402T233000
DTSTAMP:20260424T072328
CREATED:20230612T102803Z
LAST-MODIFIED:20230612T102804Z
UID:10009032-1743624000-1743636600@disfruta-denia.com
SUMMARY:Autocine: día del espectador
DESCRIPTION:
URL:https://disfruta-denia.com/evento/autocine-dia-del-espectador-3/2025-04-02/
LOCATION:Autociné Denia\, Partida Deveses D\, 27\, Denia\, Alicante\, 03700\, España
CATEGORIES:Ciné,Cultura
ATTACH;FMTTYPE=image/jpeg:https://disfruta-denia.com/wp-content/uploads/2022/11/Autocine-Drive-In-Denia-1.jpg
END:VEVENT
BEGIN:VEVENT
DTSTART;TZID=Europe/Madrid:20250404T200000
DTEND;TZID=Europe/Madrid:20250404T200000
DTSTAMP:20260424T072328
CREATED:20250318T111250Z
LAST-MODIFIED:20250318T111250Z
UID:10020564-1743796800-1743796800@disfruta-denia.com
SUMMARY:Teatro: FOSA\, Memoria de un amor
DESCRIPTION:FOSA es una historia imposible. La historia de un hombre y una mujer que pagaron con su vida las rencillas de una patria dividida en la que el odio imperaba y el homicidio adquiría el rango de justicia. Es el cuento\, al fin y al cabo\, que escuchan los nietos o bisnietos sobre aquel tío o tía o primo o prima que enterró en el olvido la guerra civil española.  \nEl cuento que nos cuenta la vieja memoria para desenterrar un nuevo recuerdo. Un cuento sepultado en una fosa\, junto a tantos y tantos cuentos… \nEn castellà / castellano. \nEntrada: 10 € en https://www.notikumi.com  Taquilla: el mateix dia una hora abans / el mismo día una hora antes.  
URL:https://disfruta-denia.com/evento/teatro-fosa-memoria-de-un-amor/
LOCATION:Teatro Auditorio Centro Social\, 4 Carrer Calderón\, Dénia\, VC\, 03700\, Spain
CATEGORIES:Cultura,Teatro
ATTACH;FMTTYPE=image/png:https://disfruta-denia.com/wp-content/uploads/2025/03/1-FOSA.png
ORGANIZER;CN="Denia Cultura":MAILTO:cultura@ayto-denia.es
END:VEVENT
BEGIN:VEVENT
DTSTART;TZID=Europe/Madrid:20250406T120000
DTEND;TZID=Europe/Madrid:20250406T120000
DTSTAMP:20260424T072328
CREATED:20250319T100514Z
LAST-MODIFIED:20250319T100514Z
UID:10020581-1743940800-1743940800@disfruta-denia.com
SUMMARY:Teatro en familia: CROMA. Una història dibuixada
DESCRIPTION:Croma se comunica con dibujos y colores y así es como nos contará su viaje: de cómo voló encima de una urraca\, bailar con los insectos y hablar con las medusas para encontrar su nueva casa. \nCroma es una historia dibujada en directo y colorida con pinceles y muchos cubos de pintura que llenan la escena de imaginación\, expresión plástica y poesía. \nA partir de 3 anys /años.  55’. En valencià/valenciano. \nEntrada: lliure limitada a l’aforament del local/ libre limitada al aforo del local.
URL:https://disfruta-denia.com/evento/teatro-en-familia-croma-una-historia-dibuixada/
LOCATION:Teatro Auditorio Centro Social\, 4 Carrer Calderón\, Dénia\, VC\, 03700\, Spain
CATEGORIES:Cultura,Teatro
ATTACH;FMTTYPE=image/png:https://disfruta-denia.com/wp-content/uploads/2025/03/5-familia.-Croma.png
ORGANIZER;CN="Denia Cultura":MAILTO:cultura@ayto-denia.es
END:VEVENT
BEGIN:VEVENT
DTSTART;TZID=Europe/Madrid:20250406T190000
DTEND;TZID=Europe/Madrid:20250406T190000
DTSTAMP:20260424T072328
CREATED:20250319T100617Z
LAST-MODIFIED:20250319T100617Z
UID:10020582-1743966000-1743966000@disfruta-denia.com
SUMMARY:Cineclub: El mal no existe
DESCRIPTION:Dir.: Ryûsuke Hamaguchi. Japó/Japón\, 2023\, 111 min. V.O en japonés. \nSubtitulada en castellà /castellano.   + 12 anys / años. \nAbans de la pel·lícula es projectarà el curt /antes de la película se proyectará el corto “Confirmación”\, Dir.: Olga Melero\, 2024\, 3 min. \nEntrada 3 € en  https://www.notikumi.com. Taquilla: el mateix dia una hora abans / el mismo día una hora antes.
URL:https://disfruta-denia.com/evento/cineclub-el-mal-no-existe/
LOCATION:Teatro Auditorio Centro Social\, 4 Carrer Calderón\, Dénia\, VC\, 03700\, Spain
CATEGORIES:Ciné,Cultura
ATTACH;FMTTYPE=image/jpeg:https://disfruta-denia.com/wp-content/uploads/2025/03/El-mal-no-existe.jpg
END:VEVENT
BEGIN:VEVENT
DTSTART;TZID=Europe/Madrid:20250409T200000
DTEND;TZID=Europe/Madrid:20250409T233000
DTSTAMP:20260424T072328
CREATED:20230612T102803Z
LAST-MODIFIED:20230612T102804Z
UID:10009033-1744228800-1744241400@disfruta-denia.com
SUMMARY:Autocine: día del espectador
DESCRIPTION:
URL:https://disfruta-denia.com/evento/autocine-dia-del-espectador-3/2025-04-09/
LOCATION:Autociné Denia\, Partida Deveses D\, 27\, Denia\, Alicante\, 03700\, España
CATEGORIES:Ciné,Cultura
ATTACH;FMTTYPE=image/jpeg:https://disfruta-denia.com/wp-content/uploads/2022/11/Autocine-Drive-In-Denia-1.jpg
END:VEVENT
BEGIN:VEVENT
DTSTART;VALUE=DATE:20250410
DTEND;VALUE=DATE:20250505
DTSTAMP:20260424T072328
CREATED:20250319T100730Z
LAST-MODIFIED:20250319T100730Z
UID:10020583-1744257600-1746331199@disfruta-denia.com
SUMMARY:Expo: DESAPARECIENDO
DESCRIPTION:DESAPARECIENDO de MARÍA BALIBREA \nHorari/horario: laborables 11 – 14 h / 17 – 21 h. Dissabte/sábado 10 – 13.30 h
URL:https://disfruta-denia.com/evento/expo-desapareciendo/
LOCATION:Casa de la Cultura Denia\, Plaça Jaume I\, Denia\, Alicante\, 03700\, España
CATEGORIES:Cultura,Exposiciones
ATTACH;FMTTYPE=image/png:https://disfruta-denia.com/wp-content/uploads/2025/03/8-Expo-Maria-Balibrea.png
ORGANIZER;CN="Denia Cultura":MAILTO:cultura@ayto-denia.es
END:VEVENT
BEGIN:VEVENT
DTSTART;TZID=Europe/Madrid:20250412T120000
DTEND;TZID=Europe/Madrid:20250412T120000
DTSTAMP:20260424T072328
CREATED:20250319T100929Z
LAST-MODIFIED:20250319T100929Z
UID:10020584-1744459200-1744459200@disfruta-denia.com
SUMMARY:Presentación del libro: Los Reflejos del Agua
DESCRIPTION:LOS REFLEJOS DEL AGUA de Vicente Barberá Albalat.   \nOrganitza / organiza: Poetes per la cultura. \nEntrada:  lliure fins a completar aforament / libre hasta completar aforo.
URL:https://disfruta-denia.com/evento/presentacion-del-libro-los-reflejos-del-agua/
LOCATION:Casa de la Cultura Denia\, Plaça Jaume I\, Denia\, Alicante\, 03700\, España
CATEGORIES:Cultura,Presentación
ATTACH;FMTTYPE=image/png:https://disfruta-denia.com/wp-content/uploads/2025/03/11-llibre-los-reflejos-del-agua.png
ORGANIZER;CN="Denia Cultura":MAILTO:cultura@ayto-denia.es
END:VEVENT
BEGIN:VEVENT
DTSTART;TZID=Europe/Madrid:20250412T200000
DTEND;TZID=Europe/Madrid:20250412T200000
DTSTAMP:20260424T072328
CREATED:20250321T101026Z
LAST-MODIFIED:20250321T101026Z
UID:10020585-1744488000-1744488000@disfruta-denia.com
SUMMARY:Teatro: MAQUIAVELO
DESCRIPTION:Dir.: Pedro Luis López Bellot \nActor: José Vicente Moirón \nText/texto: Chema Cardeña \n¿Cómo se obtiene el poder?  ¿Cómo conservarlo? \nCentrado en la figura de un presidente del gobierno que aplica distintas estrategias para permanecer en el poder guiado por las premisas planteadas por Nicolás Maquiavelo en su tratado ‘El príncipe’ (1513). \nUna experiencia teatral cautivadora para reflexionar sobre dilemas morales y políticos sumergiendo al público en \nun apasionante thriller que explora temas como la ética\, la moralidad y la responsabilidad en el ejercicio del poder. \nEntrada: 10 €   \n https://www.notikumi.com \nTaquilla: el mateix dia una hora abans / el mismo día una hora antes.   \nObra en castellà / castellano
URL:https://disfruta-denia.com/evento/teatro-maquiavelo/
LOCATION:Teatro Auditorio Centro Social\, 4 Carrer Calderón\, Dénia\, VC\, 03700\, Spain
CATEGORIES:Cultura,Teatro
ATTACH;FMTTYPE=image/png:https://disfruta-denia.com/wp-content/uploads/2025/03/12-Maquiavelo.png
END:VEVENT
BEGIN:VEVENT
DTSTART;TZID=Europe/Madrid:20250413T120000
DTEND;TZID=Europe/Madrid:20250413T120000
DTSTAMP:20260424T072328
CREATED:20250321T101307Z
LAST-MODIFIED:20250321T101307Z
UID:10020587-1744545600-1744545600@disfruta-denia.com
SUMMARY:DANSES POPULARS VALENCIANES
DESCRIPTION:DANZAS POPULARES VALENCIANAS con el Grupo de infantil de Dianium Dansa y dulzaina y tambor.
URL:https://disfruta-denia.com/evento/danses-populars-valencianes/
LOCATION:Carrer del Marqués de Campo\, Carrer del Marqués de Campo\, Denia\, Alicante\, 03700\, España
CATEGORIES:Cultura,Danza
ATTACH;FMTTYPE=image/png:https://disfruta-denia.com/wp-content/uploads/2025/03/13-DANSES-VALENCIANES.png
END:VEVENT
BEGIN:VEVENT
DTSTART;TZID=Europe/Madrid:20250413T173000
DTEND;TZID=Europe/Madrid:20250413T193000
DTSTAMP:20260424T072328
CREATED:20250321T101200Z
LAST-MODIFIED:20250321T101200Z
UID:10020586-1744565400-1744572600@disfruta-denia.com
SUMMARY:MÀSTERCLASS DANSA
DESCRIPTION:Con el profesor RAFA DARDER (Profesor del Conservatorio profesional de Danza Valencia).
URL:https://disfruta-denia.com/evento/masterclass-dansa/
LOCATION:Plaza del Consell\, Carrer de la Mar\, Denia\, 03700
CATEGORIES:Cultura,Danza
END:VEVENT
BEGIN:VEVENT
DTSTART;TZID=Europe/Madrid:20250416T193000
DTEND;TZID=Europe/Madrid:20250416T193000
DTSTAMP:20260424T072328
CREATED:20250321T101724Z
LAST-MODIFIED:20250321T101724Z
UID:10020589-1744831800-1744831800@disfruta-denia.com
SUMMARY:Documental: LOS 42 DE SEPTFONDS
DESCRIPTION:Xarrada/charla: “Memòria escrita. Els documents personals de l’arxiu de Dénia”\, per Rosa Seser\, arxivera municipal. \nL’organització d’un fons d’arxiu de l’Ajuntament de Septfonds (Occitània) descobreix el trist final d’un grup de republicans exiliats a França\, morts al camp de concentració local. Un còmic i este documental donen a conéixer la història. \nVeurem la importància dels documents i dels arxius\, guardians de la memòria.  \n  \nLa organización de un fondo de archivo del Ayuntamiento de Septfonds (Occitania) descubre el triste final de un grupo de republicanos exiliados en Francia\, muertos en el campo de concentración local. Un cómico y este documental dan a conocer la historia. \nVeremos la importancia de los documentos y de los archivos\, guardianes de la memoria. \nEntrada: lliure limitada a l’aforament del local / limitada al aforo del local. 
URL:https://disfruta-denia.com/evento/documental-los-42-de-septfonds/
LOCATION:Biblioteca pública Denia\, c/ de Sant Josep\, 6\, Denia\, Alicante\, 03700\, España
CATEGORIES:Charlas y conferencias,Cultura,Presentación
END:VEVENT
BEGIN:VEVENT
DTSTART;TZID=Europe/Madrid:20250416T200000
DTEND;TZID=Europe/Madrid:20250416T233000
DTSTAMP:20260424T072328
CREATED:20230612T102803Z
LAST-MODIFIED:20230612T102804Z
UID:10009034-1744833600-1744846200@disfruta-denia.com
SUMMARY:Autocine: día del espectador
DESCRIPTION:
URL:https://disfruta-denia.com/evento/autocine-dia-del-espectador-3/2025-04-16/
LOCATION:Autociné Denia\, Partida Deveses D\, 27\, Denia\, Alicante\, 03700\, España
CATEGORIES:Ciné,Cultura
ATTACH;FMTTYPE=image/jpeg:https://disfruta-denia.com/wp-content/uploads/2022/11/Autocine-Drive-In-Denia-1.jpg
END:VEVENT
BEGIN:VEVENT
DTSTART;TZID=Europe/Madrid:20250423T193000
DTEND;TZID=Europe/Madrid:20250423T193000
DTSTAMP:20260424T072328
CREATED:20250321T101457Z
LAST-MODIFIED:20250321T101457Z
UID:10020588-1745436600-1745436600@disfruta-denia.com
SUMMARY:Homenatge a Vicent Balaguer
DESCRIPTION:El Día del Libro queremos recordar a Vicent Balaguer\, siempre vinculado a la cultura y a su Dénia. \nXiquets dels anys difícils \, publicada en 1978\, fue una obra pionera de la memoria democrática. Balaguer retrató su niñez en la Dénia de la República\, de la Guerra Civil y de la inmediata Posguerra. Un texto de gran amenidad para todos los públicos. \nEntrada: lliure limitada a l’aforament del local / libre limitada al aforo del local.          
URL:https://disfruta-denia.com/evento/homenatge-a-vicent-balaguer/
LOCATION:Biblioteca pública Denia\, c/ de Sant Josep\, 6\, Denia\, Alicante\, 03700\, España
CATEGORIES:Cultura,Presentación
END:VEVENT
BEGIN:VEVENT
DTSTART;TZID=Europe/Madrid:20250423T200000
DTEND;TZID=Europe/Madrid:20250423T233000
DTSTAMP:20260424T072328
CREATED:20230612T102803Z
LAST-MODIFIED:20230612T102804Z
UID:10009035-1745438400-1745451000@disfruta-denia.com
SUMMARY:Autocine: día del espectador
DESCRIPTION:
URL:https://disfruta-denia.com/evento/autocine-dia-del-espectador-3/2025-04-23/
LOCATION:Autociné Denia\, Partida Deveses D\, 27\, Denia\, Alicante\, 03700\, España
CATEGORIES:Ciné,Cultura
ATTACH;FMTTYPE=image/jpeg:https://disfruta-denia.com/wp-content/uploads/2022/11/Autocine-Drive-In-Denia-1.jpg
END:VEVENT
BEGIN:VEVENT
DTSTART;TZID=Europe/Madrid:20250426T200000
DTEND;TZID=Europe/Madrid:20250426T200000
DTSTAMP:20260424T072328
CREATED:20250321T101933Z
LAST-MODIFIED:20250321T101933Z
UID:10020591-1745697600-1745697600@disfruta-denia.com
SUMMARY:JOVE BALLET DE LA MARINA
DESCRIPTION:JOVE BALLET DE LA MARINA (JBM) \nEntrada: 5 € en  \n https://www.notikumi.com \nTaquilla: el mateix dia una hora abans / el mismo día una hora antes.
URL:https://disfruta-denia.com/evento/jove-ballet-de-la-marina/
LOCATION:Teatro Auditorio Centro Social\, 4 Carrer Calderón\, Dénia\, VC\, 03700\, Spain
CATEGORIES:Cultura,Danza
ATTACH;FMTTYPE=image/png:https://disfruta-denia.com/wp-content/uploads/2025/03/14-DANSA-CONTEMPORANIA.png
END:VEVENT
BEGIN:VEVENT
DTSTART;TZID=Europe/Madrid:20250427T190000
DTEND;TZID=Europe/Madrid:20250427T190000
DTSTAMP:20260424T072328
CREATED:20250321T102208Z
LAST-MODIFIED:20250321T102208Z
UID:10020593-1745780400-1745780400@disfruta-denia.com
SUMMARY:Cineclub: Marco
DESCRIPTION:Dir.: Aitor Arregi\, Jon Garaño. Espanya / España\, 2024\, 98 min. V.O en castellà i català / castellano y catalán. Subtitulada al castellà / castellano.   + 12 anys /años.  \nDins del cicle “Memòria i Futur. Jornades de memòria democràtica. Dénia 2025” \nEntrada 3 € en  \nhttps://www.notikumi.com
URL:https://disfruta-denia.com/evento/cineclub-marco/
LOCATION:Teatro Auditorio Centro Social\, 4 Carrer Calderón\, Dénia\, VC\, 03700\, Spain
CATEGORIES:Ciné,Cultura
ATTACH;FMTTYPE=image/jpeg:https://disfruta-denia.com/wp-content/uploads/2025/03/marco-788322151-large.jpg
END:VEVENT
BEGIN:VEVENT
DTSTART;TZID=Europe/Madrid:20250430T200000
DTEND;TZID=Europe/Madrid:20250430T233000
DTSTAMP:20260424T072328
CREATED:20230612T102803Z
LAST-MODIFIED:20230612T102804Z
UID:10009036-1746043200-1746055800@disfruta-denia.com
SUMMARY:Autocine: día del espectador
DESCRIPTION:
URL:https://disfruta-denia.com/evento/autocine-dia-del-espectador-3/2025-04-30/
LOCATION:Autociné Denia\, Partida Deveses D\, 27\, Denia\, Alicante\, 03700\, España
CATEGORIES:Ciné,Cultura
ATTACH;FMTTYPE=image/jpeg:https://disfruta-denia.com/wp-content/uploads/2022/11/Autocine-Drive-In-Denia-1.jpg
END:VEVENT
END:VCALENDAR