BEGIN:VCALENDAR
VERSION:2.0
PRODID:-//Disfruta Denia - ECPv6.15.20//NONSGML v1.0//EN
CALSCALE:GREGORIAN
METHOD:PUBLISH
X-ORIGINAL-URL:https://disfruta-denia.com
X-WR-CALDESC:Eventos para Disfruta Denia
REFRESH-INTERVAL;VALUE=DURATION:PT1H
X-Robots-Tag:noindex
X-PUBLISHED-TTL:PT1H
BEGIN:VTIMEZONE
TZID:Europe/Madrid
BEGIN:DAYLIGHT
TZOFFSETFROM:+0100
TZOFFSETTO:+0200
TZNAME:CEST
DTSTART:20240331T010000
END:DAYLIGHT
BEGIN:STANDARD
TZOFFSETFROM:+0200
TZOFFSETTO:+0100
TZNAME:CET
DTSTART:20241027T010000
END:STANDARD
BEGIN:DAYLIGHT
TZOFFSETFROM:+0100
TZOFFSETTO:+0200
TZNAME:CEST
DTSTART:20250330T010000
END:DAYLIGHT
BEGIN:STANDARD
TZOFFSETFROM:+0200
TZOFFSETTO:+0100
TZNAME:CET
DTSTART:20251026T010000
END:STANDARD
BEGIN:DAYLIGHT
TZOFFSETFROM:+0100
TZOFFSETTO:+0200
TZNAME:CEST
DTSTART:20260329T010000
END:DAYLIGHT
BEGIN:STANDARD
TZOFFSETFROM:+0200
TZOFFSETTO:+0100
TZNAME:CET
DTSTART:20261025T010000
END:STANDARD
END:VTIMEZONE
BEGIN:VEVENT
DTSTART;VALUE=DATE:20250509
DTEND;VALUE=DATE:20250603
DTSTAMP:20260424T033909
CREATED:20250505T072757Z
LAST-MODIFIED:20250505T072757Z
UID:10020623-1746763200-1748836799@disfruta-denia.com
SUMMARY:Expo: 400 anys de la mort del DUC DE LERMA
DESCRIPTION:Horari/horario: \nDilluns a dissabte / lunes a sábado:  10 – 14 h / 17 – 20 h. Diumenges i festius / Domingos y festivos: 9 a 15 h
URL:https://disfruta-denia.com/evento/expo-400-anys-de-la-mort-del-duc-de-lerma/
LOCATION:Centre d’art l’Estació\, Carrer Calderón\, 2\, Denia\, Alicante\, 03700\, España
CATEGORIES:Cultura,Exposiciones
ATTACH;FMTTYPE=image/png:https://disfruta-denia.com/wp-content/uploads/2025/05/6-Expo-Duc-de-Lerma.png
END:VEVENT
BEGIN:VEVENT
DTSTART;VALUE=DATE:20250524
DTEND;VALUE=DATE:20250717
DTSTAMP:20260424T033909
CREATED:20250523T080942Z
LAST-MODIFIED:20250523T080942Z
UID:10020674-1748059200-1752638399@disfruta-denia.com
SUMMARY:Expo: SubAcquea
DESCRIPTION:La pintora italiana Valeria Oliva vuelve a exponer en Dénia\, en el restaurante ConAlma. La exposición se podrá visitar del 24 de mayo hasta al 15 de julio.\nLa inauguración\, sabado 24 de mayo a las 12:00\, contará con la presencia de la artista.\nValeria Oliva es una figura destacada en el panorama artístico nacional y internacional. Sus obras se caracterizan por una tridimensionalidad muy marcada\, en una perfecta fusión entre pintura y escultura.\nLa nueva Exposición «Subacquea» es un tributo al agua y a sus creaturas. Agua como elemento de vida\, que fluye\, que enamora!
URL:https://disfruta-denia.com/evento/expo-subacquea/
LOCATION:Con Alma\, Carrer Gabriel Moreno 23\, Dénia\, 03700\, España
CATEGORIES:Cultura,Exposiciones
ATTACH;FMTTYPE=image/jpeg:https://disfruta-denia.com/wp-content/uploads/2025/05/PHOTO-2025-05-20-08-53-15.jpg
END:VEVENT
BEGIN:VEVENT
DTSTART;TZID=Europe/Madrid:20250604T200000
DTEND;TZID=Europe/Madrid:20250604T233000
DTSTAMP:20260424T033909
CREATED:20230612T102803Z
LAST-MODIFIED:20230612T102804Z
UID:10009041-1749067200-1749079800@disfruta-denia.com
SUMMARY:Autocine: día del espectador
DESCRIPTION:
URL:https://disfruta-denia.com/evento/autocine-dia-del-espectador-3/2025-06-04/
LOCATION:Autociné Denia\, Partida Deveses D\, 27\, Denia\, Alicante\, 03700\, España
CATEGORIES:Ciné,Cultura
ATTACH;FMTTYPE=image/jpeg:https://disfruta-denia.com/wp-content/uploads/2022/11/Autocine-Drive-In-Denia-1.jpg
END:VEVENT
BEGIN:VEVENT
DTSTART;TZID=Europe/Madrid:20250605T201500
DTEND;TZID=Europe/Madrid:20250605T201500
DTSTAMP:20260424T033909
CREATED:20250523T074923Z
LAST-MODIFIED:20250523T074923Z
UID:10020665-1749154500-1749154500@disfruta-denia.com
SUMMARY:Documental: Sembrando Futuro
DESCRIPTION:SEMBRANDO FUTURO\, EL PODER DE LAS HUERTAS URBANAS \nDir.: Pau Soler \nXerrada/debat amb la participació del director / Charla/debate con la participación del director. \nEl documental pretén ser una ferramenta per a reflexionar a Dénia i la Marina Alta sobre la necessitat d’impulsar a les nostres ciutats i pobles hortes urbanes agro ecològiques i comunitàries.  \n  \nEl documental pretende ser una herramienta para reflexionar en Dénia y la Marina Alta sobre la necesidad de impulsar en nuestras ciudades y pueblas huertas urbanas agro ecológicas y comunitarias. \n  \nEntrada: lliure fins a completar aforament / libre hasta completar aforocul
URL:https://disfruta-denia.com/evento/documental-sembrando-futuro/
LOCATION:Teatro Auditorio Centro Social\, 4 Carrer Calderón\, Dénia\, VC\, 03700\, Spain
CATEGORIES:Ciné,Cultura
ATTACH;FMTTYPE=image/png:https://disfruta-denia.com/wp-content/uploads/2025/05/2-Documental-dia-5.png
ORGANIZER;CN="Denia Cultura":MAILTO:cultura@ayto-denia.es
END:VEVENT
BEGIN:VEVENT
DTSTART;VALUE=DATE:20250606
DTEND;VALUE=DATE:20250701
DTSTAMP:20260424T033909
CREATED:20250523T075338Z
LAST-MODIFIED:20250523T075338Z
UID:10020666-1749182400-1751255999@disfruta-denia.com
SUMMARY:Expo: EXPERIMENTACIONES
DESCRIPTION:EXPERIMENTACIONES de Ramón de Cárdenas Olivares \nInauguració dia / Inauguración día 6 a les 19.30 h \nHorari/horario:  \nDilluns a dissabte / Lunes a sábado: 10 – 13 h / 17 – 21 h  Diumenges i festius / Domingos y festivos: 9 a 15 h
URL:https://disfruta-denia.com/evento/expo-experimentaciones/
LOCATION:Centre d’art l’Estació\, Carrer Calderón\, 2\, Denia\, Alicante\, 03700\, España
CATEGORIES:Cultura,Exposiciones
ATTACH;FMTTYPE=image/png:https://disfruta-denia.com/wp-content/uploads/2025/05/3-Expo-Experimentaciones.png
END:VEVENT
BEGIN:VEVENT
DTSTART;TZID=Europe/Madrid:20250606T190000
DTEND;TZID=Europe/Madrid:20250606T190000
DTSTAMP:20260424T033909
CREATED:20250523T075431Z
LAST-MODIFIED:20250523T075431Z
UID:10020667-1749236400-1749236400@disfruta-denia.com
SUMMARY:Presentación libro
DESCRIPTION:ABRAZOS DEL SENTIR\, de Mario García Montalbán \nPresentació del poemari a càrrec de / Presentació del poemario a cargo de  Poetes per la Cultura de la Marina Alta. \nPresenten / Presentan: Francisco Cejudo\, Pepe Tormo i/y Pablo Segarra. \nGuitarres i acompanyament musical / Guitarras y acompañamiento musical: Joaquín Boscá i/y Antonio Roldán \nOrganitza/organiza: Poetes per la cultura. Col·labora/colabora: Ajuntament de Dénia. Cultura  \nEntrada:  lliure fins a completar aforament. / libre hasta completar aforo
URL:https://disfruta-denia.com/evento/presentacion-libro-6/
LOCATION:Casa de la Cultura Denia\, Plaça Jaume I\, Denia\, Alicante\, 03700\, España
CATEGORIES:Cultura,Presentación
ATTACH;FMTTYPE=image/png:https://disfruta-denia.com/wp-content/uploads/2025/05/4-Presentacio-llibre-dia-6.png
END:VEVENT
BEGIN:VEVENT
DTSTART;TZID=Europe/Madrid:20250607T200000
DTEND;TZID=Europe/Madrid:20250607T200000
DTSTAMP:20260424T033909
CREATED:20250523T075540Z
LAST-MODIFIED:20250523T075540Z
UID:10020668-1749326400-1749326400@disfruta-denia.com
SUMMARY:Teatro: El amor también tiene fecha de caducidad
DESCRIPTION:EL AMOR TAMBIÉN TIENE FECHA DE CADUCIDAD. Grup de la ETC ART7.TESPIS  \nEscrita i/y dirigida: Johanna Alonso \nActrices/Actrius: Gema Gómez-Rico\, Johanna Alonso\, Mercedes Fernández\, Elena Herranz\, Sandra Maini\,  \nMª Carmen Mut. \nRecomanada/Recomendada + 12 anys/años. \nEntrada: 10 €.   \nAnticipada:  En  Estética Velvet ( c/Magallanes\, 20) i/y en Marimandonas ( c/Quevedo\,3) \nTaquilla: una hora abans de l’espectacle / una hora antes del espectáculo.  \n 
URL:https://disfruta-denia.com/evento/teatro-el-amor-tambien-tiene-fecha-de-caducidad/
LOCATION:Teatro Auditorio Centro Social\, 4 Carrer Calderón\, Dénia\, VC\, 03700\, Spain
CATEGORIES:Cultura,Teatro
ATTACH;FMTTYPE=image/png:https://disfruta-denia.com/wp-content/uploads/2025/05/5-Teatro-dia-7-ETC.png
END:VEVENT
BEGIN:VEVENT
DTSTART;TZID=Europe/Madrid:20250611T200000
DTEND;TZID=Europe/Madrid:20250611T233000
DTSTAMP:20260424T033909
CREATED:20250610T101828Z
LAST-MODIFIED:20250610T101828Z
UID:10009042-1749672000-1749684600@disfruta-denia.com
SUMMARY:Autocine: día del espectador
DESCRIPTION:
URL:https://disfruta-denia.com/evento/autocine-dia-del-espectador-3-47/
LOCATION:Autociné Denia\, Partida Deveses D\, 27\, Denia\, Alicante\, 03700\, España
CATEGORIES:Ciné,Cultura
ATTACH;FMTTYPE=image/png:https://disfruta-denia.com/wp-content/uploads/2023/06/Instagram-06-10-2025_12_02_PM-1.png
END:VEVENT
BEGIN:VEVENT
DTSTART;TZID=Europe/Madrid:20250614T183000
DTEND;TZID=Europe/Madrid:20250614T203000
DTSTAMP:20260424T033909
CREATED:20250606T163354Z
LAST-MODIFIED:20250606T163354Z
UID:10021583-1749925800-1749933000@disfruta-denia.com
SUMMARY:jornada de ‘Teatro en la calle’
DESCRIPTION:Dénia acogerá una jornada especial de teatro en la calle el sábado 14 de junio\, una propuesta cultural impulsada por la Concejalía de Juventud que llenará de arte escénico varios espacios emblemáticos de la ciudad. \nCon esta iniciativa se quiere acercar el teatro a toda la ciudadanía\, convirtiéndolo en una experiencia viva\, abierta y accesible para todos los públicos\, a la vez que se dinamizan los espacios públicos y se fomenta la participación cultural. \nLas actuaciones\, protagonizadas por compañías profesionales y escuelas de teatro locales\, se desarrollarán a lo largo de la tarde\, con la siguiente programación: \n18.30 h – Castell de Dénia \n“Habitación 1616” – Escuela de Teatro del IES Historiador Chabàs \n19.00 h – Escaleras de la calle Olivera \n“Fast and Furious” – Vía Escénica \n19.30 h – Escaleras de al lado del ayuntamiento (cuesta de la Madre Amparo) \n“Fino Qui” – Vía Escénica \n20.00 h – Antiguo trinquet \n“A frágil” – Vía Escénica \n20.30 h – Puerta de la iglesia de la Asunción \n“Mí ojito derecho” – Escuela de Teatro Comarcal (ETC) \n  \nEl concejal de Juventud\, Valen Alcalà\, ha destacado la importancia de este tipo de propuestas culturales para “hacer del teatro una herramienta de cohesión social\, creatividad y expresión artística abierta a todas las edades. Con esta jornada queremos que la juventud\, las familias y la ciudadanía en general vivan el teatro de una manera directa y participativa\, en espacios que formen parte de su día a día”. Además\, ha señalado que “apostar por la cultura es apostar por una ciudad viva\, inclusiva y con identidad propia”. \nEsta propuesta hace del teatro una celebración colectiva\, donde las calles y plazas se transforman en escenarios para compartir historias\, emociones y creatividad. La actividad es gratuita y apta para todos los públicos.
URL:https://disfruta-denia.com/evento/jornada-de-teatro-en-la-calle/
LOCATION:Denia\, Denia\, Alicante\, 03700\, España
CATEGORIES:Cultura,Teatro
ATTACH;FMTTYPE=image/jpeg:https://disfruta-denia.com/wp-content/uploads/2025/06/7362f2.jpg
END:VEVENT
BEGIN:VEVENT
DTSTART;VALUE=DATE:20250615
DTEND;VALUE=DATE:20250617
DTSTAMP:20260424T033909
CREATED:20250523T080523Z
LAST-MODIFIED:20250523T080523Z
UID:10020671-1749960000-1750046399@disfruta-denia.com
SUMMARY:XI CONCURS DE PINTURA RÀPIDA “CIUTAT DE DÉNIA”
DESCRIPTION:Inscripcions fins al 12 de juny segons l’establert en les bases.  \nInscripciones hasta el 12 de junio según lo establecido en las bases.   \n+ INFO: https://www.deniacultura.es  \nOrganitza / organiza: ADAMA. Patrocina: Ajuntament de Dénia.  \nCol·labora/colabora: Fundació Baleària\,  Marina Colors.   .
URL:https://disfruta-denia.com/evento/xi-concurs-de-pintura-rapida-ciutat-de-denia/
LOCATION:Denia\, Denia\, Alicante\, 03700\, España
CATEGORIES:Cultura,Exposiciones
ATTACH;FMTTYPE=image/png:https://disfruta-denia.com/wp-content/uploads/2025/05/7-Concurs-Pintura-rapida.png
END:VEVENT
BEGIN:VEVENT
DTSTART;TZID=Europe/Madrid:20250618T200000
DTEND;TZID=Europe/Madrid:20250618T233000
DTSTAMP:20260424T033909
CREATED:20230612T102803Z
LAST-MODIFIED:20230612T102804Z
UID:10009043-1750276800-1750289400@disfruta-denia.com
SUMMARY:Autocine: día del espectador
DESCRIPTION:
URL:https://disfruta-denia.com/evento/autocine-dia-del-espectador-3/2025-06-18/
LOCATION:Autociné Denia\, Partida Deveses D\, 27\, Denia\, Alicante\, 03700\, España
CATEGORIES:Ciné,Cultura
ATTACH;FMTTYPE=image/jpeg:https://disfruta-denia.com/wp-content/uploads/2022/11/Autocine-Drive-In-Denia-1.jpg
END:VEVENT
BEGIN:VEVENT
DTSTART;TZID=Europe/Madrid:20250619T201500
DTEND;TZID=Europe/Madrid:20250619T201500
DTSTAMP:20260424T033909
CREATED:20250523T080638Z
LAST-MODIFIED:20250523T080638Z
UID:10020672-1750364100-1750364100@disfruta-denia.com
SUMMARY:Documental: Tejiendo Rebeldías
DESCRIPTION:TEJIENDO REBELDÍAS. Mujeres en la lucha \nDir.: Pau Soler \nXerrada/debat amb la participació del director / Charla debate con la participación del director. \nEl documental és una anàlisi de la lluita feminista i sindical a Colòmbia\, enfocant-se en els drets laborals i sindicals de les dones. Ens mostra les històries de dones que han liderat moviments i les conquestes en drets en un context de desigualtat de gènere. També mostra sindicalistes valencianes que se solidaritzen amb les organitzacions colombianes i interactuen i donen suport a processos educatius de gènere a Colòmbia. \n  \nEl documental es un análisis de la lucha feminista y sindical en Colombia\, enfocándose en los derechos laborales y sindicales de las mujeres. Nos muestra las historias de mujeres que han liderado movimientos y las conquistas en derechos en un contexto de desigualdad de género. También muestra sindicalistas valencianas que se solidarizan con las organizaciones colombianas e interactúan y apoyan a procesos educativos de género en Colombia. \nEntrada: lliure fins a completar aforament / libre hasta completar aforo
URL:https://disfruta-denia.com/evento/documental-tejiendo-rebeldias/
LOCATION:Teatro Auditorio Centro Social\, 4 Carrer Calderón\, Dénia\, VC\, 03700\, Spain
CATEGORIES:Ciné,Cultura
ATTACH;FMTTYPE=image/png:https://disfruta-denia.com/wp-content/uploads/2025/05/8-Documental-dia-19.png
END:VEVENT
BEGIN:VEVENT
DTSTART;TZID=Europe/Madrid:20250621T170000
DTEND;TZID=Europe/Madrid:20250621T200000
DTSTAMP:20260424T033909
CREATED:20250530T100522Z
LAST-MODIFIED:20250530T100531Z
UID:10020701-1750525200-1750536000@disfruta-denia.com
SUMMARY:Un musical de película
DESCRIPTION:El próximo sábado 21 de junio\, el centro comercial Portal de la Marina se convertirá en el escenario de las canciones que marcaron y siguen marcando generaciones. \nOndara\, 30 de mayo de 2025. El Centro Comercial Portal de la Marina\, propiedad de Lar España Real Estate Socimi y gestionado por Grupo Lar\, vuelve a convertirse en el punto de encuentro de las familias de la Marina Alta organizando un espectáculo infantil totalmente gratuito. \nEl espectáculo contará con dos pases\, el primero comenzará a las 17:00 horas y el segundo a las 19:00 horas. El aforo será limitado con el objetivo de garantizar una experiencia cómoda para los asistentes. \nLos socios del Club de los Disfrutones podrán optar a entradas VIP. Cada participante podrá acceder a un máximo de tres entradas y realizar su inscripción en el sorteo a través del apartado correspondiente en la aplicación del Club. El plazo para inscribirse permanecerá abierto desde el viernes 30 de mayo hasta el martes 17 de junio. El único requisito para participar y acceder al espectáculo es ser tener la app del Club de los Disfrutones descargada. Sino resultas uno de los afortunados en conseguir una plaza podrás disfrutar del espectáculo de forma gratuita desde los alrededores del escenario. \nComo parte de esta experiencia\, Portal de la Marina ha puesto en marcha un sorteo especial. Ya está disponible la posibilidad de ganar entradas para ver el musical El Rey León y una noche de alojamiento para dos personas en Madrid. \nSegún palabras de Virginia Carrasco\, directora del centro comercial: “En Portal de la Marina queremos ser parte de los recuerdos de la infancia\, creando momentos especiales para disfrutar con los más pequeños de la casa\, así que animamos a todas las familias a que nos visiten y disfruten de esta experiencia tan especial”. \nSobre Portal de la Marina. \nPortal de la Marina\, “Un portal donde todo el mundo es bienvenido”. La mayor oferta comercial y de ocio de la Marina Alta. Cuenta con una SBA de más de 40.000 metros cuadrados. Fue inaugurado en 2008 y en 2018 realizó una ambiciosa reforma de su zona de restauración para mejorar la experiencia de cliente que lo convierte en el lugar ideal donde realizar las compras y disfrutar de la mejor restauración y momentos de ocio. \nDispone de una amplia oferta comercial\, con más de 100 tiendas y 10 restaurantes líderes en el mercado nacional e internacional: Zara\, Massimo Dutti\, Bimba y Lola\, C&A\, IKEA\, Nespresso\, Carrefour\, cine y 1.655 plazas de aparcamiento. \n“Portal de la Marina\, más que un “portal” donde comprar: un lugar comprometido con la ciudad y sus habitantes\, el medio ambiente y la sostenibilidad”.
URL:https://disfruta-denia.com/evento/un-musical-de-pelicula/
LOCATION:Portal de la Marina\, Av. Costa Blanca\, 2\, Ondara\, Alicante\, 03760\, España
CATEGORIES:Cultura,Espectáculo
ATTACH;FMTTYPE=image/jpeg:https://disfruta-denia.com/wp-content/uploads/2025/05/nota_prensa_disney_evento_pdlm-scaled.jpg
END:VEVENT
BEGIN:VEVENT
DTSTART;TZID=Europe/Madrid:20250622T193000
DTEND;TZID=Europe/Madrid:20250622T193000
DTSTAMP:20260424T033909
CREATED:20250523T081251Z
LAST-MODIFIED:20250523T081251Z
UID:10020675-1750620600-1750620600@disfruta-denia.com
SUMMARY:Baile tradicional en Dénia\, Corpus 2025
DESCRIPTION:De la Parròquia de Sant Miquel a la de l’Assumpció / De la Parroquia de San Miguel a la de la Asunción. \nOrganitza/organiza: Dianium Dansa. Patrocina: Ajuntament de Dénia. Cultura.  \n 
URL:https://disfruta-denia.com/evento/baile-tradicional-en-denia-corpus-2025/
LOCATION:Denia\, Denia\, Alicante\, 03700\, España
CATEGORIES:Cultura,Danza
ATTACH;FMTTYPE=image/png:https://disfruta-denia.com/wp-content/uploads/2025/05/11-Balls-del-Corpus.png
END:VEVENT
BEGIN:VEVENT
DTSTART;TZID=Europe/Madrid:20250625T200000
DTEND;TZID=Europe/Madrid:20250625T233000
DTSTAMP:20260424T033909
CREATED:20230612T102803Z
LAST-MODIFIED:20230612T102804Z
UID:10009044-1750881600-1750894200@disfruta-denia.com
SUMMARY:Autocine: día del espectador
DESCRIPTION:
URL:https://disfruta-denia.com/evento/autocine-dia-del-espectador-3/2025-06-25/
LOCATION:Autociné Denia\, Partida Deveses D\, 27\, Denia\, Alicante\, 03700\, España
CATEGORIES:Ciné,Cultura
ATTACH;FMTTYPE=image/jpeg:https://disfruta-denia.com/wp-content/uploads/2022/11/Autocine-Drive-In-Denia-1.jpg
END:VEVENT
END:VCALENDAR