BEGIN:VCALENDAR
VERSION:2.0
PRODID:-//Disfruta Denia - ECPv6.15.20//NONSGML v1.0//EN
CALSCALE:GREGORIAN
METHOD:PUBLISH
X-WR-CALNAME:Disfruta Denia
X-ORIGINAL-URL:https://disfruta-denia.com
X-WR-CALDESC:Eventos para Disfruta Denia
REFRESH-INTERVAL;VALUE=DURATION:PT1H
X-Robots-Tag:noindex
X-PUBLISHED-TTL:PT1H
BEGIN:VTIMEZONE
TZID:Europe/Madrid
BEGIN:DAYLIGHT
TZOFFSETFROM:+0100
TZOFFSETTO:+0200
TZNAME:CEST
DTSTART:20240331T010000
END:DAYLIGHT
BEGIN:STANDARD
TZOFFSETFROM:+0200
TZOFFSETTO:+0100
TZNAME:CET
DTSTART:20241027T010000
END:STANDARD
BEGIN:DAYLIGHT
TZOFFSETFROM:+0100
TZOFFSETTO:+0200
TZNAME:CEST
DTSTART:20250330T010000
END:DAYLIGHT
BEGIN:STANDARD
TZOFFSETFROM:+0200
TZOFFSETTO:+0100
TZNAME:CET
DTSTART:20251026T010000
END:STANDARD
BEGIN:DAYLIGHT
TZOFFSETFROM:+0100
TZOFFSETTO:+0200
TZNAME:CEST
DTSTART:20260329T010000
END:DAYLIGHT
BEGIN:STANDARD
TZOFFSETFROM:+0200
TZOFFSETTO:+0100
TZNAME:CET
DTSTART:20261025T010000
END:STANDARD
BEGIN:DAYLIGHT
TZOFFSETFROM:+0100
TZOFFSETTO:+0200
TZNAME:CEST
DTSTART:20270328T010000
END:DAYLIGHT
BEGIN:STANDARD
TZOFFSETFROM:+0200
TZOFFSETTO:+0100
TZNAME:CET
DTSTART:20271031T010000
END:STANDARD
END:VTIMEZONE
BEGIN:VEVENT
DTSTART;VALUE=DATE:20251212
DTEND;VALUE=DATE:20260202
DTSTAMP:20260423T145847
CREATED:20251211T084632Z
LAST-MODIFIED:20251211T085217Z
UID:10023469-1765512000-1769918399@disfruta-denia.com
SUMMARY:Expo de arte: Valeria Oliva
DESCRIPTION:La pintora italiana Valeria Oliva vuelve a exponer en Dénia\, en el Bar Cele. La exposición se podrá visitar del 12 de diciembre hasta al 31 de enero.\nLa inauguración\, viernes 12 de diciembre\, a las 19:30\, contará con la presencia de la artista.\nValeria Oliva es una figura destacada en el panorama artístico nacional y internacional. Sus obras se caracterizan por una tridimensionalidad muy marcada\, en una perfecta fusión entre pintura y escultura.
URL:https://disfruta-denia.com/evento/expo-de-arte-valeria-oliva/
LOCATION:Bar Cele\, Carrer Olivera 7\, Denia\, 03700\, España
CATEGORIES:Cultura,Exposiciones
ATTACH;FMTTYPE=image/jpeg:https://disfruta-denia.com/wp-content/uploads/2025/12/PHOTO-2025-12-09-09-07-33.jpg
END:VEVENT
BEGIN:VEVENT
DTSTART;TZID=Europe/Madrid:20260104T190000
DTEND;TZID=Europe/Madrid:20260104T190000
DTSTAMP:20260423T145847
CREATED:20251215T102854Z
LAST-MODIFIED:20260102T085957Z
UID:10023499-1767553200-1767553200@disfruta-denia.com
SUMMARY:Cineclub: MI POSTRE FAVORITO
DESCRIPTION:Dir.: Maryam Moghadam i Behtash Sanaeeha. 2024\,  Iran\, 97 min. V.O. en persa subtitulada al castellà / castellano. Recomanada / Recomendada  + de 7 anys/años. \nEntrada 3 €  en   www.notikumi.com. Taquilla: el mateix dia una hora abans / el mismo día una hora antes.
URL:https://disfruta-denia.com/evento/cineclub-mi-postre-favorito/
LOCATION:Teatro Auditorio Centro Social\, 4 Carrer Calderón\, Dénia\, VC\, 03700\, Spain
CATEGORIES:Ciné,Cultura
ATTACH;FMTTYPE=image/png:https://disfruta-denia.com/wp-content/uploads/2025/12/unnamed.png
END:VEVENT
BEGIN:VEVENT
DTSTART;TZID=Europe/Madrid:20260107T200000
DTEND;TZID=Europe/Madrid:20260107T233000
DTSTAMP:20260423T145847
CREATED:20230612T102803Z
LAST-MODIFIED:20230612T102804Z
UID:10009072-1767816000-1767828600@disfruta-denia.com
SUMMARY:Autocine: día del espectador
DESCRIPTION:
URL:https://disfruta-denia.com/evento/autocine-dia-del-espectador-3/2026-01-07/
LOCATION:Autociné Denia\, Partida Deveses D\, 27\, Denia\, Alicante\, 03700\, España
CATEGORIES:Ciné,Cultura
ATTACH;FMTTYPE=image/jpeg:https://disfruta-denia.com/wp-content/uploads/2022/11/Autocine-Drive-In-Denia-1.jpg
END:VEVENT
BEGIN:VEVENT
DTSTART;TZID=Europe/Madrid:20260111T190000
DTEND;TZID=Europe/Madrid:20260111T190000
DTSTAMP:20260423T145847
CREATED:20251215T103014Z
LAST-MODIFIED:20260102T090125Z
UID:10023500-1768158000-1768158000@disfruta-denia.com
SUMMARY:Cineclub: SIRAT. TRANCE EN EL DESIERTO
DESCRIPTION:Dir.: Oliver Laxe.  2025\, Espanya / España\, 114 min. V.O. en castellà\, francès\, anglès i àrab / castellano\, francés\, inglés y árabe. Subtitulada al castellà / castellano.  \nRecomanada / Recomendada  + 16 anys/años. \nEntrada 3 €  en   www.notikumi.com. Taquilla: el mateix dia una hora abans / el mismo día una hora antes.
URL:https://disfruta-denia.com/evento/cineclub-sirat-trance-en-el-desierto/
LOCATION:Teatro Auditorio Centro Social\, 4 Carrer Calderón\, Dénia\, VC\, 03700\, Spain
CATEGORIES:Ciné,Cultura
ATTACH;FMTTYPE=image/png:https://disfruta-denia.com/wp-content/uploads/2025/12/unnamed-1.png
END:VEVENT
BEGIN:VEVENT
DTSTART;TZID=Europe/Madrid:20260114T200000
DTEND;TZID=Europe/Madrid:20260114T233000
DTSTAMP:20260423T145847
CREATED:20230612T102803Z
LAST-MODIFIED:20230612T102804Z
UID:10009073-1768420800-1768433400@disfruta-denia.com
SUMMARY:Autocine: día del espectador
DESCRIPTION:
URL:https://disfruta-denia.com/evento/autocine-dia-del-espectador-3/2026-01-14/
LOCATION:Autociné Denia\, Partida Deveses D\, 27\, Denia\, Alicante\, 03700\, España
CATEGORIES:Ciné,Cultura
ATTACH;FMTTYPE=image/jpeg:https://disfruta-denia.com/wp-content/uploads/2022/11/Autocine-Drive-In-Denia-1.jpg
END:VEVENT
BEGIN:VEVENT
DTSTART;TZID=Europe/Madrid:20260118T190000
DTEND;TZID=Europe/Madrid:20260118T190000
DTSTAMP:20260423T145847
CREATED:20251215T103805Z
LAST-MODIFIED:20251215T103805Z
UID:10023503-1768762800-1768762800@disfruta-denia.com
SUMMARY:Cineclub: UNA QUINTA PORTUGUESA
DESCRIPTION:Dir. Avelina Prat.  2025\, Espanya\, 114 min. V.O. en castellà i portuguès  /castellano y portugués. Subtitulada al castellà. Apta per a tots els públics / Apta para todos los públicos. \nEntrada 3 € en   www.notikumi.com.Taquilla: el mateix dia una hora abans/ el mismo día una hora antes.
URL:https://disfruta-denia.com/evento/cineclub-una-quinta-portuguesa/
LOCATION:Teatro Auditorio Centro Social\, 4 Carrer Calderón\, Dénia\, VC\, 03700\, Spain
CATEGORIES:Ciné,Cultura
ATTACH;FMTTYPE=image/png:https://disfruta-denia.com/wp-content/uploads/2025/12/CARTELL-CINECLUB-GENER.png
END:VEVENT
BEGIN:VEVENT
DTSTART;TZID=Europe/Madrid:20260120T080000
DTEND;TZID=Europe/Madrid:20260120T170000
DTSTAMP:20260423T145847
CREATED:20260120T113806Z
LAST-MODIFIED:20260120T113806Z
UID:10026082-1768896000-1768928400@disfruta-denia.com
SUMMARY:Teatro en familia: Fabulant
DESCRIPTION:
URL:https://disfruta-denia.com/evento/teatro-en-familia-fabulant/
CATEGORIES:Cultura,Teatro
ATTACH;FMTTYPE=image/png:https://disfruta-denia.com/wp-content/uploads/2026/01/13-TEATRE-EN-FAMILIA-fabulant.png
END:VEVENT
BEGIN:VEVENT
DTSTART;TZID=Europe/Madrid:20260121T200000
DTEND;TZID=Europe/Madrid:20260121T233000
DTSTAMP:20260423T145847
CREATED:20260119T111053Z
LAST-MODIFIED:20260119T111054Z
UID:10009074-1769025600-1769038200@disfruta-denia.com
SUMMARY:Autocine: día del espectador
DESCRIPTION:
URL:https://disfruta-denia.com/evento/autocine-dia-del-espectador-3-55/
LOCATION:Autociné Denia\, Partida Deveses D\, 27\, Denia\, Alicante\, 03700\, España
CATEGORIES:Ciné,Cultura
ATTACH;FMTTYPE=image/png:https://disfruta-denia.com/wp-content/uploads/2023/06/Instagram-01-19-2026_11_56_AM.png
END:VEVENT
BEGIN:VEVENT
DTSTART;TZID=Europe/Madrid:20260124T114500
DTEND;TZID=Europe/Madrid:20260124T114500
DTSTAMP:20260423T145847
CREATED:20251215T103938Z
LAST-MODIFIED:20251215T103938Z
UID:10023504-1769255100-1769255100@disfruta-denia.com
SUMMARY:Presentación de libro Incierto Perfume
DESCRIPTION:INCIERTO PERFUME\, poemari  de / poemario de  JUAN LUIS BEDINS  \nEntrada: lliure fins a completar aforament / libre hasta completar aforo. \nOrganitza/organiza: Poetes per la Cultura. Col·labora / colabora: Ajuntament de Dénia. Cultura
URL:https://disfruta-denia.com/evento/presentacion-de-libro-incierto-perfume/
LOCATION:Casa de la Cultura Denia\, Plaça Jaume I\, Denia\, Alicante\, 03700\, España
CATEGORIES:Cultura,Presentación
ATTACH;FMTTYPE=image/png:https://disfruta-denia.com/wp-content/uploads/2025/12/10-Presentacio-llibre-dia-24.png
END:VEVENT
BEGIN:VEVENT
DTSTART;TZID=Europe/Madrid:20260125T190000
DTEND;TZID=Europe/Madrid:20260125T190000
DTSTAMP:20260423T145847
CREATED:20251215T104422Z
LAST-MODIFIED:20251215T104422Z
UID:10023506-1769367600-1769367600@disfruta-denia.com
SUMMARY:Cineclub: FLOW\, UN MUNDO QUE SALVAR
DESCRIPTION:Dir.: Gints Zilbalodis\, 2024\,   Letònia / Letonia\, 83 min.  \nAnimació\, música i imatges / Animación\, música e imágenes.  \nApta per a tots els públics / para todos los públicos. \nEntrada 3 € en  www.notikumi.com. En taquilla: el mateix dia una hora abans/ el mismo día una hora antes.
URL:https://disfruta-denia.com/evento/cineclub-flow-un-mundo-que-salvar/
LOCATION:Teatro Auditorio Centro Social\, 4 Carrer Calderón\, Dénia\, VC\, 03700\, Spain
CATEGORIES:Ciné,Cultura
ATTACH;FMTTYPE=image/png:https://disfruta-denia.com/wp-content/uploads/2025/12/CARTELL-CINECLUB-GENER.png
END:VEVENT
BEGIN:VEVENT
DTSTART;TZID=Europe/Madrid:20260128T200000
DTEND;TZID=Europe/Madrid:20260128T233000
DTSTAMP:20260423T145847
CREATED:20260127T102311Z
LAST-MODIFIED:20260127T102312Z
UID:10009075-1769630400-1769643000@disfruta-denia.com
SUMMARY:Autocine: día del espectador
DESCRIPTION:
URL:https://disfruta-denia.com/evento/autocine-dia-del-espectador-3-56/
LOCATION:Autociné Denia\, Partida Deveses D\, 27\, Denia\, Alicante\, 03700\, España
CATEGORIES:Ciné,Cultura
ATTACH;FMTTYPE=image/png:https://disfruta-denia.com/wp-content/uploads/2023/06/Instagram-01-27-2026_11_19_AM.png
END:VEVENT
BEGIN:VEVENT
DTSTART;TZID=Europe/Madrid:20260131T200000
DTEND;TZID=Europe/Madrid:20260131T200000
DTSTAMP:20260423T145847
CREATED:20251215T104825Z
LAST-MODIFIED:20251215T104825Z
UID:10023508-1769889600-1769889600@disfruta-denia.com
SUMMARY:Teatro: WAR BABY
DESCRIPTION:Cía. YLLANA. \nDir.: YLLANA  \nIntèrprets / Intérpretes: Fidel Fernández\, Juanfran Dorado\, Luis Cao\, Jony Elías\, Raül Cano Cano  \nGestual. 80’. \nSinopsi: WAR BABY ens trasllada a un centre de reclutament militar\, en el qual un grup de despistats reclutes són entrenats per a una absurda guerra que ha originat el nou líder del país\, que resulta ser un bebé consentit i bel·licós. Un espectacle divertit\, ple d’humor\, gags visuals i bogeria còmica\, però que també sap caminar sobre la corda fluixa i utilitzar la comèdia com a arma llancívola davant el contrasentit de la guerra. \n  \nSinopsis: WAR BABY nos traslada a un centro de reclutamiento militar\, en el que un grupo de despistados reclutas son entrenados para una disparatada guerra que ha originado el nuevo líder del país\, que resulta ser un bebé  \nconsentido y belicoso. Un espectáculo divertido\, lleno de humor\, gags visuales y locura cómica\, pero que también sabe caminar sobre la cuerda floja y utilizar la comedia como arma arrojadiza ante el sinsentido de la guerra. \n  \nEntrada 12 € en  www.notikumi.com   Taquilla: el mateix dia una hora abans/ el mismo día una hora antes
URL:https://disfruta-denia.com/evento/teatro-war-baby/
LOCATION:Teatro Auditorio Centro Social\, 4 Carrer Calderón\, Dénia\, VC\, 03700\, Spain
CATEGORIES:Cultura,Teatro
ATTACH;FMTTYPE=image/png:https://disfruta-denia.com/wp-content/uploads/2025/12/16-War-baby.png
END:VEVENT
END:VCALENDAR