BEGIN:VCALENDAR
VERSION:2.0
PRODID:-//Disfruta Denia - ECPv6.15.20//NONSGML v1.0//EN
CALSCALE:GREGORIAN
METHOD:PUBLISH
X-WR-CALNAME:Disfruta Denia
X-ORIGINAL-URL:https://disfruta-denia.com
X-WR-CALDESC:Eventos para Disfruta Denia
REFRESH-INTERVAL;VALUE=DURATION:PT1H
X-Robots-Tag:noindex
X-PUBLISHED-TTL:PT1H
BEGIN:VTIMEZONE
TZID:Europe/Madrid
BEGIN:DAYLIGHT
TZOFFSETFROM:+0100
TZOFFSETTO:+0200
TZNAME:CEST
DTSTART:20210328T010000
END:DAYLIGHT
BEGIN:STANDARD
TZOFFSETFROM:+0200
TZOFFSETTO:+0100
TZNAME:CET
DTSTART:20211031T010000
END:STANDARD
BEGIN:DAYLIGHT
TZOFFSETFROM:+0100
TZOFFSETTO:+0200
TZNAME:CEST
DTSTART:20220327T010000
END:DAYLIGHT
BEGIN:STANDARD
TZOFFSETFROM:+0200
TZOFFSETTO:+0100
TZNAME:CET
DTSTART:20221030T010000
END:STANDARD
BEGIN:DAYLIGHT
TZOFFSETFROM:+0100
TZOFFSETTO:+0200
TZNAME:CEST
DTSTART:20230326T010000
END:DAYLIGHT
BEGIN:STANDARD
TZOFFSETFROM:+0200
TZOFFSETTO:+0100
TZNAME:CET
DTSTART:20231029T010000
END:STANDARD
END:VTIMEZONE
BEGIN:VEVENT
DTSTART;TZID=Europe/Madrid:20221214T193000
DTEND;TZID=Europe/Madrid:20221214T193000
DTSTAMP:20260425T183556
CREATED:20221213T090247Z
LAST-MODIFIED:20221213T090247Z
UID:10009803-1671046200-1671046200@disfruta-denia.com
SUMMARY:Presentación de la revista de literatura L'Aiguadolç
DESCRIPTION:Presentación de la revista de literatura L’Aiguadolç (IECMA)\, núm. 51 dedicada a Joan Fuster\nA cargo de Antoni Prats y Juli Capilla.\nConmemoración de los 50 números de l’Aiguadolç
URL:https://disfruta-denia.com/evento/presentacion-de-la-revista-de-literatura-laiguadolc/
LOCATION:Casa de la Cultura Denia\, Plaça Jaume I\, Denia\, Alicante\, 03700\, España
CATEGORIES:Charlas y conferencias,Cultura
ATTACH;FMTTYPE=image/jpeg:https://disfruta-denia.com/wp-content/uploads/2022/12/318123805_520329040137943_7576742303302516827_n.jpg
ORGANIZER;CN="Denia Cultura":MAILTO:cultura@ayto-denia.es
END:VEVENT
END:VCALENDAR