BEGIN:VCALENDAR
VERSION:2.0
PRODID:-//Disfruta Denia - ECPv6.15.20//NONSGML v1.0//EN
CALSCALE:GREGORIAN
METHOD:PUBLISH
X-WR-CALNAME:Disfruta Denia
X-ORIGINAL-URL:https://disfruta-denia.com
X-WR-CALDESC:Eventos para Disfruta Denia
REFRESH-INTERVAL;VALUE=DURATION:PT1H
X-Robots-Tag:noindex
X-PUBLISHED-TTL:PT1H
BEGIN:VTIMEZONE
TZID:Europe/Madrid
BEGIN:DAYLIGHT
TZOFFSETFROM:+0100
TZOFFSETTO:+0200
TZNAME:CEST
DTSTART:20220327T010000
END:DAYLIGHT
BEGIN:STANDARD
TZOFFSETFROM:+0200
TZOFFSETTO:+0100
TZNAME:CET
DTSTART:20221030T010000
END:STANDARD
BEGIN:DAYLIGHT
TZOFFSETFROM:+0100
TZOFFSETTO:+0200
TZNAME:CEST
DTSTART:20230326T010000
END:DAYLIGHT
BEGIN:STANDARD
TZOFFSETFROM:+0200
TZOFFSETTO:+0100
TZNAME:CET
DTSTART:20231029T010000
END:STANDARD
BEGIN:DAYLIGHT
TZOFFSETFROM:+0100
TZOFFSETTO:+0200
TZNAME:CEST
DTSTART:20240331T010000
END:DAYLIGHT
BEGIN:STANDARD
TZOFFSETFROM:+0200
TZOFFSETTO:+0100
TZNAME:CET
DTSTART:20241027T010000
END:STANDARD
END:VTIMEZONE
BEGIN:VEVENT
DTSTART;TZID=Europe/Madrid:20230909T100000
DTEND;TZID=Europe/Madrid:20230909T120000
DTSTAMP:20260425T020448
CREATED:20230822T074150Z
LAST-MODIFIED:20230822T074150Z
UID:10013017-1694253600-1694260800@disfruta-denia.com
SUMMARY:Charla / taller: Arte y cordura
DESCRIPTION:a cargo de Cristina Minguillón \nEn la charla recordaremos la vida y obra de los artistas a quienes el arte ayudó a mantener y a vivir con su cordura. En el taller haremos una práctica creativa que nos conectará con esa experiencia. \n  \nHorari/horario: de 10 a 12 h . Activitat gratuïta/actividad gratuita \nOrganitza/organiza: ADAMA. Col·labora/colabora: Ajuntament de Dénia\, Cultura
URL:https://disfruta-denia.com/evento/charla-taller-arte-y-cordura/
LOCATION:Casa de la Cultura Denia\, Plaça Jaume I\, Denia\, Alicante\, 03700\, España
CATEGORIES:Charlas y conferencias,Cultura,Taller
ATTACH;FMTTYPE=image/png:https://disfruta-denia.com/wp-content/uploads/2023/08/5-arte-y-cordura.png
ORGANIZER;CN="Denia Cultura":MAILTO:cultura@ayto-denia.es
END:VEVENT
BEGIN:VEVENT
DTSTART;TZID=Europe/Madrid:20230914T190000
DTEND;TZID=Europe/Madrid:20230914T201500
DTSTAMP:20260425T020448
CREATED:20230912T090548Z
LAST-MODIFIED:20230912T090548Z
UID:10013390-1694718000-1694722500@disfruta-denia.com
SUMMARY:¡ACTÍVATE! Cómo descubrir qué deporte es el ideal para tu hijo/a
DESCRIPTION:Este jueves 14 de septiembre hpara a todas las mamás y papás de Dénia. \nCharla orientativa gratuita: ¡ACTÍVATE! Cómo descubrir qué deporte es el ideal para tu hijo/a. \nJueves 14 de septiembre de 19:00 a 20:15h en la Casa de la Cultura de Denia.
URL:https://disfruta-denia.com/evento/activate-como-descubrir-que-deporte-es-el-ideal-para-tu-hijo-a/
LOCATION:Casa de la Cultura Denia\, Plaça Jaume I\, Denia\, Alicante\, 03700\, España
CATEGORIES:Charlas y conferencias,Deporte
ATTACH;FMTTYPE=image/jpeg:https://disfruta-denia.com/wp-content/uploads/2023/09/376922984_3004107076399942_636545450034033440_n.jpg
END:VEVENT
BEGIN:VEVENT
DTSTART;TZID=Europe/Madrid:20230920T190000
DTEND;TZID=Europe/Madrid:20230920T190000
DTSTAMP:20260425T020448
CREATED:20230912T091516Z
LAST-MODIFIED:20230912T174850Z
UID:10013391-1695236400-1695236400@disfruta-denia.com
SUMMARY:VIII Educando en el presente
DESCRIPTION:– 20 de setembre a les 19 hores a la Casa de la Cultura de Dénia (plaça Jaume I\, s/n): “APRENDRE A CONVIURE AMB UNA FILLA O UN FILL ADOLESCENT I NO MORIR EN L’INTENT”. Saber comunicar-se amb els altres és indispensable per a l’harmonia personal\, de la parella i de la família. Amb les filles i fills\, la manera de comunicar-nos sol ser un factor determinant perquè ens respecten\, assumisquen responsabilitats i complisquen amb les normes i sàpien distingir quins són els límits. D’aquesta manera\, es podrà donar solució a molts dels conflictes sorgits en la convivència familiar\, i ens ajudarà a deixar de costat actituds poc útils com “sermonejar”\, “amenaçar”\, “amonestar”\, “ridiculitzar”\, “criticar”\, que lluny de millorar la convivència\, l’entorpeixen. L’objectiu és aconseguir un clima de convivència saludable.\n\n\n– 27 de setembre a les 19 hores a la Casa de la Cultura: “ADOLESCÈNCIA. CONSUM DE SUBSTÀNCIES I TECNOLOGIES. PREVINDRE DES DE LA FAMÍLIA”. El tema de les addiccions i l’abús de les tecnologies és una preocupació que atabala a moltes famílies hui en dia. És una qüestió que pot implicar conseqüències dràstiques per a les persones adolescents i les seues famílies. Per tant\, és important saber què es pot fer des de l’àmbit familiar per a previndre riscos i conseqüències negatives relacionades amb les addiccions. El missatge de “A mi no em tocarà” no ha d’estar present en el vocabulari perquè si toca… “Alguna cosa cal fer”
URL:https://disfruta-denia.com/evento/viii-educando-en-el-presente/2023-09-20/
LOCATION:Casa de la Cultura Denia\, Plaça Jaume I\, Denia\, Alicante\, 03700\, España
CATEGORIES:Charlas y conferencias
ATTACH;FMTTYPE=image/jpeg:https://disfruta-denia.com/wp-content/uploads/2023/09/377490459_682095260610056_9219005184668678872_n.jpg
END:VEVENT
BEGIN:VEVENT
DTSTART;TZID=Europe/Madrid:20230927T190000
DTEND;TZID=Europe/Madrid:20230927T190000
DTSTAMP:20260425T020448
CREATED:20230912T091516Z
LAST-MODIFIED:20230912T174850Z
UID:10013392-1695841200-1695841200@disfruta-denia.com
SUMMARY:VIII Educando en el presente
DESCRIPTION:– 20 de setembre a les 19 hores a la Casa de la Cultura de Dénia (plaça Jaume I\, s/n): “APRENDRE A CONVIURE AMB UNA FILLA O UN FILL ADOLESCENT I NO MORIR EN L’INTENT”. Saber comunicar-se amb els altres és indispensable per a l’harmonia personal\, de la parella i de la família. Amb les filles i fills\, la manera de comunicar-nos sol ser un factor determinant perquè ens respecten\, assumisquen responsabilitats i complisquen amb les normes i sàpien distingir quins són els límits. D’aquesta manera\, es podrà donar solució a molts dels conflictes sorgits en la convivència familiar\, i ens ajudarà a deixar de costat actituds poc útils com “sermonejar”\, “amenaçar”\, “amonestar”\, “ridiculitzar”\, “criticar”\, que lluny de millorar la convivència\, l’entorpeixen. L’objectiu és aconseguir un clima de convivència saludable.\n\n\n– 27 de setembre a les 19 hores a la Casa de la Cultura: “ADOLESCÈNCIA. CONSUM DE SUBSTÀNCIES I TECNOLOGIES. PREVINDRE DES DE LA FAMÍLIA”. El tema de les addiccions i l’abús de les tecnologies és una preocupació que atabala a moltes famílies hui en dia. És una qüestió que pot implicar conseqüències dràstiques per a les persones adolescents i les seues famílies. Per tant\, és important saber què es pot fer des de l’àmbit familiar per a previndre riscos i conseqüències negatives relacionades amb les addiccions. El missatge de “A mi no em tocarà” no ha d’estar present en el vocabulari perquè si toca… “Alguna cosa cal fer”
URL:https://disfruta-denia.com/evento/viii-educando-en-el-presente/2023-09-27/
LOCATION:Casa de la Cultura Denia\, Plaça Jaume I\, Denia\, Alicante\, 03700\, España
CATEGORIES:Charlas y conferencias
ATTACH;FMTTYPE=image/jpeg:https://disfruta-denia.com/wp-content/uploads/2023/09/377490459_682095260610056_9219005184668678872_n.jpg
END:VEVENT
END:VCALENDAR