BEGIN:VCALENDAR
VERSION:2.0
PRODID:-//Disfruta Denia - ECPv6.15.20//NONSGML v1.0//EN
CALSCALE:GREGORIAN
METHOD:PUBLISH
X-ORIGINAL-URL:https://disfruta-denia.com
X-WR-CALDESC:Eventos para Disfruta Denia
REFRESH-INTERVAL;VALUE=DURATION:PT1H
X-Robots-Tag:noindex
X-PUBLISHED-TTL:PT1H
BEGIN:VTIMEZONE
TZID:Europe/Madrid
BEGIN:DAYLIGHT
TZOFFSETFROM:+0100
TZOFFSETTO:+0200
TZNAME:CEST
DTSTART:20220327T010000
END:DAYLIGHT
BEGIN:STANDARD
TZOFFSETFROM:+0200
TZOFFSETTO:+0100
TZNAME:CET
DTSTART:20221030T010000
END:STANDARD
BEGIN:DAYLIGHT
TZOFFSETFROM:+0100
TZOFFSETTO:+0200
TZNAME:CEST
DTSTART:20230326T010000
END:DAYLIGHT
BEGIN:STANDARD
TZOFFSETFROM:+0200
TZOFFSETTO:+0100
TZNAME:CET
DTSTART:20231029T010000
END:STANDARD
BEGIN:DAYLIGHT
TZOFFSETFROM:+0100
TZOFFSETTO:+0200
TZNAME:CEST
DTSTART:20240331T010000
END:DAYLIGHT
BEGIN:STANDARD
TZOFFSETFROM:+0200
TZOFFSETTO:+0100
TZNAME:CET
DTSTART:20241027T010000
END:STANDARD
END:VTIMEZONE
BEGIN:VEVENT
DTSTART;TZID=Europe/Madrid:20231017T190000
DTEND;TZID=Europe/Madrid:20231017T190000
DTSTAMP:20260425T000956
CREATED:20231003T082701Z
LAST-MODIFIED:20231003T082701Z
UID:10013759-1697569200-1697569200@disfruta-denia.com
SUMMARY:Conferencia: ESTRUCTURAS VOLANTES
DESCRIPTION:A cargo de José María Yturralde. Pintor. Catedrático de Pintura de la Facultad de Bellas artes de València. Premio Nacional de Artes Plásticas 2020\, otorgado por el Ministerio de Cultura y Deportes por su nivel de experimentación en su trayectoria\, donde ha conectado arte y ciencia. \nEntrada:  lliure fins a completar aforament/ libre hasta completar aforo.
URL:https://disfruta-denia.com/evento/conferencia-estructuras-volantes/
LOCATION:Centre d’art l’Estació\, Carrer Calderón\, 2\, Denia\, Alicante\, 03700\, España
CATEGORIES:Charlas y conferencias,Cultura
ATTACH;FMTTYPE=image/png:https://disfruta-denia.com/wp-content/uploads/2023/10/16-Conferencia-Yturralde.png
ORGANIZER;CN="Denia Cultura":MAILTO:cultura@ayto-denia.es
END:VEVENT
BEGIN:VEVENT
DTSTART;TZID=Europe/Madrid:20231019T200000
DTEND;TZID=Europe/Madrid:20231019T200000
DTSTAMP:20260425T000956
CREATED:20231003T081621Z
LAST-MODIFIED:20231003T081621Z
UID:10013755-1697745600-1697745600@disfruta-denia.com
SUMMARY:Conferencia: JOAQUÍN SOROLLA EN DÉNIA Y EL TRABAJO DE L’ESCALDÀ
DESCRIPTION:A cargo de  David Gutiérrez Pulido. Historiador del Arte i/y Gestor Cultural. \nConferencia en donde se explicará las visitas del pintor a Dénia\, la lectura de sus cartas con sus impresiones y el proceso de la elaboración de la pasa con los dibujos\, notas de color\, pinturas e impresiones que el pintor tuvo y realizó en su obra. 
URL:https://disfruta-denia.com/evento/conferencia-joaquin-sorolla-en-denia-y-el-trabajo-de-lescalda/
LOCATION:Casa de la Cultura Denia\, Plaça Jaume I\, Denia\, Alicante\, 03700\, España
CATEGORIES:Charlas y conferencias,Cultura
ATTACH;FMTTYPE=image/png:https://disfruta-denia.com/wp-content/uploads/2023/10/16-conferencia-Sorolla.png
END:VEVENT
BEGIN:VEVENT
DTSTART;VALUE=DATE:20231026
DTEND;VALUE=DATE:20231030
DTSTAMP:20260425T000956
CREATED:20230810T080724Z
LAST-MODIFIED:20230810T080724Z
UID:10012992-1698292800-1698551999@disfruta-denia.com
SUMMARY:Festival de les Humanitats 2023
DESCRIPTION: Crear conciencia. Crear pensamiento. Crear entendimiento.\nVuelve Dénia\, Festival de las Humanidades.
URL:https://disfruta-denia.com/evento/festival-de-les-humanitats-2023/
LOCATION:Denia\, Denia\, Alicante\, 03700\, España
CATEGORIES:Charlas y conferencias,Cultura
ATTACH;FMTTYPE=image/jpeg:https://disfruta-denia.com/wp-content/uploads/2023/08/365770314_252583197604898_3370829534933976029_n.jpg
END:VEVENT
BEGIN:VEVENT
DTSTART;VALUE=DATE:20231026
DTEND;VALUE=DATE:20231030
DTSTAMP:20260425T000956
CREATED:20231003T083436Z
LAST-MODIFIED:20231003T083436Z
UID:10013761-1698292800-1698551999@disfruta-denia.com
SUMMARY:DÉNIA FESTIVAL DE LES HUMANITATS 2023
DESCRIPTION:MIRAR ATRÁS PARA SABER DÓNDE VAMOS.  \nEn este camino en que se cruzan el pasado y el futuro\, las humanidades y la ciencia\, transita el segundo Dénia Festival de las Humanidades. Divisaremos el futuro con una mirada de reojo al pasado y atentos a las mutaciones que pueda sufrir una especie en tránsito acelerado desde la modernidad. \n+ Inf.: http://www.denia.net   //   https://deniafestivaldeleshumanitats.org \n  \nActivitats culturals paral·leles al festival: \n \n\nDivendres 27 al C/ Marqués de Campo de 18 a  20 h\n\nActuació de l’alumnat del / actuación del alumnado del Conservatori Superior de Música “Tenor Cortis” de Dénia i/y de l’Agrupació Artística Musical de Dénia. \n \n\nDissabte 28 a la Plaça del Consell a partir de 19 h.\n\n      Taller de Swing i posterior actuació per professorat i alumnat / actuación de profesorado y alumnado  de La Marina Lindy Hob
URL:https://disfruta-denia.com/evento/denia-festival-de-les-humanitats-2023/
LOCATION:Multiespai L’Androna\, Estación Marítima\, S/N\, Denia\, Alicante\, 03700\, España
CATEGORIES:Charlas y conferencias,Cultura,Presentación
ATTACH;FMTTYPE=image/png:https://disfruta-denia.com/wp-content/uploads/2023/10/21-Festival-Humanitats.png
END:VEVENT
END:VCALENDAR