BEGIN:VCALENDAR
VERSION:2.0
PRODID:-//Disfruta Denia - ECPv6.15.20//NONSGML v1.0//EN
CALSCALE:GREGORIAN
METHOD:PUBLISH
X-ORIGINAL-URL:https://disfruta-denia.com
X-WR-CALDESC:Eventos para Disfruta Denia
REFRESH-INTERVAL;VALUE=DURATION:PT1H
X-Robots-Tag:noindex
X-PUBLISHED-TTL:PT1H
BEGIN:VTIMEZONE
TZID:Europe/Madrid
BEGIN:DAYLIGHT
TZOFFSETFROM:+0100
TZOFFSETTO:+0200
TZNAME:CEST
DTSTART:20230326T010000
END:DAYLIGHT
BEGIN:STANDARD
TZOFFSETFROM:+0200
TZOFFSETTO:+0100
TZNAME:CET
DTSTART:20231029T010000
END:STANDARD
BEGIN:DAYLIGHT
TZOFFSETFROM:+0100
TZOFFSETTO:+0200
TZNAME:CEST
DTSTART:20240331T010000
END:DAYLIGHT
BEGIN:STANDARD
TZOFFSETFROM:+0200
TZOFFSETTO:+0100
TZNAME:CET
DTSTART:20241027T010000
END:STANDARD
BEGIN:DAYLIGHT
TZOFFSETFROM:+0100
TZOFFSETTO:+0200
TZNAME:CEST
DTSTART:20250330T010000
END:DAYLIGHT
BEGIN:STANDARD
TZOFFSETFROM:+0200
TZOFFSETTO:+0100
TZNAME:CET
DTSTART:20251026T010000
END:STANDARD
END:VTIMEZONE
BEGIN:VEVENT
DTSTART;TZID=Europe/Madrid:20240411T173000
DTEND;TZID=Europe/Madrid:20240411T173000
DTSTAMP:20260424T132413
CREATED:20240326T094658Z
LAST-MODIFIED:20240326T131828Z
UID:10017844-1712856600-1712856600@disfruta-denia.com
SUMMARY:Una aproximación científica/sociológica a la longevidad
DESCRIPTION:Con la participación de María Ángeles Durán\, catedrática de Sociología en el Centro de Ciencias Humanas y Sociales del CSIC y Premio Nacional de Sociología y Ciencia Política y Josefa Ros\, investigadora del programa Postdoctoral Research Fellowships at Harvard University for Distinguished Junior Scholars\, especialista en el análisis del aburrimiento dentro de la psicogerontologÍa y la geriatría\, moderadas por Antonio Ariño\, catedrático de Sociología en la Facultad de Ciencias Sociales de la Universitat de València.
URL:https://disfruta-denia.com/evento/una-aproximacion-cientifica-sociologica-a-la-longevidad/
LOCATION:Teatro Auditorio Centro Social\, 4 Carrer Calderón\, Dénia\, VC\, 03700\, Spain
CATEGORIES:Charlas y conferencias,Cultura
ATTACH;FMTTYPE=image/png:https://disfruta-denia.com/wp-content/uploads/2024/03/433652969_377843968412153_7575077268703306405_n.png
END:VEVENT
BEGIN:VEVENT
DTSTART;TZID=Europe/Madrid:20240411T190000
DTEND;TZID=Europe/Madrid:20240411T190000
DTSTAMP:20260424T132413
CREATED:20240326T095027Z
LAST-MODIFIED:20240326T131759Z
UID:10017845-1712862000-1712862000@disfruta-denia.com
SUMMARY:Vivir y convivir con el envejecimiento
DESCRIPTION:Con la participación de Xita Rubert\, escritora\, autora de Mis días con los Kopp y Norbert Bilbeny\, filósofo\, catedrático de Ética en la Universitat de Barcelona\, autor de La enfermedad del *Olvido. El mal de Alzheimer y la persona moderadas por Josep Ramoneda\, director de La Maleta de Portbou y director académico del Dénia Festival de les Humanitats.
URL:https://disfruta-denia.com/evento/vivir-y-convivir-con-el-envejecimiento/
LOCATION:Teatro Auditorio Centro Social\, 4 Carrer Calderón\, Dénia\, VC\, 03700\, Spain
CATEGORIES:Charlas y conferencias,Cultura
ATTACH;FMTTYPE=image/png:https://disfruta-denia.com/wp-content/uploads/2024/03/433652969_377843968412153_7575077268703306405_n.png
END:VEVENT
BEGIN:VEVENT
DTSTART;TZID=Europe/Madrid:20240423T103000
DTEND;TZID=Europe/Madrid:20240423T103000
DTSTAMP:20260424T132413
CREATED:20240416T134548Z
LAST-MODIFIED:20240416T134548Z
UID:10018178-1713868200-1713868200@disfruta-denia.com
SUMMARY:Cuentacuentos de los yayos
DESCRIPTION:Con motivo de la conmemoración del Día del Libro\, el próximo martes\, 23 de abril\, la Concejalía del Mayor lanza la iniciativa «Los cuentos de los yayos». La actividad consistirá en que las personas mayores que así lo deseen\, previa inscripción\, acudan el Día del Libro a leer libros al alumnado de los colegios de Dénia. \n  \nLa finalidad de esta actividad es animar a las personas mayores a convertirse por un día\, en cuentacuentos por un día para las niñas y los niños de Dénia. “Se trata de una actividad intergeneracional y de fomento de la lectura\, que también queremos que sirva para recuperar los cuentos más populares\, que conocen nuestros abuelos. Es una manera muy especial de celebrar un día tan bonito dedicado a los libros\, ha destacado Marta Gascó\, la concejala del Major. \n  \nTodas aquellas personas que quieran participar en la iniciativa “Los cuentos de los yayos”\, se tienen que inscribir desde hoy\, 16 de abril\, hasta el 22 de abril en \nla Oficina del Mayor del Centro Social (en horario de 9 a 13 y de 17 a 19 h). \n  \nLas voluntarias y voluntarios se desplazarán el 23 de abril a los colegios de la ciudad para leer cuentos a los más pequeños. Por el momento\, la Concejalía del Mayor ha confirmado la participación del colegio Vessanes en la actividad\, y las “yayas” y “yayos” lectores acudirán el martes 23 de abril\, a las 10.30 horas\, a ese centro a leer cuentos al alumnado. La actividad se ha ofrecido al resto de escuelas del municipio. \n  \nBanco de libros en el Centro Social \n  \nEl Día del Libro se abrirá también un nuevo espacio dedicado a los libros. En la sala polivalente de la planta baja del Centro Social\, se instalará una estantería para poner en marcha un ‘banco de libros’\, un sistema de intercambio\, reposición y de reutilización de libros para beneficio de las personas mayores. «Algunas personas hace tiempo que nos piden que habilitemos un lugar donde poder dejar libros ya leídos y coger otros»\, ha explicado Marta Gascó.
URL:https://disfruta-denia.com/evento/cuentacuentos-de-los-yayos/
LOCATION:Denia\, Denia\, Alicante\, 03700\, España
CATEGORIES:Charlas y conferencias,Cultura
ATTACH;FMTTYPE=image/jpeg:https://disfruta-denia.com/wp-content/uploads/2024/04/6962f1.jpg
END:VEVENT
END:VCALENDAR