BEGIN:VCALENDAR
VERSION:2.0
PRODID:-//Disfruta Denia - ECPv6.15.20//NONSGML v1.0//EN
CALSCALE:GREGORIAN
METHOD:PUBLISH
X-ORIGINAL-URL:https://disfruta-denia.com
X-WR-CALDESC:Eventos para Disfruta Denia
REFRESH-INTERVAL;VALUE=DURATION:PT1H
X-Robots-Tag:noindex
X-PUBLISHED-TTL:PT1H
BEGIN:VTIMEZONE
TZID:Europe/Madrid
BEGIN:DAYLIGHT
TZOFFSETFROM:+0100
TZOFFSETTO:+0200
TZNAME:CEST
DTSTART:20230326T010000
END:DAYLIGHT
BEGIN:STANDARD
TZOFFSETFROM:+0200
TZOFFSETTO:+0100
TZNAME:CET
DTSTART:20231029T010000
END:STANDARD
BEGIN:DAYLIGHT
TZOFFSETFROM:+0100
TZOFFSETTO:+0200
TZNAME:CEST
DTSTART:20240331T010000
END:DAYLIGHT
BEGIN:STANDARD
TZOFFSETFROM:+0200
TZOFFSETTO:+0100
TZNAME:CET
DTSTART:20241027T010000
END:STANDARD
BEGIN:DAYLIGHT
TZOFFSETFROM:+0100
TZOFFSETTO:+0200
TZNAME:CEST
DTSTART:20250330T010000
END:DAYLIGHT
BEGIN:STANDARD
TZOFFSETFROM:+0200
TZOFFSETTO:+0100
TZNAME:CET
DTSTART:20251026T010000
END:STANDARD
END:VTIMEZONE
BEGIN:VEVENT
DTSTART;VALUE=DATE:20241017
DTEND;VALUE=DATE:20241203
DTSTAMP:20260424T021011
CREATED:20240924T123152Z
LAST-MODIFIED:20240924T123152Z
UID:10019625-1729137600-1733111999@disfruta-denia.com
SUMMARY:VI FESTIVAL INTERNACIONAL DE FOTOGRAFIA
DESCRIPTION:Inauguració dia 17 a les 18.30 h al Mercat C/ Magallanes.\n\n        BÁRBARA TRAVER. HUMAN.  Façana del Mercat Municipal\, C/ Magallanes. \n        ANNA DEVÍS & DANIEL RUEDA. ANNANDANIEL. What the hat. Plaça del Consell. \n\nConferència a les 19.30 h BEHIND THE SCENES\, per Anna Devís i Daniel Rueda a la Biblioteca Municipal \n\nMés inf.: https://www.festivalojosrojos.com/
URL:https://disfruta-denia.com/evento/vi-festival-internacional-de-fotografia/
LOCATION:Denia\, Denia\, Alicante\, 03700\, España
CATEGORIES:Charlas y conferencias,Cultura,Exposiciones
ATTACH;FMTTYPE=image/png:https://disfruta-denia.com/wp-content/uploads/2024/09/10-Ojos-Rojos-e1727181103533.png
END:VEVENT
BEGIN:VEVENT
DTSTART;TZID=Europe/Madrid:20241019T090000
DTEND;TZID=Europe/Madrid:20241019T190000
DTSTAMP:20260424T021011
CREATED:20240926T073238Z
LAST-MODIFIED:20240926T073356Z
UID:10019638-1729328400-1729364400@disfruta-denia.com
SUMMARY:II Jornada de educación emocional
DESCRIPTION:Este año\, la salud mental se incorpora a la temática con una charla del psicólogo Roberto Aguado\nEl Ajuntament de Dénia y el colegio público Llebeig han organizado una nueva edición de la Jornada de educación emocional\, una propuesta que el año pasado obtuvo un éxito notable de participación y de valoración entre el público asistente y que este año girará sobre la temática general “Educar para ser”. \nLa concejala de Educación y Bienestar Social\, Melani Ivars\, ha destacado de esta edición que “se ha añadido la salud mental a las temáticas\, porque es muy necesario abordarla”. La jornada\, dirigida a familias\, personal docente y público en general\, se celebra el sábado 19 de octubre\, de 9.00 a 19.00 horas\, en el Multiespai L’Androna de la estación marítima de Dénia. El acceso es gratuito previa inscripción\, que puede rellenarse clicando aquí. El aforo máximo es de 200 plazas. \nComponen el programa cuatro charlas conducidas por expertos de diferentes ámbitos. Laia Mestres\, profesional creadora de propuestas y programas de desarrollo emocional\, hablará sobre educar a niños\, niñas y adolescentes emocionalmente competentes. Cecilia Martí es maestra\, especialista universitaria en Orientación y Mediación familiar\, y expondrá cómo manejarse separados como pareja\, pero juntos como padre y madre\, tanto en familia como en la escuela. La responsable de la delegación de Participación Ciudadana de la comisaría de Policía Nacional de Dénia\, Caterina de Francisco\, abordará el tema de la educación\, la seguridad y la salud digital. Y el psicólogo y comunicador Roberto Aguado cerrará esta II Jornada de educación emocional con una charla relacionada con la salud mental y una idea fuerza: “el poder de saber que puedes”. \nLa concejala de Educación ha señalado que la selección de temas y ponentes de esta segunda jornada se ha hecho estudiando las propuestas que los participantes de la anterior edición hicieron al acabarla\, “temas en los que tanto familias como docentes coincidían y que hemos incluido en el programa”. \nLa directora del colegio Llebeig\, Luz Martín\, recuerda que la jornada surge por una propuesta del centro\, que el Ajuntament de Dénia secundó enseguida. “Nuestra inquietud y preocupación por el cambio social que está produciéndose –añade- nos ha llevado a trabajar mucho el tema de la educación emocional y nos condujo a pensar que estaría bien abrir este trabajo a la comarca y más allá”. \nMartín subraya el éxito de la primera edición en 2023\, “que superó en mucho las inscripciones respecto al aforo que teníamos\, con participantes que vinieron\, incluso\, de otras comunidades autónomas” y confía que este año la respuesta también sea buena. La directora afirma que la jornada ha despertado el interés del mundo de la docencia\, las familias y la población en general y anuncia que este año llegará también a la población adolescente con una charla que el psicólogo Roberto Aguado ofrecerá al alumnado de 2.º de ESO de la ciudad en el salón de actos del colegio Llebeig el viernes 18 de octubre. \n  \nEspacio Educación Emocional \nLa jornada está ligada al Espacio Educación Emocional\, uno de los siete que integran el proyecto ‘Ciutat del pensament’ de la Fundació Creativa Dénia\, y forma parte de la programación de actividades paralelas en el Dénia Festival de les Humanitats. \n  \nEl Espacio Educación Emocional trabaja y reflexiona el manejo de las emociones\, tanto en la escuela como casa\, ayudando al alumnado a ser y convivir. Se les enseña a identificar\, expresar y gestionar sus emociones y a resolver conflictos mediante el diálogo. Además\, se exploran diferentes técnicas para aprender a relajarse y se fomenta el respeto\, la empatía y la tolerancia. Todo esto contribuye a crear un vínculo emocional consciente entre el alumnado y el equipo docente.
URL:https://disfruta-denia.com/evento/ii-jornada-de-educacion-emocional/
LOCATION:Multiespai L’Androna\, Estación Marítima\, S/N\, Denia\, Alicante\, 03700\, España
CATEGORIES:Charlas y conferencias,Cultura
ATTACH;FMTTYPE=image/jpeg:https://disfruta-denia.com/wp-content/uploads/2024/09/7129f1.jpg
END:VEVENT
BEGIN:VEVENT
DTSTART;TZID=Europe/Madrid:20241024T100000
DTEND;TZID=Europe/Madrid:20241024T200000
DTSTAMP:20260424T021011
CREATED:20241007T080928Z
LAST-MODIFIED:20241007T080928Z
UID:10019642-1729764000-1729800000@disfruta-denia.com
SUMMARY:Dénia Festival de les Humanitats 2024
DESCRIPTION:Dénia Festival de les Humanitats convierte Dénia\, una edición más\, en el epicentro del pensamiento crítico. Tras los dos exitosos encuentros de otoño y otros dos en formato reducido celebrados en primavera\, el festival humanista de referencia a nivel nacional e internacional vuelve los días 24\, 25 y 26 de octubre con más sesiones de debate\, un amplio programa de actividades paralelas y los mejores ponentes. \nEl Festival multidisciplinar es punto de confluencia de los mayores sabios en ámbitos como la economía\, neurociencia\, medicina\, antropología\, filosofía\, historia\, humanismo\, ética y cultura.
URL:https://disfruta-denia.com/evento/denia-festival-de-les-humanitats-2024/2024-10-24/
LOCATION:Denia\, Denia\, Alicante\, 03700\, España
CATEGORIES:Charlas y conferencias,Cultura,Exposiciones
ATTACH;FMTTYPE=image/jpeg:https://disfruta-denia.com/wp-content/uploads/2024/10/461513324_941894874644960_5849977786641690815_n.jpg
END:VEVENT
BEGIN:VEVENT
DTSTART;TZID=Europe/Madrid:20241025T100000
DTEND;TZID=Europe/Madrid:20241025T190000
DTSTAMP:20260424T021011
CREATED:20241007T080928Z
LAST-MODIFIED:20241007T080928Z
UID:10019643-1729850400-1729882800@disfruta-denia.com
SUMMARY:Dénia Festival de les Humanitats 2024
DESCRIPTION:Dénia Festival de les Humanitats convierte Dénia\, una edición más\, en el epicentro del pensamiento crítico. Tras los dos exitosos encuentros de otoño y otros dos en formato reducido celebrados en primavera\, el festival humanista de referencia a nivel nacional e internacional vuelve los días 24\, 25 y 26 de octubre con más sesiones de debate\, un amplio programa de actividades paralelas y los mejores ponentes. \nEl Festival multidisciplinar es punto de confluencia de los mayores sabios en ámbitos como la economía\, neurociencia\, medicina\, antropología\, filosofía\, historia\, humanismo\, ética y cultura.
URL:https://disfruta-denia.com/evento/denia-festival-de-les-humanitats-2024/2024-10-25/
LOCATION:Denia\, Denia\, Alicante\, 03700\, España
CATEGORIES:Charlas y conferencias,Cultura,Exposiciones
ATTACH;FMTTYPE=image/jpeg:https://disfruta-denia.com/wp-content/uploads/2024/10/461513324_941894874644960_5849977786641690815_n.jpg
END:VEVENT
BEGIN:VEVENT
DTSTART;TZID=Europe/Madrid:20241026T100000
DTEND;TZID=Europe/Madrid:20241026T143000
DTSTAMP:20260424T021011
CREATED:20241007T080928Z
LAST-MODIFIED:20241007T080928Z
UID:10019644-1729936800-1729953000@disfruta-denia.com
SUMMARY:Dénia Festival de les Humanitats 2024
DESCRIPTION:Dénia Festival de les Humanitats convierte Dénia\, una edición más\, en el epicentro del pensamiento crítico. Tras los dos exitosos encuentros de otoño y otros dos en formato reducido celebrados en primavera\, el festival humanista de referencia a nivel nacional e internacional vuelve los días 24\, 25 y 26 de octubre con más sesiones de debate\, un amplio programa de actividades paralelas y los mejores ponentes. \nEl Festival multidisciplinar es punto de confluencia de los mayores sabios en ámbitos como la economía\, neurociencia\, medicina\, antropología\, filosofía\, historia\, humanismo\, ética y cultura.
URL:https://disfruta-denia.com/evento/denia-festival-de-les-humanitats-2024/2024-10-26/
LOCATION:Denia\, Denia\, Alicante\, 03700\, España
CATEGORIES:Charlas y conferencias,Cultura,Exposiciones
ATTACH;FMTTYPE=image/jpeg:https://disfruta-denia.com/wp-content/uploads/2024/10/461513324_941894874644960_5849977786641690815_n.jpg
END:VEVENT
END:VCALENDAR