BEGIN:VCALENDAR
VERSION:2.0
PRODID:-//Disfruta Denia - ECPv6.15.20//NONSGML v1.0//EN
CALSCALE:GREGORIAN
METHOD:PUBLISH
X-WR-CALNAME:Disfruta Denia
X-ORIGINAL-URL:https://disfruta-denia.com
X-WR-CALDESC:Eventos para Disfruta Denia
REFRESH-INTERVAL;VALUE=DURATION:PT1H
X-Robots-Tag:noindex
X-PUBLISHED-TTL:PT1H
BEGIN:VTIMEZONE
TZID:Europe/Madrid
BEGIN:DAYLIGHT
TZOFFSETFROM:+0100
TZOFFSETTO:+0200
TZNAME:CEST
DTSTART:20230326T010000
END:DAYLIGHT
BEGIN:STANDARD
TZOFFSETFROM:+0200
TZOFFSETTO:+0100
TZNAME:CET
DTSTART:20231029T010000
END:STANDARD
BEGIN:DAYLIGHT
TZOFFSETFROM:+0100
TZOFFSETTO:+0200
TZNAME:CEST
DTSTART:20240331T010000
END:DAYLIGHT
BEGIN:STANDARD
TZOFFSETFROM:+0200
TZOFFSETTO:+0100
TZNAME:CET
DTSTART:20241027T010000
END:STANDARD
BEGIN:DAYLIGHT
TZOFFSETFROM:+0100
TZOFFSETTO:+0200
TZNAME:CEST
DTSTART:20250330T010000
END:DAYLIGHT
BEGIN:STANDARD
TZOFFSETFROM:+0200
TZOFFSETTO:+0100
TZNAME:CET
DTSTART:20251026T010000
END:STANDARD
END:VTIMEZONE
BEGIN:VEVENT
DTSTART;VALUE=DATE:20241017
DTEND;VALUE=DATE:20241203
DTSTAMP:20260424T001533
CREATED:20240924T123152Z
LAST-MODIFIED:20240924T123152Z
UID:10019625-1729137600-1733111999@disfruta-denia.com
SUMMARY:VI FESTIVAL INTERNACIONAL DE FOTOGRAFIA
DESCRIPTION:Inauguració dia 17 a les 18.30 h al Mercat C/ Magallanes.\n\n        BÁRBARA TRAVER. HUMAN.  Façana del Mercat Municipal\, C/ Magallanes. \n        ANNA DEVÍS & DANIEL RUEDA. ANNANDANIEL. What the hat. Plaça del Consell. \n\nConferència a les 19.30 h BEHIND THE SCENES\, per Anna Devís i Daniel Rueda a la Biblioteca Municipal \n\nMés inf.: https://www.festivalojosrojos.com/
URL:https://disfruta-denia.com/evento/vi-festival-internacional-de-fotografia/
LOCATION:Denia\, Denia\, Alicante\, 03700\, España
CATEGORIES:Charlas y conferencias,Cultura,Exposiciones
ATTACH;FMTTYPE=image/png:https://disfruta-denia.com/wp-content/uploads/2024/09/10-Ojos-Rojos-e1727181103533.png
END:VEVENT
BEGIN:VEVENT
DTSTART;TZID=Europe/Madrid:20241114T193000
DTEND;TZID=Europe/Madrid:20241114T193000
DTSTAMP:20260424T001533
CREATED:20241031T112409Z
LAST-MODIFIED:20241031T112409Z
UID:10020223-1731612600-1731612600@disfruta-denia.com
SUMMARY:Conferencia: Joaquín Araújo “Naturaleza y educación”
DESCRIPTION:Naturalista\, escriptor\, assagista\, agricultor\, periodista ambiental\, realitzador\, guionista.\nUna vida dedicada a la divulgació i defensa del món natural per a mostrar a la societat la importància del medi ambient en la vida quotidiana. \nNaturalista\, escritor\, ensayista\, agricultor\, periodista ambiental\, realizador\, guionista. \nUna vida dedicada a la divulgación y defensa del mundo natural para mostrar a la sociedad la importancia del medio ambiente en la vida cotidiana.  \nEntrada:  lliure fins a completar aforament / libre hasta completar aforo. En castellà/en castellano. \nOrganitza / Organiza: Ajuntament de Dénia. Medi Ambient.
URL:https://disfruta-denia.com/evento/conferencia-joaquin-araujo-naturaleza-y-educacion/
LOCATION:Casa de la Cultura Denia\, Plaça Jaume I\, Denia\, Alicante\, 03700\, España
CATEGORIES:Charlas y conferencias,Cultura
ATTACH;FMTTYPE=image/png:https://disfruta-denia.com/wp-content/uploads/2024/10/11-Joaquin-Araujo.png
ORGANIZER;CN="Denia Cultura":MAILTO:cultura@ayto-denia.es
END:VEVENT
BEGIN:VEVENT
DTSTART;TZID=Europe/Madrid:20241115T193000
DTEND;TZID=Europe/Madrid:20241115T193000
DTSTAMP:20260424T001533
CREATED:20241031T112542Z
LAST-MODIFIED:20241031T112542Z
UID:10020224-1731699000-1731699000@disfruta-denia.com
SUMMARY:XERRADA-CONCERT
DESCRIPTION:Presentació d’un podcast sobre els paisatges sonors de la Marina Alta de l’artista sonor EDU COMELLES.  \nUn documental sonor que explora els diferents entorns sonors de la Marina Alta\, destacant la seua diversitat i singularitat. \nPresentación de un podcast sobre los paisajes sonoros de la Marina Alta del artista sonoro EDU COMELLES.  \nUn documental sonoro que explora los diferentes entornos sonoros de la Marina Alta\, destacando su diversidad y singularidad.  \nOrganitza/organiza: Fundación Salom Sabar. 
URL:https://disfruta-denia.com/evento/xerrada-concert/
LOCATION:Casa de la Cultura Denia\, Plaça Jaume I\, Denia\, Alicante\, 03700\, España
CATEGORIES:Charlas y conferencias,Cultura
ATTACH;FMTTYPE=image/png:https://disfruta-denia.com/wp-content/uploads/2024/10/12-Podcast-Edu-Comelles.png
ORGANIZER;CN="Denia Cultura":MAILTO:cultura@ayto-denia.es
END:VEVENT
BEGIN:VEVENT
DTSTART;TZID=Europe/Madrid:20241129T183000
DTEND;TZID=Europe/Madrid:20241129T183000
DTSTAMP:20260424T001533
CREATED:20241119T194926Z
LAST-MODIFIED:20241119T194926Z
UID:10020312-1732905000-1732905000@disfruta-denia.com
SUMMARY:Charla sobre el mundo del piercing dirigida a jóvenes y familias
DESCRIPTION:El Departamento de Juventud del Ajuntament de Dénia ha organizado\, en colaboración con Andrea Ibáñez\, aplicadora de piercings y estilista profesional\, una charla informativa sobre el mundo del piercing para el viernes 29 de noviembre\, a las 18.30 horas\, en el edificio de Juventud (Ronda Muralles\, 42). \nEsta charla está dirigida tanto a jóvenes interesados en dedicarse profesionalmente a esta disciplina como al público en general que quiera conocer más sobre el proceso de realización de piercings. La entrada es gratuita. \nLa sesión incluirá información detallada y práctica sobre estos temas: \n•           Higiene y seguridad: consejos sobre limpieza y esterilización para garantizar buenas prácticas y evitar infecciones. \n•           Materiales y alergias: recomendaciones sobre materiales adecuados para el cuerpo y cómo prevenir reacciones alérgicas. \n•           Joyería y estilismo: la elección de joyería correcta para cada piercing y adaptada al estilo personal. \n•           Cicatrización y curas posteriores: tiempo de curación de cada piercing y consejos para una recuperación saludable. \nLa actividad contará con dinámicas y casos prácticos\, que permitirán a los asistentes profundizar en los contenidos y resolver dudas de una manera interactiva y enriquecedora. \n“Desde el Departamento de Juventud –señala el concejal Valen Alcalà – continuamos trabajando para ofrecer actividades que sean útiles e interesantes para nuestra juventud\, combinando educación\, formación y entretenimiento”. \nPara mayor información\, podéis contactar con Juventud a través del correo electrónico joventut@ayto-denia.es o del teléfono : 96 642 37 00.
URL:https://disfruta-denia.com/evento/charla-sobre-el-mundo-del-piercing-dirigida-a-jovenes-y-familias/
LOCATION:Edificio Joventut\, Ronda Muralles\, Dénia\, 03700\, España
CATEGORIES:Charlas y conferencias,Cultura
ATTACH;FMTTYPE=image/jpeg:https://disfruta-denia.com/wp-content/uploads/2024/11/7193f1.jpg
END:VEVENT
END:VCALENDAR