BEGIN:VCALENDAR
VERSION:2.0
PRODID:-//Disfruta Denia - ECPv6.15.20//NONSGML v1.0//EN
CALSCALE:GREGORIAN
METHOD:PUBLISH
X-ORIGINAL-URL:https://disfruta-denia.com
X-WR-CALDESC:Eventos para Disfruta Denia
REFRESH-INTERVAL;VALUE=DURATION:PT1H
X-Robots-Tag:noindex
X-PUBLISHED-TTL:PT1H
BEGIN:VTIMEZONE
TZID:Europe/Madrid
BEGIN:DAYLIGHT
TZOFFSETFROM:+0100
TZOFFSETTO:+0200
TZNAME:CEST
DTSTART:20250330T010000
END:DAYLIGHT
BEGIN:STANDARD
TZOFFSETFROM:+0200
TZOFFSETTO:+0100
TZNAME:CET
DTSTART:20251026T010000
END:STANDARD
BEGIN:DAYLIGHT
TZOFFSETFROM:+0100
TZOFFSETTO:+0200
TZNAME:CEST
DTSTART:20260329T010000
END:DAYLIGHT
BEGIN:STANDARD
TZOFFSETFROM:+0200
TZOFFSETTO:+0100
TZNAME:CET
DTSTART:20261025T010000
END:STANDARD
BEGIN:DAYLIGHT
TZOFFSETFROM:+0100
TZOFFSETTO:+0200
TZNAME:CEST
DTSTART:20270328T010000
END:DAYLIGHT
BEGIN:STANDARD
TZOFFSETFROM:+0200
TZOFFSETTO:+0100
TZNAME:CET
DTSTART:20271031T010000
END:STANDARD
END:VTIMEZONE
BEGIN:VEVENT
DTSTART;TZID=Europe/Madrid:20260323T193000
DTEND;TZID=Europe/Madrid:20260323T193000
DTSTAMP:20260420T193757
CREATED:20260220T104852Z
LAST-MODIFIED:20260220T104852Z
UID:10026539-1774294200-1774294200@disfruta-denia.com
SUMMARY:KOINÓS DÉNIA
DESCRIPTION:Noelia Rodiles en conversa amb Javier López Alós \nEncontres sobre cinema\, música i pensament   \nEntrada: lliure limitada a l’aforament del local / libre limitada al aforo del local.                                       \nOrganitza/organiza: Cine-Club Pessic i L’Esperança Coronada.  
URL:https://disfruta-denia.com/evento/koinos-denia/
LOCATION:Biblioteca pública Denia\, c/ de Sant Josep\, 6\, Denia\, Alicante\, 03700\, España
CATEGORIES:Charlas y conferencias,Cultura
ATTACH;FMTTYPE=image/png:https://disfruta-denia.com/wp-content/uploads/2026/02/12-KOINOS.png
END:VEVENT
END:VCALENDAR