BEGIN:VCALENDAR
VERSION:2.0
PRODID:-//Disfruta Denia - ECPv6.15.20//NONSGML v1.0//EN
CALSCALE:GREGORIAN
METHOD:PUBLISH
X-ORIGINAL-URL:https://disfruta-denia.com
X-WR-CALDESC:Eventos para Disfruta Denia
REFRESH-INTERVAL;VALUE=DURATION:PT1H
X-Robots-Tag:noindex
X-PUBLISHED-TTL:PT1H
BEGIN:VTIMEZONE
TZID:Europe/Madrid
BEGIN:DAYLIGHT
TZOFFSETFROM:+0100
TZOFFSETTO:+0200
TZNAME:CEST
DTSTART:20220327T010000
END:DAYLIGHT
BEGIN:STANDARD
TZOFFSETFROM:+0200
TZOFFSETTO:+0100
TZNAME:CET
DTSTART:20221030T010000
END:STANDARD
BEGIN:DAYLIGHT
TZOFFSETFROM:+0100
TZOFFSETTO:+0200
TZNAME:CEST
DTSTART:20230326T010000
END:DAYLIGHT
BEGIN:STANDARD
TZOFFSETFROM:+0200
TZOFFSETTO:+0100
TZNAME:CET
DTSTART:20231029T010000
END:STANDARD
BEGIN:DAYLIGHT
TZOFFSETFROM:+0100
TZOFFSETTO:+0200
TZNAME:CEST
DTSTART:20240331T010000
END:DAYLIGHT
BEGIN:STANDARD
TZOFFSETFROM:+0200
TZOFFSETTO:+0100
TZNAME:CET
DTSTART:20241027T010000
END:STANDARD
END:VTIMEZONE
BEGIN:VEVENT
DTSTART;TZID=Europe/Madrid:20231208T203000
DTEND;TZID=Europe/Madrid:20231208T203000
DTSTAMP:20260424T131247
CREATED:20231117T170820Z
LAST-MODIFIED:20231117T170820Z
UID:10014825-1702067400-1702067400@disfruta-denia.com
SUMMARY:Flamenco: Pastora Galván
DESCRIPTION:One of the best events you can see from the dance and Cante flamenco. \nPASTORA GALVÁN \nAs a guest of honour this coming Friday\, December 8 from 8:30 p.m. \nIn Teatro Auditorio Centro Social. (Denia) Alicante \nCalle Calderón No. 4 \nOn the poster you will have all the information to collect your tickets. \nAt the microphone we will have a. \nJORGE Del KIRI \nRAFAEL VARGAS (the Chinese) \nGuitars. \nRAFAEL Del KIRI \nJUAN De PILAR \nDance and Palms. \nCHARI TORRES \nMANUELA JIMÉNEZ \nREBECCA CARMONA \nPercussion. \nVICTOR RODRÍGUEZ
URL:https://disfruta-denia.com/evento/flamenco-pastora-galvan/
LOCATION:Teatro Auditorio Centro Social\, 4 Carrer Calderón\, Dénia\, VC\, 03700\, Spain
CATEGORIES:Cultura,Danza,Espectáculo
ATTACH;FMTTYPE=image/jpeg:https://disfruta-denia.com/wp-content/uploads/2023/11/401769944_3672780716381080_8808516322902472585_n.jpg
END:VEVENT
BEGIN:VEVENT
DTSTART;TZID=Europe/Madrid:20231208T203000
DTEND;TZID=Europe/Madrid:20231208T203000
DTSTAMP:20260424T131247
CREATED:20231128T100734Z
LAST-MODIFIED:20231128T100734Z
UID:10014903-1702067400-1702067400@disfruta-denia.com
SUMMARY:Flamenco: PASTORA GALVÁN
DESCRIPTION:PASTORA GALVÁN\, balladora / bailaora. \nCant/cante: Jorge del Kiri\, Rafael Vargas (El Chino); Guitarra: Rafael del Kiri\, Juan de Pilar; Ball i palmes/Baile y palmas: Chari Torres\, Manuela Jiménez\, Rebeca Carmona; Percussió/Percusión: Víctor Rodríguez. \nEntrada anticipada: 18 € en: Claro Comunicación: 96 578 93 25\, Escuela de baile Fina Porta: 673 706 058 i todos los viernes / tots el divendres en la taquilla del Centro Social de 10 a 13 h. \nEn taquilla 20 €\,  el mismo dia dos hora antes / el mateix dia dos hores abans.  + INFO.: 687 052 849.
URL:https://disfruta-denia.com/evento/flamenco-pastora-galvan-2/
LOCATION:Teatro Auditorio Centro Social\, 4 Carrer Calderón\, Dénia\, VC\, 03700\, Spain
CATEGORIES:Baile,Cultura,Danza,Música
ATTACH;FMTTYPE=image/png:https://disfruta-denia.com/wp-content/uploads/2023/11/6-Flamenco-dia-8.png
END:VEVENT
END:VCALENDAR