BEGIN:VCALENDAR
VERSION:2.0
PRODID:-//Disfruta Denia - ECPv6.15.20//NONSGML v1.0//EN
CALSCALE:GREGORIAN
METHOD:PUBLISH
X-ORIGINAL-URL:https://disfruta-denia.com
X-WR-CALDESC:Eventos para Disfruta Denia
REFRESH-INTERVAL;VALUE=DURATION:PT1H
X-Robots-Tag:noindex
X-PUBLISHED-TTL:PT1H
BEGIN:VTIMEZONE
TZID:Europe/Madrid
BEGIN:DAYLIGHT
TZOFFSETFROM:+0100
TZOFFSETTO:+0200
TZNAME:CEST
DTSTART:20230326T010000
END:DAYLIGHT
BEGIN:STANDARD
TZOFFSETFROM:+0200
TZOFFSETTO:+0100
TZNAME:CET
DTSTART:20231029T010000
END:STANDARD
BEGIN:DAYLIGHT
TZOFFSETFROM:+0100
TZOFFSETTO:+0200
TZNAME:CEST
DTSTART:20240331T010000
END:DAYLIGHT
BEGIN:STANDARD
TZOFFSETFROM:+0200
TZOFFSETTO:+0100
TZNAME:CET
DTSTART:20241027T010000
END:STANDARD
BEGIN:DAYLIGHT
TZOFFSETFROM:+0100
TZOFFSETTO:+0200
TZNAME:CEST
DTSTART:20250330T010000
END:DAYLIGHT
BEGIN:STANDARD
TZOFFSETFROM:+0200
TZOFFSETTO:+0100
TZNAME:CET
DTSTART:20251026T010000
END:STANDARD
END:VTIMEZONE
BEGIN:VEVENT
DTSTART;TZID=Europe/Madrid:20240216T190000
DTEND;TZID=Europe/Madrid:20240216T190000
DTSTAMP:20260424T112601
CREATED:20240118T140442Z
LAST-MODIFIED:20240118T140442Z
UID:10015781-1708110000-1708110000@disfruta-denia.com
SUMMARY:Danza del vientre y cena lebanesa
DESCRIPTION:¡Las Arabian Nights vuelven a MoVida Dénia en 2024! ¡Sumérjase en un viaje culinario y cultural al Líbano y más allá para experimentar un auténtico banquete tradicional libanés de 3 platos mientras queda hipnotizado por la artística danza del vientre de Claudia Caldera en vivo! \nviernes 16 de Febrero\nviernes 15 de Marzo\nviernes 19 de Abril\nviernes 17 de Mayo\nviernes 14 de Junio
URL:https://disfruta-denia.com/evento/danza-del-vientre-y-cena-lebanesa/2024-02-16/
LOCATION:Movida Denia\, Carrer del Pont\, 29\, Denia\, Alicante\, 03700\, España
CATEGORIES:Cultura,Danza,Gastronomía
ATTACH;FMTTYPE=image/jpeg:https://disfruta-denia.com/wp-content/uploads/2024/01/419521567_913445284116290_2106551917712111023_n-1.jpg
END:VEVENT
END:VCALENDAR