BEGIN:VCALENDAR
VERSION:2.0
PRODID:-//Disfruta Denia - ECPv6.15.20//NONSGML v1.0//EN
CALSCALE:GREGORIAN
METHOD:PUBLISH
X-ORIGINAL-URL:https://disfruta-denia.com
X-WR-CALDESC:Eventos para Disfruta Denia
REFRESH-INTERVAL;VALUE=DURATION:PT1H
X-Robots-Tag:noindex
X-PUBLISHED-TTL:PT1H
BEGIN:VTIMEZONE
TZID:Europe/Madrid
BEGIN:DAYLIGHT
TZOFFSETFROM:+0100
TZOFFSETTO:+0200
TZNAME:CEST
DTSTART:20230326T010000
END:DAYLIGHT
BEGIN:STANDARD
TZOFFSETFROM:+0200
TZOFFSETTO:+0100
TZNAME:CET
DTSTART:20231029T010000
END:STANDARD
BEGIN:DAYLIGHT
TZOFFSETFROM:+0100
TZOFFSETTO:+0200
TZNAME:CEST
DTSTART:20240331T010000
END:DAYLIGHT
BEGIN:STANDARD
TZOFFSETFROM:+0200
TZOFFSETTO:+0100
TZNAME:CET
DTSTART:20241027T010000
END:STANDARD
BEGIN:DAYLIGHT
TZOFFSETFROM:+0100
TZOFFSETTO:+0200
TZNAME:CEST
DTSTART:20250330T010000
END:DAYLIGHT
BEGIN:STANDARD
TZOFFSETFROM:+0200
TZOFFSETTO:+0100
TZNAME:CET
DTSTART:20251026T010000
END:STANDARD
END:VTIMEZONE
BEGIN:VEVENT
DTSTART;TZID=Europe/Madrid:20240413T200000
DTEND;TZID=Europe/Madrid:20240413T200000
DTSTAMP:20260424T054924
CREATED:20240320T094311Z
LAST-MODIFIED:20240320T094311Z
UID:10017826-1713038400-1713038400@disfruta-denia.com
SUMMARY:¡NO PUEDE SER!. La Zarzuela como nunca la habías escuchado.
DESCRIPTION:Púrpura Pansa. Quartet de saxofons. \nTanya Durán Gil\, soprano & Mario Corberán\, tenor \nEntrada 10 € en https://www.notikumi.com \nTaquilla: el mateix dia una hora abans / el mismo día una hora antes.
URL:https://disfruta-denia.com/evento/no-puede-ser-la-zarzuela-como-nunca-la-habias-escuchado/
LOCATION:Teatro Auditorio Centro Social\, 4 Carrer Calderón\, Dénia\, VC\, 03700\, Spain
CATEGORIES:Cultura,Danza,Espectáculo
ATTACH;FMTTYPE=image/png:https://disfruta-denia.com/wp-content/uploads/2024/03/5-Zarzuela-no-puede-ser.png
ORGANIZER;CN="Denia Cultura":MAILTO:cultura@ayto-denia.es
END:VEVENT
BEGIN:VEVENT
DTSTART;TZID=Europe/Madrid:20240413T203000
DTEND;TZID=Europe/Madrid:20240413T203000
DTSTAMP:20260424T054924
CREATED:20240313T102210Z
LAST-MODIFIED:20240313T102210Z
UID:10017812-1713040200-1713040200@disfruta-denia.com
SUMMARY:Tablao L'Androna
DESCRIPTION:¡Prepárate para una noche llena de pasión y ritmo flamenco en Tablao l’Adrona! 💃🏽 \nCon actuaciones en directo\, cena\, tapas y reservados. Muy pronto conoceremos a los artistas invitados 🤩 \n📌 Tienes una cita 13 de abril a las 20:30 horas en l’Androna Multiespai. \n🎟️ Entradas a la venta próximamente. \n#TablaoAndrona #AndronaMultiespai #CenaConEspectaculo #Flamenco #RaicesFlamencas #Denia\n¡Te esperamos! \n#TablaoAndrona #
URL:https://disfruta-denia.com/evento/tablao-landrona/
LOCATION:Multiespai L’Androna\, Estación Marítima\, S/N\, Denia\, Alicante\, 03700\, España
CATEGORIES:Cultura,Danza
ATTACH;FMTTYPE=image/jpeg:https://disfruta-denia.com/wp-content/uploads/2024/03/IMG_6186.jpeg
END:VEVENT
BEGIN:VEVENT
DTSTART;TZID=Europe/Madrid:20240414T120000
DTEND;TZID=Europe/Madrid:20240414T120000
DTSTAMP:20260424T054924
CREATED:20240320T094811Z
LAST-MODIFIED:20240407T102027Z
UID:10017828-1713096000-1713096000@disfruta-denia.com
SUMMARY:DANZAS POPULARES VALENCIANAS
DESCRIPTION:DANZAS POPULARES VALENCIANAS con el Grupo de infantil de Dianium Dansa y dulzaina y tambor
URL:https://disfruta-denia.com/evento/danzas-populares-valencianas-2/
LOCATION:Carrer del Marqués de Campo\, Carrer del Marqués de Campo\, Denia\, Alicante\, 03700\, España
CATEGORIES:Cultura,Danza,Espectáculo
ATTACH;FMTTYPE=image/png:https://disfruta-denia.com/wp-content/uploads/2024/03/unnamed-7.png
ORGANIZER;CN="Denia Cultura":MAILTO:cultura@ayto-denia.es
END:VEVENT
BEGIN:VEVENT
DTSTART;TZID=Europe/Madrid:20240419T190000
DTEND;TZID=Europe/Madrid:20240419T190000
DTSTAMP:20260424T054924
CREATED:20240118T140442Z
LAST-MODIFIED:20240118T140442Z
UID:10015783-1713553200-1713553200@disfruta-denia.com
SUMMARY:Danza del vientre y cena lebanesa
DESCRIPTION:¡Las Arabian Nights vuelven a MoVida Dénia en 2024! ¡Sumérjase en un viaje culinario y cultural al Líbano y más allá para experimentar un auténtico banquete tradicional libanés de 3 platos mientras queda hipnotizado por la artística danza del vientre de Claudia Caldera en vivo! \nviernes 16 de Febrero\nviernes 15 de Marzo\nviernes 19 de Abril\nviernes 17 de Mayo\nviernes 14 de Junio
URL:https://disfruta-denia.com/evento/danza-del-vientre-y-cena-lebanesa/2024-04-19/
LOCATION:Movida Denia\, Carrer del Pont\, 29\, Denia\, Alicante\, 03700\, España
CATEGORIES:Cultura,Danza,Gastronomía
ATTACH;FMTTYPE=image/jpeg:https://disfruta-denia.com/wp-content/uploads/2024/01/419521567_913445284116290_2106551917712111023_n-1.jpg
END:VEVENT
BEGIN:VEVENT
DTSTART;TZID=Europe/Madrid:20240427T200000
DTEND;TZID=Europe/Madrid:20240427T200000
DTSTAMP:20260424T054924
CREATED:20240320T100134Z
LAST-MODIFIED:20240320T100134Z
UID:10017835-1714248000-1714248000@disfruta-denia.com
SUMMARY:Neira & Santamaría Companyia de Danza Española y Flamenco
DESCRIPTION:TIEMPO ETERNO \nEntrada 10 € en  \nhttps://www.notikumi.com  \nTaquilla: el mateix dia una hora abans / el mismo día una hora antes.
URL:https://disfruta-denia.com/evento/neira-santamaria-companyia-de-danza-espanola-y-flamenco/
LOCATION:Teatro Auditorio Centro Social\, 4 Carrer Calderón\, Dénia\, VC\, 03700\, Spain
CATEGORIES:Cultura,Danza,Espectáculo
ATTACH;FMTTYPE=image/png:https://disfruta-denia.com/wp-content/uploads/2024/03/12-TIEMPO-ETERNO.png
ORGANIZER;CN="Denia Cultura":MAILTO:cultura@ayto-denia.es
END:VEVENT
END:VCALENDAR