BEGIN:VCALENDAR
VERSION:2.0
PRODID:-//Disfruta Denia - ECPv6.15.20//NONSGML v1.0//EN
CALSCALE:GREGORIAN
METHOD:PUBLISH
X-WR-CALNAME:Disfruta Denia
X-ORIGINAL-URL:https://disfruta-denia.com
X-WR-CALDESC:Eventos para Disfruta Denia
REFRESH-INTERVAL;VALUE=DURATION:PT1H
X-Robots-Tag:noindex
X-PUBLISHED-TTL:PT1H
BEGIN:VTIMEZONE
TZID:Europe/Madrid
BEGIN:DAYLIGHT
TZOFFSETFROM:+0100
TZOFFSETTO:+0200
TZNAME:CEST
DTSTART:20230326T010000
END:DAYLIGHT
BEGIN:STANDARD
TZOFFSETFROM:+0200
TZOFFSETTO:+0100
TZNAME:CET
DTSTART:20231029T010000
END:STANDARD
BEGIN:DAYLIGHT
TZOFFSETFROM:+0100
TZOFFSETTO:+0200
TZNAME:CEST
DTSTART:20240331T010000
END:DAYLIGHT
BEGIN:STANDARD
TZOFFSETFROM:+0200
TZOFFSETTO:+0100
TZNAME:CET
DTSTART:20241027T010000
END:STANDARD
BEGIN:DAYLIGHT
TZOFFSETFROM:+0100
TZOFFSETTO:+0200
TZNAME:CEST
DTSTART:20250330T010000
END:DAYLIGHT
BEGIN:STANDARD
TZOFFSETFROM:+0200
TZOFFSETTO:+0100
TZNAME:CET
DTSTART:20251026T010000
END:STANDARD
END:VTIMEZONE
BEGIN:VEVENT
DTSTART;TZID=Europe/Madrid:20240504T113000
DTEND;TZID=Europe/Madrid:20240504T200000
DTSTAMP:20260424T035530
CREATED:20240424T071726Z
LAST-MODIFIED:20240424T071726Z
UID:10018189-1714822200-1714852800@disfruta-denia.com
SUMMARY:II Festival Dénia d’Arts de Carrer/Moviment/Acció
DESCRIPTION:Direcció artística  / dirección artística: Frágiles  Danza.   \nOrganitza i Patrocina / Organiza y Patrocina: Ajuntament de Dénia. Cultura.
URL:https://disfruta-denia.com/evento/ii-festival-denia-darts-de-carrer-moviment-accio/
LOCATION:Carrer del Marqués de Campo\, Carrer del Marqués de Campo\, Denia\, Alicante\, 03700\, España
CATEGORIES:Cultura,Danza,Festival
ATTACH;FMTTYPE=image/png:https://disfruta-denia.com/wp-content/uploads/2024/04/4-DAMA.png
ORGANIZER;CN="Denia Cultura":MAILTO:cultura@ayto-denia.es
END:VEVENT
BEGIN:VEVENT
DTSTART;TZID=Europe/Madrid:20240517T190000
DTEND;TZID=Europe/Madrid:20240517T190000
DTSTAMP:20260424T035530
CREATED:20240118T140442Z
LAST-MODIFIED:20240118T140442Z
UID:10015784-1715972400-1715972400@disfruta-denia.com
SUMMARY:Danza del vientre y cena lebanesa
DESCRIPTION:¡Las Arabian Nights vuelven a MoVida Dénia en 2024! ¡Sumérjase en un viaje culinario y cultural al Líbano y más allá para experimentar un auténtico banquete tradicional libanés de 3 platos mientras queda hipnotizado por la artística danza del vientre de Claudia Caldera en vivo! \nviernes 16 de Febrero\nviernes 15 de Marzo\nviernes 19 de Abril\nviernes 17 de Mayo\nviernes 14 de Junio
URL:https://disfruta-denia.com/evento/danza-del-vientre-y-cena-lebanesa/2024-05-17/
LOCATION:Movida Denia\, Carrer del Pont\, 29\, Denia\, Alicante\, 03700\, España
CATEGORIES:Cultura,Danza,Gastronomía
ATTACH;FMTTYPE=image/jpeg:https://disfruta-denia.com/wp-content/uploads/2024/01/419521567_913445284116290_2106551917712111023_n-1.jpg
END:VEVENT
END:VCALENDAR