BEGIN:VCALENDAR
VERSION:2.0
PRODID:-//Disfruta Denia - ECPv6.15.20//NONSGML v1.0//EN
CALSCALE:GREGORIAN
METHOD:PUBLISH
X-ORIGINAL-URL:https://disfruta-denia.com
X-WR-CALDESC:Eventos para Disfruta Denia
REFRESH-INTERVAL;VALUE=DURATION:PT1H
X-Robots-Tag:noindex
X-PUBLISHED-TTL:PT1H
BEGIN:VTIMEZONE
TZID:Europe/Madrid
BEGIN:DAYLIGHT
TZOFFSETFROM:+0100
TZOFFSETTO:+0200
TZNAME:CEST
DTSTART:20240331T010000
END:DAYLIGHT
BEGIN:STANDARD
TZOFFSETFROM:+0200
TZOFFSETTO:+0100
TZNAME:CET
DTSTART:20241027T010000
END:STANDARD
BEGIN:DAYLIGHT
TZOFFSETFROM:+0100
TZOFFSETTO:+0200
TZNAME:CEST
DTSTART:20250330T010000
END:DAYLIGHT
BEGIN:STANDARD
TZOFFSETFROM:+0200
TZOFFSETTO:+0100
TZNAME:CET
DTSTART:20251026T010000
END:STANDARD
BEGIN:DAYLIGHT
TZOFFSETFROM:+0100
TZOFFSETTO:+0200
TZNAME:CEST
DTSTART:20260329T010000
END:DAYLIGHT
BEGIN:STANDARD
TZOFFSETFROM:+0200
TZOFFSETTO:+0100
TZNAME:CET
DTSTART:20261025T010000
END:STANDARD
END:VTIMEZONE
BEGIN:VEVENT
DTSTART;TZID=Europe/Madrid:20250413T120000
DTEND;TZID=Europe/Madrid:20250413T120000
DTSTAMP:20260421T070335
CREATED:20250321T101307Z
LAST-MODIFIED:20250321T101307Z
UID:10020587-1744545600-1744545600@disfruta-denia.com
SUMMARY:DANSES POPULARS VALENCIANES
DESCRIPTION:DANZAS POPULARES VALENCIANAS con el Grupo de infantil de Dianium Dansa y dulzaina y tambor.
URL:https://disfruta-denia.com/evento/danses-populars-valencianes/
LOCATION:Carrer del Marqués de Campo\, Carrer del Marqués de Campo\, Denia\, Alicante\, 03700\, España
CATEGORIES:Cultura,Danza
ATTACH;FMTTYPE=image/png:https://disfruta-denia.com/wp-content/uploads/2025/03/13-DANSES-VALENCIANES.png
END:VEVENT
BEGIN:VEVENT
DTSTART;TZID=Europe/Madrid:20250413T173000
DTEND;TZID=Europe/Madrid:20250413T193000
DTSTAMP:20260421T070335
CREATED:20250321T101200Z
LAST-MODIFIED:20250321T101200Z
UID:10020586-1744565400-1744572600@disfruta-denia.com
SUMMARY:MÀSTERCLASS DANSA
DESCRIPTION:Con el profesor RAFA DARDER (Profesor del Conservatorio profesional de Danza Valencia).
URL:https://disfruta-denia.com/evento/masterclass-dansa/
LOCATION:Plaza del Consell\, Carrer de la Mar\, Denia\, 03700
CATEGORIES:Cultura,Danza
END:VEVENT
BEGIN:VEVENT
DTSTART;TZID=Europe/Madrid:20250426T200000
DTEND;TZID=Europe/Madrid:20250426T200000
DTSTAMP:20260421T070335
CREATED:20250321T101933Z
LAST-MODIFIED:20250321T101933Z
UID:10020591-1745697600-1745697600@disfruta-denia.com
SUMMARY:JOVE BALLET DE LA MARINA
DESCRIPTION:JOVE BALLET DE LA MARINA (JBM) \nEntrada: 5 € en  \n https://www.notikumi.com \nTaquilla: el mateix dia una hora abans / el mismo día una hora antes.
URL:https://disfruta-denia.com/evento/jove-ballet-de-la-marina/
LOCATION:Teatro Auditorio Centro Social\, 4 Carrer Calderón\, Dénia\, VC\, 03700\, Spain
CATEGORIES:Cultura,Danza
ATTACH;FMTTYPE=image/png:https://disfruta-denia.com/wp-content/uploads/2025/03/14-DANSA-CONTEMPORANIA.png
END:VEVENT
END:VCALENDAR