BEGIN:VCALENDAR
VERSION:2.0
PRODID:-//Disfruta Denia - ECPv6.15.20//NONSGML v1.0//EN
CALSCALE:GREGORIAN
METHOD:PUBLISH
X-ORIGINAL-URL:https://disfruta-denia.com
X-WR-CALDESC:Eventos para Disfruta Denia
REFRESH-INTERVAL;VALUE=DURATION:PT1H
X-Robots-Tag:noindex
X-PUBLISHED-TTL:PT1H
BEGIN:VTIMEZONE
TZID:Europe/Madrid
BEGIN:DAYLIGHT
TZOFFSETFROM:+0100
TZOFFSETTO:+0200
TZNAME:CEST
DTSTART:20240331T010000
END:DAYLIGHT
BEGIN:STANDARD
TZOFFSETFROM:+0200
TZOFFSETTO:+0100
TZNAME:CET
DTSTART:20241027T010000
END:STANDARD
BEGIN:DAYLIGHT
TZOFFSETFROM:+0100
TZOFFSETTO:+0200
TZNAME:CEST
DTSTART:20250330T010000
END:DAYLIGHT
BEGIN:STANDARD
TZOFFSETFROM:+0200
TZOFFSETTO:+0100
TZNAME:CET
DTSTART:20251026T010000
END:STANDARD
BEGIN:DAYLIGHT
TZOFFSETFROM:+0100
TZOFFSETTO:+0200
TZNAME:CEST
DTSTART:20260329T010000
END:DAYLIGHT
BEGIN:STANDARD
TZOFFSETFROM:+0200
TZOFFSETTO:+0100
TZNAME:CET
DTSTART:20261025T010000
END:STANDARD
END:VTIMEZONE
BEGIN:VEVENT
DTSTART;TZID=Europe/Madrid:20251031T173000
DTEND;TZID=Europe/Madrid:20251031T235900
DTSTAMP:20260420T200357
CREATED:20251014T154316Z
LAST-MODIFIED:20251014T154316Z
UID:10022513-1761931800-1761955140@disfruta-denia.com
SUMMARY:Noche de las almas
DESCRIPTION:El plato fuerte llegará el 31 de octubre con la celebración de la tradicional Noche de las Almas\, que incluirá un recorrido urbano de terror por las calles Sant Narcís\, Nou\, Desemparats\, Forn d’Algarra y el callejón de la Morería. El pasaje estará abierto de 17 a 20.30 horas para público familiar (con aforo limitado a 1.400 personas mediante pulseras) y de 22.30 a 01.00 horas para público joven y adulto. \nLa jornada estará acompañada de una discomóvil animada en la plaza del Consell\, de 17.30 a 19.30 horas\, y el photocall “Cementerio de miedo” en el Raconet de la Infanta Margarita\, abierto de 17 a 21 horas. También habrá talleres de maquillaje y pintura en la plaza del Ayuntamiento. Por último\, el baile cooperativo “Thriller”\, recorrerá las plazas del Consell\, Maria Hervás\, Glorieta\, Ayuntamiento y cruce de Marqués de Campo con calle Diana hasta la plaza del Consell\, desde las 19.30 hasta las 22 horas.
URL:https://disfruta-denia.com/evento/noche-de-las-almas/
LOCATION:Denia\, Denia\, Alicante\, 03700\, España
CATEGORIES:Danza,Exposiciones,Fiesta
ATTACH;FMTTYPE=image/jpeg:https://disfruta-denia.com/wp-content/uploads/2025/10/7486f1.jpg
END:VEVENT
END:VCALENDAR