BEGIN:VCALENDAR
VERSION:2.0
PRODID:-//Disfruta Denia - ECPv6.15.20//NONSGML v1.0//EN
CALSCALE:GREGORIAN
METHOD:PUBLISH
X-ORIGINAL-URL:https://disfruta-denia.com
X-WR-CALDESC:Eventos para Disfruta Denia
REFRESH-INTERVAL;VALUE=DURATION:PT1H
X-Robots-Tag:noindex
X-PUBLISHED-TTL:PT1H
BEGIN:VTIMEZONE
TZID:Europe/Madrid
BEGIN:DAYLIGHT
TZOFFSETFROM:+0100
TZOFFSETTO:+0200
TZNAME:CEST
DTSTART:20240331T010000
END:DAYLIGHT
BEGIN:STANDARD
TZOFFSETFROM:+0200
TZOFFSETTO:+0100
TZNAME:CET
DTSTART:20241027T010000
END:STANDARD
BEGIN:DAYLIGHT
TZOFFSETFROM:+0100
TZOFFSETTO:+0200
TZNAME:CEST
DTSTART:20250330T010000
END:DAYLIGHT
BEGIN:STANDARD
TZOFFSETFROM:+0200
TZOFFSETTO:+0100
TZNAME:CET
DTSTART:20251026T010000
END:STANDARD
BEGIN:DAYLIGHT
TZOFFSETFROM:+0100
TZOFFSETTO:+0200
TZNAME:CEST
DTSTART:20260329T010000
END:DAYLIGHT
BEGIN:STANDARD
TZOFFSETFROM:+0200
TZOFFSETTO:+0100
TZNAME:CET
DTSTART:20261025T010000
END:STANDARD
END:VTIMEZONE
BEGIN:VEVENT
DTSTART;TZID=Europe/Madrid:20251109T110000
DTEND;TZID=Europe/Madrid:20251109T130000
DTSTAMP:20260420T181624
CREATED:20251026T145605Z
LAST-MODIFIED:20251026T145605Z
UID:10023060-1762686000-1762693200@disfruta-denia.com
SUMMARY:VIII DÉNIA TANGO FESTIVAL
DESCRIPTION:MILONGA BLANCA\, Ball argentí\nInformació/información: https://www.ataquetango.com\nOrganitza/organiza: Ataque tango. Col·labora/colabora: Ajuntament de Dénia. Cultura.
URL:https://disfruta-denia.com/evento/viii-denia-tango-festival-2/
LOCATION:Plaza del Consell\, Carrer de la Mar\, Denia\, 03700
CATEGORIES:Baile,Cultura,Danza,Música
ATTACH;FMTTYPE=image/png:https://disfruta-denia.com/wp-content/uploads/2025/10/5-festival-de-tango.png
END:VEVENT
BEGIN:VEVENT
DTSTART;TZID=Europe/Madrid:20251112T200000
DTEND;TZID=Europe/Madrid:20251112T200000
DTSTAMP:20260420T181624
CREATED:20251026T115616Z
LAST-MODIFIED:20251026T115616Z
UID:10023052-1762977600-1762977600@disfruta-denia.com
SUMMARY:XI Festival de danza Ultramar
DESCRIPTION:XI FESTIVAL DE DANSA CONTEMPORÀNIA\nOrganitza/organiza: Ajuntament de Dénia. Cultura.\nDimecres 12\, 20 h ENTRADA lliure fins a completar aforament / libre hasta completar aforo.\nIMPULS A LA DANSA\n– Actuació Col·lectiu ESMOV ARTE DEL MOVIMIENTO 30’\n– DIÁLOGO ESCÉNICO.\nPresentació al voltant del procés creatiu de COL45\, premiat com a millor curt d’autor en la X Edició del Humus\nFilm Festival a LA CASA ENCENDIDA DE MADRID; la intervenció combinarà una mostra performativa de la\nmanera de crear i conclourà amb la projecció del curtmetratge \n  \nPresentación alrededor del proceso creativo de COL45\, premiado como mejor corto de autor en la X Edición del\nHumus Film Festival en LA CASA ENCENDIDA DE MADRID; la intervención combinará una muestra\nperformativa de la manera de crear y concluirá con la proyección del cortometraje.\n– DIÁLOGO: CUERPO\, MIRADA Y ESCENA. 20’\nPresentació del treball realitzat pels alumnes de les escoles de dansa amb la companyia SIN PAR en el\nprograma Impuls a la Dansa\, amb la col·laboració de Dansa València i el Circuit Cultural Valencià i ’Ajuntament\nde Dénia.\nPresentación del trabajo realizado por los alumnos de las escuelas de danza con la compañía SIN PAR en el\nprograma Impulso a la Danza\, con la colaboración de Danza Valencia y Circuit Cultural Valencià i ’Ajuntament\nde Dénia.\nDijous 13\, 20 h 60’ ENTRADA: 10 €\nTelonera: Laura (5’ o 7’)\nVDF2025. VALENCIA DANCING FORWARD.\nEl programa VDF2025 és un espectacle que compta amb l’actuació de joves ballarins nacionals i internacionals\ngraduats recentment. L’espectacle està format per 5 peces de dansa que combinen a la perfecció els estils clàssic\ni contemporani.\nEl programa VDF2025 es un espectáculo que cuenta con la actuación de jóvenes bailarines nacionales e\ninternacionales graduados recientemente. El espectáculo está formado por 5 piezas de danza que combinan a la\nperfección los estilos clásico y contemporáneo. \nDivendres 14\, 20 h 60’ ENTRADA: 10 €\nCOS A COS. Fil d’Arena\nL’obra és una reflexió sobre el concepte de pertinença a un lloc. Ser d’ací\, estar ací\, arribar ací… Una proposta\nmultidisciplinar que combina dansa\, teatre i circ.\nLa obra es una reflexión sobre el concepto de pertenencia a un lugar. Ser de aquí\, estar aquí\, llegar aquí… Una\npropuesta multidisciplinar que combina danza\, teatro y circo \nDissabte 15\, 20 h. ENTRADA: 10 €\nBALLET DE TENERIFE “Nuit en Danse”\nEspectacle format per 3 peces: Divertissement\, Renacer i JAHRESZEITEN.\nTant Renacer (interpretada per Dorian Acosta) com JAHRESZEITEN són peces de dansa contemporània.\nDivertissement\, per la seua banda\, obri el programa amb un enfocament més clàssic: es tracta de diversos balls\nde Chopin interpretats en directe pel concertista Luis López\nEspectáculo formado por 3 piezas: Divertissement\, Renacer y JAHRESZEITEN.\nTanto Renacer (interpretada por Dorian Acosta) como JAHRESZEITEN son piezas de danza contemporánea.\nDivertissement\, por su parte\, abre el programa con un enfoque más clásico: se trata de varios bailes de Chopin\ninterpretados en directo por el concertista Luis López \nDia 16\, 12 h Activitat en família. ENTRADA lliure fins a completar aforament.\nB122: VIAJE DE UNA PEQUEÑA NIÑA de la Cia. Entretantos Danza\nB122 ens submergeix en un viatge fascinant a través de la mirada d’una xiqueta\, que explora mons imaginaris i\nencontres amb essers extraordinaris. Inspirada en una interpretació lliure i única de El Principito\, esta captivadora\nhistòria es desplega en un escenari on convergeixen teatre\, moviment i elements audiovisuals.\nB122 nos sumerge en un viaje fascinante a través de la mirada de una niña\, que explora mundos imaginarios y\nencuentros con seres extraordinarios. Inspirada en una interpretación libre y única del Principito\, esta cautivadora\nhistoria se despliega en un escenario donde convergen teatro\, movimiento y elementos audiovisuales.\nPúblic familiar/público familiar a partir de 3 anys/años. 40’\nEntrades: https://www.notikumi.com/. En taquilla el mateix dia una hora abans / el mismo día una hora antes.
URL:https://disfruta-denia.com/evento/xi-festival-de-danza-ultramar/2025-11-12/
LOCATION:Teatro Auditorio Centro Social\, 4 Carrer Calderón\, Dénia\, VC\, 03700\, Spain
CATEGORIES:Cultura,Danza
ATTACH;FMTTYPE=image/png:https://disfruta-denia.com/wp-content/uploads/2025/10/11-ULTRAMAR-DANSA.png
END:VEVENT
BEGIN:VEVENT
DTSTART;TZID=Europe/Madrid:20251113T200000
DTEND;TZID=Europe/Madrid:20251113T200000
DTSTAMP:20260420T181624
CREATED:20251026T115616Z
LAST-MODIFIED:20251026T115616Z
UID:10023053-1763064000-1763064000@disfruta-denia.com
SUMMARY:XI Festival de danza Ultramar
DESCRIPTION:XI FESTIVAL DE DANSA CONTEMPORÀNIA\nOrganitza/organiza: Ajuntament de Dénia. Cultura.\nDimecres 12\, 20 h ENTRADA lliure fins a completar aforament / libre hasta completar aforo.\nIMPULS A LA DANSA\n– Actuació Col·lectiu ESMOV ARTE DEL MOVIMIENTO 30’\n– DIÁLOGO ESCÉNICO.\nPresentació al voltant del procés creatiu de COL45\, premiat com a millor curt d’autor en la X Edició del Humus\nFilm Festival a LA CASA ENCENDIDA DE MADRID; la intervenció combinarà una mostra performativa de la\nmanera de crear i conclourà amb la projecció del curtmetratge \n  \nPresentación alrededor del proceso creativo de COL45\, premiado como mejor corto de autor en la X Edición del\nHumus Film Festival en LA CASA ENCENDIDA DE MADRID; la intervención combinará una muestra\nperformativa de la manera de crear y concluirá con la proyección del cortometraje.\n– DIÁLOGO: CUERPO\, MIRADA Y ESCENA. 20’\nPresentació del treball realitzat pels alumnes de les escoles de dansa amb la companyia SIN PAR en el\nprograma Impuls a la Dansa\, amb la col·laboració de Dansa València i el Circuit Cultural Valencià i ’Ajuntament\nde Dénia.\nPresentación del trabajo realizado por los alumnos de las escuelas de danza con la compañía SIN PAR en el\nprograma Impulso a la Danza\, con la colaboración de Danza Valencia y Circuit Cultural Valencià i ’Ajuntament\nde Dénia.\nDijous 13\, 20 h 60’ ENTRADA: 10 €\nTelonera: Laura (5’ o 7’)\nVDF2025. VALENCIA DANCING FORWARD.\nEl programa VDF2025 és un espectacle que compta amb l’actuació de joves ballarins nacionals i internacionals\ngraduats recentment. L’espectacle està format per 5 peces de dansa que combinen a la perfecció els estils clàssic\ni contemporani.\nEl programa VDF2025 es un espectáculo que cuenta con la actuación de jóvenes bailarines nacionales e\ninternacionales graduados recientemente. El espectáculo está formado por 5 piezas de danza que combinan a la\nperfección los estilos clásico y contemporáneo. \nDivendres 14\, 20 h 60’ ENTRADA: 10 €\nCOS A COS. Fil d’Arena\nL’obra és una reflexió sobre el concepte de pertinença a un lloc. Ser d’ací\, estar ací\, arribar ací… Una proposta\nmultidisciplinar que combina dansa\, teatre i circ.\nLa obra es una reflexión sobre el concepto de pertenencia a un lugar. Ser de aquí\, estar aquí\, llegar aquí… Una\npropuesta multidisciplinar que combina danza\, teatro y circo \nDissabte 15\, 20 h. ENTRADA: 10 €\nBALLET DE TENERIFE “Nuit en Danse”\nEspectacle format per 3 peces: Divertissement\, Renacer i JAHRESZEITEN.\nTant Renacer (interpretada per Dorian Acosta) com JAHRESZEITEN són peces de dansa contemporània.\nDivertissement\, per la seua banda\, obri el programa amb un enfocament més clàssic: es tracta de diversos balls\nde Chopin interpretats en directe pel concertista Luis López\nEspectáculo formado por 3 piezas: Divertissement\, Renacer y JAHRESZEITEN.\nTanto Renacer (interpretada por Dorian Acosta) como JAHRESZEITEN son piezas de danza contemporánea.\nDivertissement\, por su parte\, abre el programa con un enfoque más clásico: se trata de varios bailes de Chopin\ninterpretados en directo por el concertista Luis López \nDia 16\, 12 h Activitat en família. ENTRADA lliure fins a completar aforament.\nB122: VIAJE DE UNA PEQUEÑA NIÑA de la Cia. Entretantos Danza\nB122 ens submergeix en un viatge fascinant a través de la mirada d’una xiqueta\, que explora mons imaginaris i\nencontres amb essers extraordinaris. Inspirada en una interpretació lliure i única de El Principito\, esta captivadora\nhistòria es desplega en un escenari on convergeixen teatre\, moviment i elements audiovisuals.\nB122 nos sumerge en un viaje fascinante a través de la mirada de una niña\, que explora mundos imaginarios y\nencuentros con seres extraordinarios. Inspirada en una interpretación libre y única del Principito\, esta cautivadora\nhistoria se despliega en un escenario donde convergen teatro\, movimiento y elementos audiovisuales.\nPúblic familiar/público familiar a partir de 3 anys/años. 40’\nEntrades: https://www.notikumi.com/. En taquilla el mateix dia una hora abans / el mismo día una hora antes.
URL:https://disfruta-denia.com/evento/xi-festival-de-danza-ultramar/2025-11-13/
LOCATION:Teatro Auditorio Centro Social\, 4 Carrer Calderón\, Dénia\, VC\, 03700\, Spain
CATEGORIES:Cultura,Danza
ATTACH;FMTTYPE=image/png:https://disfruta-denia.com/wp-content/uploads/2025/10/11-ULTRAMAR-DANSA.png
END:VEVENT
BEGIN:VEVENT
DTSTART;TZID=Europe/Madrid:20251114T200000
DTEND;TZID=Europe/Madrid:20251114T200000
DTSTAMP:20260420T181624
CREATED:20251026T115616Z
LAST-MODIFIED:20251026T115616Z
UID:10023054-1763150400-1763150400@disfruta-denia.com
SUMMARY:XI Festival de danza Ultramar
DESCRIPTION:XI FESTIVAL DE DANSA CONTEMPORÀNIA\nOrganitza/organiza: Ajuntament de Dénia. Cultura.\nDimecres 12\, 20 h ENTRADA lliure fins a completar aforament / libre hasta completar aforo.\nIMPULS A LA DANSA\n– Actuació Col·lectiu ESMOV ARTE DEL MOVIMIENTO 30’\n– DIÁLOGO ESCÉNICO.\nPresentació al voltant del procés creatiu de COL45\, premiat com a millor curt d’autor en la X Edició del Humus\nFilm Festival a LA CASA ENCENDIDA DE MADRID; la intervenció combinarà una mostra performativa de la\nmanera de crear i conclourà amb la projecció del curtmetratge \n  \nPresentación alrededor del proceso creativo de COL45\, premiado como mejor corto de autor en la X Edición del\nHumus Film Festival en LA CASA ENCENDIDA DE MADRID; la intervención combinará una muestra\nperformativa de la manera de crear y concluirá con la proyección del cortometraje.\n– DIÁLOGO: CUERPO\, MIRADA Y ESCENA. 20’\nPresentació del treball realitzat pels alumnes de les escoles de dansa amb la companyia SIN PAR en el\nprograma Impuls a la Dansa\, amb la col·laboració de Dansa València i el Circuit Cultural Valencià i ’Ajuntament\nde Dénia.\nPresentación del trabajo realizado por los alumnos de las escuelas de danza con la compañía SIN PAR en el\nprograma Impulso a la Danza\, con la colaboración de Danza Valencia y Circuit Cultural Valencià i ’Ajuntament\nde Dénia.\nDijous 13\, 20 h 60’ ENTRADA: 10 €\nTelonera: Laura (5’ o 7’)\nVDF2025. VALENCIA DANCING FORWARD.\nEl programa VDF2025 és un espectacle que compta amb l’actuació de joves ballarins nacionals i internacionals\ngraduats recentment. L’espectacle està format per 5 peces de dansa que combinen a la perfecció els estils clàssic\ni contemporani.\nEl programa VDF2025 es un espectáculo que cuenta con la actuación de jóvenes bailarines nacionales e\ninternacionales graduados recientemente. El espectáculo está formado por 5 piezas de danza que combinan a la\nperfección los estilos clásico y contemporáneo. \nDivendres 14\, 20 h 60’ ENTRADA: 10 €\nCOS A COS. Fil d’Arena\nL’obra és una reflexió sobre el concepte de pertinença a un lloc. Ser d’ací\, estar ací\, arribar ací… Una proposta\nmultidisciplinar que combina dansa\, teatre i circ.\nLa obra es una reflexión sobre el concepto de pertenencia a un lugar. Ser de aquí\, estar aquí\, llegar aquí… Una\npropuesta multidisciplinar que combina danza\, teatro y circo \nDissabte 15\, 20 h. ENTRADA: 10 €\nBALLET DE TENERIFE “Nuit en Danse”\nEspectacle format per 3 peces: Divertissement\, Renacer i JAHRESZEITEN.\nTant Renacer (interpretada per Dorian Acosta) com JAHRESZEITEN són peces de dansa contemporània.\nDivertissement\, per la seua banda\, obri el programa amb un enfocament més clàssic: es tracta de diversos balls\nde Chopin interpretats en directe pel concertista Luis López\nEspectáculo formado por 3 piezas: Divertissement\, Renacer y JAHRESZEITEN.\nTanto Renacer (interpretada por Dorian Acosta) como JAHRESZEITEN son piezas de danza contemporánea.\nDivertissement\, por su parte\, abre el programa con un enfoque más clásico: se trata de varios bailes de Chopin\ninterpretados en directo por el concertista Luis López \nDia 16\, 12 h Activitat en família. ENTRADA lliure fins a completar aforament.\nB122: VIAJE DE UNA PEQUEÑA NIÑA de la Cia. Entretantos Danza\nB122 ens submergeix en un viatge fascinant a través de la mirada d’una xiqueta\, que explora mons imaginaris i\nencontres amb essers extraordinaris. Inspirada en una interpretació lliure i única de El Principito\, esta captivadora\nhistòria es desplega en un escenari on convergeixen teatre\, moviment i elements audiovisuals.\nB122 nos sumerge en un viaje fascinante a través de la mirada de una niña\, que explora mundos imaginarios y\nencuentros con seres extraordinarios. Inspirada en una interpretación libre y única del Principito\, esta cautivadora\nhistoria se despliega en un escenario donde convergen teatro\, movimiento y elementos audiovisuales.\nPúblic familiar/público familiar a partir de 3 anys/años. 40’\nEntrades: https://www.notikumi.com/. En taquilla el mateix dia una hora abans / el mismo día una hora antes.
URL:https://disfruta-denia.com/evento/xi-festival-de-danza-ultramar/2025-11-14/
LOCATION:Teatro Auditorio Centro Social\, 4 Carrer Calderón\, Dénia\, VC\, 03700\, Spain
CATEGORIES:Cultura,Danza
ATTACH;FMTTYPE=image/png:https://disfruta-denia.com/wp-content/uploads/2025/10/11-ULTRAMAR-DANSA.png
END:VEVENT
BEGIN:VEVENT
DTSTART;TZID=Europe/Madrid:20251115T200000
DTEND;TZID=Europe/Madrid:20251115T200000
DTSTAMP:20260420T181624
CREATED:20251026T115616Z
LAST-MODIFIED:20251026T115616Z
UID:10023055-1763236800-1763236800@disfruta-denia.com
SUMMARY:XI Festival de danza Ultramar
DESCRIPTION:XI FESTIVAL DE DANSA CONTEMPORÀNIA\nOrganitza/organiza: Ajuntament de Dénia. Cultura.\nDimecres 12\, 20 h ENTRADA lliure fins a completar aforament / libre hasta completar aforo.\nIMPULS A LA DANSA\n– Actuació Col·lectiu ESMOV ARTE DEL MOVIMIENTO 30’\n– DIÁLOGO ESCÉNICO.\nPresentació al voltant del procés creatiu de COL45\, premiat com a millor curt d’autor en la X Edició del Humus\nFilm Festival a LA CASA ENCENDIDA DE MADRID; la intervenció combinarà una mostra performativa de la\nmanera de crear i conclourà amb la projecció del curtmetratge \n  \nPresentación alrededor del proceso creativo de COL45\, premiado como mejor corto de autor en la X Edición del\nHumus Film Festival en LA CASA ENCENDIDA DE MADRID; la intervención combinará una muestra\nperformativa de la manera de crear y concluirá con la proyección del cortometraje.\n– DIÁLOGO: CUERPO\, MIRADA Y ESCENA. 20’\nPresentació del treball realitzat pels alumnes de les escoles de dansa amb la companyia SIN PAR en el\nprograma Impuls a la Dansa\, amb la col·laboració de Dansa València i el Circuit Cultural Valencià i ’Ajuntament\nde Dénia.\nPresentación del trabajo realizado por los alumnos de las escuelas de danza con la compañía SIN PAR en el\nprograma Impulso a la Danza\, con la colaboración de Danza Valencia y Circuit Cultural Valencià i ’Ajuntament\nde Dénia.\nDijous 13\, 20 h 60’ ENTRADA: 10 €\nTelonera: Laura (5’ o 7’)\nVDF2025. VALENCIA DANCING FORWARD.\nEl programa VDF2025 és un espectacle que compta amb l’actuació de joves ballarins nacionals i internacionals\ngraduats recentment. L’espectacle està format per 5 peces de dansa que combinen a la perfecció els estils clàssic\ni contemporani.\nEl programa VDF2025 es un espectáculo que cuenta con la actuación de jóvenes bailarines nacionales e\ninternacionales graduados recientemente. El espectáculo está formado por 5 piezas de danza que combinan a la\nperfección los estilos clásico y contemporáneo. \nDivendres 14\, 20 h 60’ ENTRADA: 10 €\nCOS A COS. Fil d’Arena\nL’obra és una reflexió sobre el concepte de pertinença a un lloc. Ser d’ací\, estar ací\, arribar ací… Una proposta\nmultidisciplinar que combina dansa\, teatre i circ.\nLa obra es una reflexión sobre el concepto de pertenencia a un lugar. Ser de aquí\, estar aquí\, llegar aquí… Una\npropuesta multidisciplinar que combina danza\, teatro y circo \nDissabte 15\, 20 h. ENTRADA: 10 €\nBALLET DE TENERIFE “Nuit en Danse”\nEspectacle format per 3 peces: Divertissement\, Renacer i JAHRESZEITEN.\nTant Renacer (interpretada per Dorian Acosta) com JAHRESZEITEN són peces de dansa contemporània.\nDivertissement\, per la seua banda\, obri el programa amb un enfocament més clàssic: es tracta de diversos balls\nde Chopin interpretats en directe pel concertista Luis López\nEspectáculo formado por 3 piezas: Divertissement\, Renacer y JAHRESZEITEN.\nTanto Renacer (interpretada por Dorian Acosta) como JAHRESZEITEN son piezas de danza contemporánea.\nDivertissement\, por su parte\, abre el programa con un enfoque más clásico: se trata de varios bailes de Chopin\ninterpretados en directo por el concertista Luis López \nDia 16\, 12 h Activitat en família. ENTRADA lliure fins a completar aforament.\nB122: VIAJE DE UNA PEQUEÑA NIÑA de la Cia. Entretantos Danza\nB122 ens submergeix en un viatge fascinant a través de la mirada d’una xiqueta\, que explora mons imaginaris i\nencontres amb essers extraordinaris. Inspirada en una interpretació lliure i única de El Principito\, esta captivadora\nhistòria es desplega en un escenari on convergeixen teatre\, moviment i elements audiovisuals.\nB122 nos sumerge en un viaje fascinante a través de la mirada de una niña\, que explora mundos imaginarios y\nencuentros con seres extraordinarios. Inspirada en una interpretación libre y única del Principito\, esta cautivadora\nhistoria se despliega en un escenario donde convergen teatro\, movimiento y elementos audiovisuales.\nPúblic familiar/público familiar a partir de 3 anys/años. 40’\nEntrades: https://www.notikumi.com/. En taquilla el mateix dia una hora abans / el mismo día una hora antes.
URL:https://disfruta-denia.com/evento/xi-festival-de-danza-ultramar/2025-11-15/
LOCATION:Teatro Auditorio Centro Social\, 4 Carrer Calderón\, Dénia\, VC\, 03700\, Spain
CATEGORIES:Cultura,Danza
ATTACH;FMTTYPE=image/png:https://disfruta-denia.com/wp-content/uploads/2025/10/11-ULTRAMAR-DANSA.png
END:VEVENT
BEGIN:VEVENT
DTSTART;TZID=Europe/Madrid:20251116T120000
DTEND;TZID=Europe/Madrid:20251116T120000
DTSTAMP:20260420T181624
CREATED:20251026T115616Z
LAST-MODIFIED:20251026T115616Z
UID:10023056-1763294400-1763294400@disfruta-denia.com
SUMMARY:XI Festival de danza Ultramar
DESCRIPTION:XI FESTIVAL DE DANSA CONTEMPORÀNIA\nOrganitza/organiza: Ajuntament de Dénia. Cultura.\nDimecres 12\, 20 h ENTRADA lliure fins a completar aforament / libre hasta completar aforo.\nIMPULS A LA DANSA\n– Actuació Col·lectiu ESMOV ARTE DEL MOVIMIENTO 30’\n– DIÁLOGO ESCÉNICO.\nPresentació al voltant del procés creatiu de COL45\, premiat com a millor curt d’autor en la X Edició del Humus\nFilm Festival a LA CASA ENCENDIDA DE MADRID; la intervenció combinarà una mostra performativa de la\nmanera de crear i conclourà amb la projecció del curtmetratge \n  \nPresentación alrededor del proceso creativo de COL45\, premiado como mejor corto de autor en la X Edición del\nHumus Film Festival en LA CASA ENCENDIDA DE MADRID; la intervención combinará una muestra\nperformativa de la manera de crear y concluirá con la proyección del cortometraje.\n– DIÁLOGO: CUERPO\, MIRADA Y ESCENA. 20’\nPresentació del treball realitzat pels alumnes de les escoles de dansa amb la companyia SIN PAR en el\nprograma Impuls a la Dansa\, amb la col·laboració de Dansa València i el Circuit Cultural Valencià i ’Ajuntament\nde Dénia.\nPresentación del trabajo realizado por los alumnos de las escuelas de danza con la compañía SIN PAR en el\nprograma Impulso a la Danza\, con la colaboración de Danza Valencia y Circuit Cultural Valencià i ’Ajuntament\nde Dénia.\nDijous 13\, 20 h 60’ ENTRADA: 10 €\nTelonera: Laura (5’ o 7’)\nVDF2025. VALENCIA DANCING FORWARD.\nEl programa VDF2025 és un espectacle que compta amb l’actuació de joves ballarins nacionals i internacionals\ngraduats recentment. L’espectacle està format per 5 peces de dansa que combinen a la perfecció els estils clàssic\ni contemporani.\nEl programa VDF2025 es un espectáculo que cuenta con la actuación de jóvenes bailarines nacionales e\ninternacionales graduados recientemente. El espectáculo está formado por 5 piezas de danza que combinan a la\nperfección los estilos clásico y contemporáneo. \nDivendres 14\, 20 h 60’ ENTRADA: 10 €\nCOS A COS. Fil d’Arena\nL’obra és una reflexió sobre el concepte de pertinença a un lloc. Ser d’ací\, estar ací\, arribar ací… Una proposta\nmultidisciplinar que combina dansa\, teatre i circ.\nLa obra es una reflexión sobre el concepto de pertenencia a un lugar. Ser de aquí\, estar aquí\, llegar aquí… Una\npropuesta multidisciplinar que combina danza\, teatro y circo \nDissabte 15\, 20 h. ENTRADA: 10 €\nBALLET DE TENERIFE “Nuit en Danse”\nEspectacle format per 3 peces: Divertissement\, Renacer i JAHRESZEITEN.\nTant Renacer (interpretada per Dorian Acosta) com JAHRESZEITEN són peces de dansa contemporània.\nDivertissement\, per la seua banda\, obri el programa amb un enfocament més clàssic: es tracta de diversos balls\nde Chopin interpretats en directe pel concertista Luis López\nEspectáculo formado por 3 piezas: Divertissement\, Renacer y JAHRESZEITEN.\nTanto Renacer (interpretada por Dorian Acosta) como JAHRESZEITEN son piezas de danza contemporánea.\nDivertissement\, por su parte\, abre el programa con un enfoque más clásico: se trata de varios bailes de Chopin\ninterpretados en directo por el concertista Luis López \nDia 16\, 12 h Activitat en família. ENTRADA lliure fins a completar aforament.\nB122: VIAJE DE UNA PEQUEÑA NIÑA de la Cia. Entretantos Danza\nB122 ens submergeix en un viatge fascinant a través de la mirada d’una xiqueta\, que explora mons imaginaris i\nencontres amb essers extraordinaris. Inspirada en una interpretació lliure i única de El Principito\, esta captivadora\nhistòria es desplega en un escenari on convergeixen teatre\, moviment i elements audiovisuals.\nB122 nos sumerge en un viaje fascinante a través de la mirada de una niña\, que explora mundos imaginarios y\nencuentros con seres extraordinarios. Inspirada en una interpretación libre y única del Principito\, esta cautivadora\nhistoria se despliega en un escenario donde convergen teatro\, movimiento y elementos audiovisuales.\nPúblic familiar/público familiar a partir de 3 anys/años. 40’\nEntrades: https://www.notikumi.com/. En taquilla el mateix dia una hora abans / el mismo día una hora antes.
URL:https://disfruta-denia.com/evento/xi-festival-de-danza-ultramar/2025-11-16/
LOCATION:Teatro Auditorio Centro Social\, 4 Carrer Calderón\, Dénia\, VC\, 03700\, Spain
CATEGORIES:Cultura,Danza
ATTACH;FMTTYPE=image/png:https://disfruta-denia.com/wp-content/uploads/2025/10/11-ULTRAMAR-DANSA.png
END:VEVENT
END:VCALENDAR