BEGIN:VCALENDAR
VERSION:2.0
PRODID:-//Disfruta Denia - ECPv6.15.20//NONSGML v1.0//EN
CALSCALE:GREGORIAN
METHOD:PUBLISH
X-WR-CALNAME:Disfruta Denia
X-ORIGINAL-URL:https://disfruta-denia.com
X-WR-CALDESC:Eventos para Disfruta Denia
REFRESH-INTERVAL;VALUE=DURATION:PT1H
X-Robots-Tag:noindex
X-PUBLISHED-TTL:PT1H
BEGIN:VTIMEZONE
TZID:Europe/Madrid
BEGIN:DAYLIGHT
TZOFFSETFROM:+0100
TZOFFSETTO:+0200
TZNAME:CEST
DTSTART:20230326T010000
END:DAYLIGHT
BEGIN:STANDARD
TZOFFSETFROM:+0200
TZOFFSETTO:+0100
TZNAME:CET
DTSTART:20231029T010000
END:STANDARD
BEGIN:DAYLIGHT
TZOFFSETFROM:+0100
TZOFFSETTO:+0200
TZNAME:CEST
DTSTART:20240331T010000
END:DAYLIGHT
BEGIN:STANDARD
TZOFFSETFROM:+0200
TZOFFSETTO:+0100
TZNAME:CET
DTSTART:20241027T010000
END:STANDARD
BEGIN:DAYLIGHT
TZOFFSETFROM:+0100
TZOFFSETTO:+0200
TZNAME:CEST
DTSTART:20250330T010000
END:DAYLIGHT
BEGIN:STANDARD
TZOFFSETFROM:+0200
TZOFFSETTO:+0100
TZNAME:CET
DTSTART:20251026T010000
END:STANDARD
END:VTIMEZONE
BEGIN:VEVENT
DTSTART;VALUE=DATE:20240210
DTEND;VALUE=DATE:20240226
DTSTAMP:20260422T121940
CREATED:20240209T112520Z
LAST-MODIFIED:20240724T135235Z
UID:10017186-1707537600-1708833599@disfruta-denia.com
SUMMARY:Mig Any 2024 Moros y Cristianos Denia
DESCRIPTION:Programa moros y cristianos denia 2024 \nEmpezamos el Mig Any fester de Moros y Cristianos en Denia. Esta tarde\, en torno a las 19:30 h\, el Ayuntamiento de Dénia acogerá la rueda de prensa en la que se presentará la programación y el cartel del Mig Any Fester\, ante toda la sociedad festera de Dénia. Si no puedes venir\, podrás seguir el evento por el directo de Facebook o Instagram y de esta forma serás de los primeros en saber cuál es la programación de este año. ¡Te esperamos!
URL:https://disfruta-denia.com/evento/mig-any-2024-moros-y-cristianos-denia/
LOCATION:Denia\, Denia\, Alicante\, 03700\, España
CATEGORIES:Cultura,Desfile,Espectáculo,Fiesta
ATTACH;FMTTYPE=image/jpeg:https://disfruta-denia.com/wp-content/uploads/2024/02/426266094_792460882920339_4487986926392742102_n.jpg
END:VEVENT
END:VCALENDAR