BEGIN:VCALENDAR
VERSION:2.0
PRODID:-//Disfruta Denia - ECPv6.15.20//NONSGML v1.0//EN
CALSCALE:GREGORIAN
METHOD:PUBLISH
X-WR-CALNAME:Disfruta Denia
X-ORIGINAL-URL:https://disfruta-denia.com
X-WR-CALDESC:Eventos para Disfruta Denia
REFRESH-INTERVAL;VALUE=DURATION:PT1H
X-Robots-Tag:noindex
X-PUBLISHED-TTL:PT1H
BEGIN:VTIMEZONE
TZID:Europe/Madrid
BEGIN:DAYLIGHT
TZOFFSETFROM:+0100
TZOFFSETTO:+0200
TZNAME:CEST
DTSTART:20220327T010000
END:DAYLIGHT
BEGIN:STANDARD
TZOFFSETFROM:+0200
TZOFFSETTO:+0100
TZNAME:CET
DTSTART:20221030T010000
END:STANDARD
BEGIN:DAYLIGHT
TZOFFSETFROM:+0100
TZOFFSETTO:+0200
TZNAME:CEST
DTSTART:20230326T010000
END:DAYLIGHT
BEGIN:STANDARD
TZOFFSETFROM:+0200
TZOFFSETTO:+0100
TZNAME:CET
DTSTART:20231029T010000
END:STANDARD
BEGIN:DAYLIGHT
TZOFFSETFROM:+0100
TZOFFSETTO:+0200
TZNAME:CEST
DTSTART:20240331T010000
END:DAYLIGHT
BEGIN:STANDARD
TZOFFSETFROM:+0200
TZOFFSETTO:+0100
TZNAME:CET
DTSTART:20241027T010000
END:STANDARD
END:VTIMEZONE
BEGIN:VEVENT
DTSTART;TZID=Europe/Madrid:20230909T193000
DTEND;TZID=Europe/Madrid:20230909T193000
DTSTAMP:20260424T195759
CREATED:20230901T135114Z
LAST-MODIFIED:20230901T135114Z
UID:10013333-1694287800-1694287800@disfruta-denia.com
SUMMARY:ECOS “De quan els moros arribaren al Saladar”
DESCRIPTION:Una representación única que conmemora el origen de las fiestas de moros y cristianos en Dénia. \nUna victoria cristiana frente a los ataques de piratas berberiscos que sufrió la ciudad una madrugada de 1556 ⚔️ \n9 de septiembre\, sólo en Dénia. \nLa Federación de Moros y Cristianos de Dénia (FEMMICC) ha presentado ECOS “De quan els moros arribaren al Saladar”\, un desfile que tiene como objetivo recuperar la historia olvidada de Dénia durante más de 300 años. \nEsta iniciativa conmemora un acontecimiento histórico que tuvo lugar el 10 de septiembre de 1556\, cuando Dénia fue sorprendida por un ataque inesperado de piratas berberiscos. La ciudad en aquel entonces se encontraba vacía\, pero\, al escuchar el eco de un cañonazo\, los berberiscos abandonaron la ciudad pensando que esta misma se encontraba repleta de gente. En honor a este suceso\, nació esta celebración con el objetivo de agradecer a Dios que la invasión apenas dañó a los pobladores. \nEl recorrido iniciará en Ronda Murallas\, pasará por el Carrer Foramur\, el Carrer la Mar y finalizará a las 21:00 horas en la Plaza del Consell\, donde habrá fuegos pirotécnicos. “Se ha optado por este recorrido debido a que se pasará por donde se produjo el ataque berberisco que dio inicio a esta celebración”\, ha señalado la presidenta de la FEMMICC\, Sonia Pérez. \nCon este desfile\, la federación tiene como objetivo poner en valor la historia y la tradición valenciana\, así como su cultura. “Este año la FEMMICC ha hecho una apuesta muy fuerte por la historia y la cultura. Este evento nos va a sumergir en las raíces y el nacimiento en el que se basa nuestra fiesta”\, ha señalado su presidenta. \nPor otro lado\, Pérez ha asegurado que esta iniciativa pretende desestacionalizar el calendario festivo de agosto al proporcionar un evento en septiembre “con una gran atracción de gente”. Cabe señalar que este desfile es el factor clave para que la fiesta de Moros y Cristianos de Dénia sea considerada como fiesta de Interés Turístico Nacional. \nAsimismo\, la presidenta de la federación ha indicado que en el desfile participarán multitud de entidades culturales\, festivas y locales\, así como colaboradores y patrocinadores oficiales. Debido a ello\, ha agradecido al Ayuntamiento de Dénia y\, en especial\, a la Concejalía de Fiestas y Cultura por su gran apoyo\, ayuda e implicación en el proyecto. A \nPor último\, Pérez ha dado las gracias a la Junta Directiva de la FEMMICC\, a los integrantes del grupo de trabajo\, y en especial\, al secretario de la federación y coordinador de este evento\, Santi Escortell\, “por su esfuerzo en hacer realidad este proyecto”.
URL:https://disfruta-denia.com/evento/ecos-de-quan-els-moros-arribaren-al-saladar/
LOCATION:Calle La Mar\, Calle La Mar\, Denia\, Alicante\, 03700\, España
CATEGORIES:Cultura,Desfile,Espectáculo
ATTACH;FMTTYPE=image/jpeg:https://disfruta-denia.com/wp-content/uploads/2023/09/371850449_997583874791158_5635283940294184714_n.jpg
ORGANIZER;CN="Femmicc":MAILTO:SECRETARIA@FEMMICCDENIA.COM
END:VEVENT
BEGIN:VEVENT
DTSTART;TZID=Europe/Madrid:20230923T210000
DTEND;TZID=Europe/Madrid:20230923T210000
DTSTAMP:20260424T195759
CREATED:20230917T094512Z
LAST-MODIFIED:20230917T094546Z
UID:10013684-1695502800-1695502800@disfruta-denia.com
SUMMARY:Burlesque Night Show
DESCRIPTION:
URL:https://disfruta-denia.com/evento/burlesque-night-show/
LOCATION:La Sacristía Denia\, C/ Pare Pere\, 4\, Denia\, Alicante\, 03700\, España
CATEGORIES:Baile,Espectáculo,Música,Ocio nocturno
ATTACH;FMTTYPE=image/jpeg:https://disfruta-denia.com/wp-content/uploads/2023/09/burlesque.jpg
END:VEVENT
BEGIN:VEVENT
DTSTART;TZID=Europe/Madrid:20230930T200000
DTEND;TZID=Europe/Madrid:20230930T200000
DTSTAMP:20260424T195759
CREATED:20230822T075529Z
LAST-MODIFIED:20230822T075529Z
UID:10013023-1696104000-1696104000@disfruta-denia.com
SUMMARY:GALA DE MÀGIA
DESCRIPTION:ORIGEN”.  SANTI MARCILLA. Subcampió de/subcampeón de GOT TALENT. Espanya / España. \nEl mag que va deixar sense paraules a / el mago que dejó sin palabras a  Risto Mejide.  \nRecomanat / recomendado TP. 75-90 min. \nEntrada: 5 € en  www.notikumi.com  
URL:https://disfruta-denia.com/evento/gala-de-magia/
LOCATION:Teatro Auditorio Centro Social\, 4 Carrer Calderón\, Dénia\, VC\, 03700\, Spain
CATEGORIES:Cultura,Espectáculo
ATTACH;FMTTYPE=image/png:https://disfruta-denia.com/wp-content/uploads/2023/08/14-Santi-Marcilla.png
ORGANIZER;CN="Denia Cultura":MAILTO:cultura@ayto-denia.es
END:VEVENT
END:VCALENDAR