BEGIN:VCALENDAR
VERSION:2.0
PRODID:-//Disfruta Denia - ECPv6.15.20//NONSGML v1.0//EN
CALSCALE:GREGORIAN
METHOD:PUBLISH
X-WR-CALNAME:Disfruta Denia
X-ORIGINAL-URL:https://disfruta-denia.com
X-WR-CALDESC:Eventos para Disfruta Denia
REFRESH-INTERVAL;VALUE=DURATION:PT1H
X-Robots-Tag:noindex
X-PUBLISHED-TTL:PT1H
BEGIN:VTIMEZONE
TZID:Europe/Madrid
BEGIN:DAYLIGHT
TZOFFSETFROM:+0100
TZOFFSETTO:+0200
TZNAME:CEST
DTSTART:20230326T010000
END:DAYLIGHT
BEGIN:STANDARD
TZOFFSETFROM:+0200
TZOFFSETTO:+0100
TZNAME:CET
DTSTART:20231029T010000
END:STANDARD
BEGIN:DAYLIGHT
TZOFFSETFROM:+0100
TZOFFSETTO:+0200
TZNAME:CEST
DTSTART:20240331T010000
END:DAYLIGHT
BEGIN:STANDARD
TZOFFSETFROM:+0200
TZOFFSETTO:+0100
TZNAME:CET
DTSTART:20241027T010000
END:STANDARD
BEGIN:DAYLIGHT
TZOFFSETFROM:+0100
TZOFFSETTO:+0200
TZNAME:CEST
DTSTART:20250330T010000
END:DAYLIGHT
BEGIN:STANDARD
TZOFFSETFROM:+0200
TZOFFSETTO:+0100
TZNAME:CET
DTSTART:20251026T010000
END:STANDARD
END:VTIMEZONE
BEGIN:VEVENT
DTSTART;TZID=Europe/Madrid:20240301T190000
DTEND;TZID=Europe/Madrid:20240301T190000
DTSTAMP:20260424T094423
CREATED:20240220T103901Z
LAST-MODIFIED:20240220T103901Z
UID:10017233-1709319600-1709319600@disfruta-denia.com
SUMMARY:Gran final de les Tramoies Talent Show
DESCRIPTION:Por fin os traemos la gran final de les Tramoies Talent Show\, que será el viernes 1 de marzo a las 19:00.\nUna bailarina\, un pianista y una cantante. Los 3 grandes finalistas de este talent show\, donde han sido varias personas las que han pasado por aquí\, que nos han deslumbrado con su arte y nos han demostrado que en la Marina Alta hay mucho pero que mucho talento . \nSi no quieres perderte esta gran final\, reserva ya tu entrada\, ¡que vuelan!
URL:https://disfruta-denia.com/evento/gran-final-de-les-tramoies-talent-show/
LOCATION:Les Tramoies\, C/ de Patricio Ferrándiz\, 88\, Denia\, Alicante\, 03700\, España
CATEGORIES:Cultura,Espectáculo
ATTACH;FMTTYPE=image/jpeg:https://disfruta-denia.com/wp-content/uploads/2024/02/428438273_411077897985968_5016397030059511651_n.jpg
END:VEVENT
BEGIN:VEVENT
DTSTART;TZID=Europe/Madrid:20240301T200000
DTEND;TZID=Europe/Madrid:20240301T200000
DTSTAMP:20260424T094423
CREATED:20240301T085356Z
LAST-MODIFIED:20240301T085356Z
UID:10017518-1709323200-1709323200@disfruta-denia.com
SUMMARY:Magia en vivo con Santi Marcilla
DESCRIPTION:
URL:https://disfruta-denia.com/evento/magia-en-vivo-con-santi-marcilla/2024-03-01/
LOCATION:Babilonia Restaurante\, Calle Cavallers 11\, Denia\, Alicante\, 03700\, España
CATEGORIES:Cultura,Espectáculo
ATTACH;FMTTYPE=image/jpeg:https://disfruta-denia.com/wp-content/uploads/2024/03/423541791_1736385443554964_981225945373241253_n.jpg
END:VEVENT
BEGIN:VEVENT
DTSTART;TZID=Europe/Madrid:20240307T200000
DTEND;TZID=Europe/Madrid:20240307T200000
DTSTAMP:20260424T094423
CREATED:20240221T150929Z
LAST-MODIFIED:20240221T150929Z
UID:10017240-1709841600-1709841600@disfruta-denia.com
SUMMARY:Open Mic en Babilonia
DESCRIPTION:Discover your talent at our Open Mic every Thursday at 8:00 PM! \nCome and share your passion for music\, poetry\, or dance.  \nImmerse yourself in a world of artistic expression and join us.\n Everyone is welcome to shine on stage! \nReady to captivate the audience?\nWe can’t wait to see you! \n– Free entrance.
URL:https://disfruta-denia.com/evento/open-mic-en-babilonia/2024-03-07/
LOCATION:Babilonia Restaurante\, Calle Cavallers 11\, Denia\, Alicante\, 03700\, España
CATEGORIES:Espectáculo,Música
ATTACH;FMTTYPE=image/jpeg:https://disfruta-denia.com/wp-content/uploads/2024/02/425011009_375331362029714_8464622446710910306_n.jpg
END:VEVENT
BEGIN:VEVENT
DTSTART;TZID=Europe/Madrid:20240308T200000
DTEND;TZID=Europe/Madrid:20240308T200000
DTSTAMP:20260424T094423
CREATED:20240301T085356Z
LAST-MODIFIED:20240301T085356Z
UID:10017519-1709928000-1709928000@disfruta-denia.com
SUMMARY:Magia en vivo con Santi Marcilla
DESCRIPTION:
URL:https://disfruta-denia.com/evento/magia-en-vivo-con-santi-marcilla/2024-03-08/
LOCATION:Babilonia Restaurante\, Calle Cavallers 11\, Denia\, Alicante\, 03700\, España
CATEGORIES:Cultura,Espectáculo
ATTACH;FMTTYPE=image/jpeg:https://disfruta-denia.com/wp-content/uploads/2024/03/423541791_1736385443554964_981225945373241253_n.jpg
END:VEVENT
BEGIN:VEVENT
DTSTART;TZID=Europe/Madrid:20240314T200000
DTEND;TZID=Europe/Madrid:20240314T200000
DTSTAMP:20260424T094423
CREATED:20240221T150929Z
LAST-MODIFIED:20240221T150929Z
UID:10017241-1710446400-1710446400@disfruta-denia.com
SUMMARY:Open Mic en Babilonia
DESCRIPTION:Discover your talent at our Open Mic every Thursday at 8:00 PM! \nCome and share your passion for music\, poetry\, or dance.  \nImmerse yourself in a world of artistic expression and join us.\n Everyone is welcome to shine on stage! \nReady to captivate the audience?\nWe can’t wait to see you! \n– Free entrance.
URL:https://disfruta-denia.com/evento/open-mic-en-babilonia/2024-03-14/
LOCATION:Babilonia Restaurante\, Calle Cavallers 11\, Denia\, Alicante\, 03700\, España
CATEGORIES:Espectáculo,Música
ATTACH;FMTTYPE=image/jpeg:https://disfruta-denia.com/wp-content/uploads/2024/02/425011009_375331362029714_8464622446710910306_n.jpg
END:VEVENT
BEGIN:VEVENT
DTSTART;TZID=Europe/Madrid:20240315T200000
DTEND;TZID=Europe/Madrid:20240315T200000
DTSTAMP:20260424T094423
CREATED:20240301T085356Z
LAST-MODIFIED:20240301T085356Z
UID:10017520-1710532800-1710532800@disfruta-denia.com
SUMMARY:Magia en vivo con Santi Marcilla
DESCRIPTION:
URL:https://disfruta-denia.com/evento/magia-en-vivo-con-santi-marcilla/2024-03-15/
LOCATION:Babilonia Restaurante\, Calle Cavallers 11\, Denia\, Alicante\, 03700\, España
CATEGORIES:Cultura,Espectáculo
ATTACH;FMTTYPE=image/jpeg:https://disfruta-denia.com/wp-content/uploads/2024/03/423541791_1736385443554964_981225945373241253_n.jpg
END:VEVENT
BEGIN:VEVENT
DTSTART;TZID=Europe/Madrid:20240315T210000
DTEND;TZID=Europe/Madrid:20240315T210000
DTSTAMP:20260424T094423
CREATED:20240207T122742Z
LAST-MODIFIED:20240207T122742Z
UID:10017184-1710536400-1710536400@disfruta-denia.com
SUMMARY:EL FAMOSO TRINO\, DE LA VOZ DEL BECARIO
DESCRIPTION:EL FAMOSO TRINO \nDE LA VOZ DEL BECARIO \nLAS NOTICIAS QUE NADIE MÁS TIENE \n  \nORGANITZA: QUINTOS I COMISSIÓ LA XARA 2024.
URL:https://disfruta-denia.com/evento/el-famoso-trino-de-la-voz-del-becario/
LOCATION:Auditori Municipal Ondara\, 14 Carrer Sant Jaume\, Ondara\, VC\, 03760\, Spain
CATEGORIES:Cultura,Espectáculo
ATTACH;FMTTYPE=image/webp:https://disfruta-denia.com/wp-content/uploads/2024/02/event-image-GlPMq9EH.webp
END:VEVENT
BEGIN:VEVENT
DTSTART;TZID=Europe/Madrid:20240321T200000
DTEND;TZID=Europe/Madrid:20240321T200000
DTSTAMP:20260424T094423
CREATED:20240221T150929Z
LAST-MODIFIED:20240221T150929Z
UID:10017242-1711051200-1711051200@disfruta-denia.com
SUMMARY:Open Mic en Babilonia
DESCRIPTION:Discover your talent at our Open Mic every Thursday at 8:00 PM! \nCome and share your passion for music\, poetry\, or dance.  \nImmerse yourself in a world of artistic expression and join us.\n Everyone is welcome to shine on stage! \nReady to captivate the audience?\nWe can’t wait to see you! \n– Free entrance.
URL:https://disfruta-denia.com/evento/open-mic-en-babilonia/2024-03-21/
LOCATION:Babilonia Restaurante\, Calle Cavallers 11\, Denia\, Alicante\, 03700\, España
CATEGORIES:Espectáculo,Música
ATTACH;FMTTYPE=image/jpeg:https://disfruta-denia.com/wp-content/uploads/2024/02/425011009_375331362029714_8464622446710910306_n.jpg
END:VEVENT
BEGIN:VEVENT
DTSTART;TZID=Europe/Madrid:20240322T200000
DTEND;TZID=Europe/Madrid:20240322T200000
DTSTAMP:20260424T094423
CREATED:20240301T085356Z
LAST-MODIFIED:20240301T085356Z
UID:10017521-1711137600-1711137600@disfruta-denia.com
SUMMARY:Magia en vivo con Santi Marcilla
DESCRIPTION:
URL:https://disfruta-denia.com/evento/magia-en-vivo-con-santi-marcilla/2024-03-22/
LOCATION:Babilonia Restaurante\, Calle Cavallers 11\, Denia\, Alicante\, 03700\, España
CATEGORIES:Cultura,Espectáculo
ATTACH;FMTTYPE=image/jpeg:https://disfruta-denia.com/wp-content/uploads/2024/03/423541791_1736385443554964_981225945373241253_n.jpg
END:VEVENT
BEGIN:VEVENT
DTSTART;TZID=Europe/Madrid:20240323T200000
DTEND;TZID=Europe/Madrid:20240323T200000
DTSTAMP:20260424T094423
CREATED:20240309T162216Z
LAST-MODIFIED:20240309T162216Z
UID:10017804-1711224000-1711224000@disfruta-denia.com
SUMMARY:Circo: TRANVIA NÚM. 12
DESCRIPTION:TRANVIA NÚM. 12. La Finestra nou circ.  \nL’espectacle combina malabars\, aeris\, acrobàcies\, equilibris i clown amb altres Arts Escèniques com la música\, la dansa i el teatre. \nSinopsi:\nCinc diferents personatges es reuneixen en una peculiar estació de tren\, només tenen una cosa en comú…esperen. Estan llestos per a anar-se\, fugir… el tren està allí esperant\, però mai ix. Aquesta emoció col·lectiva provocarà en ells una forma inesperada de relacionar-se\, de conèixer-se\, descobrint que tenen més en comú del que creien\, molt de talent\, la creativitat\, el circ\, el sentit de l’humor davant la vida i la seua peculiar resiliència. \nEl espectáculo combina malabares\, aéreos\, acrobacias\, equilibrios y clown con otras Artes Escénicas como la música\, la danza y el teatro. \nSinopsis: \nCinco diferentes personajes se reúnen en una peculiar estación de tren\, solo tienen una cosa en común… esperan. Están listos para irse\, huir… el tren está allí esperando\, pero nunca sale. Esta emoción colectiva provocará en ellos una forma inesperada de relacionarse\, de conocerse\, descubriendo que tienen más en común de lo que creían\, mucho talento\, la creatividad\, el circo\, el sentido del humor ante la vida y su peculiar resiliencia.  \nRecomanada / Recomendada  +  de 5 anys/años. En valencià. 60’ \nEntrada: 10 €  en  http://www.notikumi.com. En taquilla: el mateix dia una hora abans/el mismo dia una hora antes
URL:https://disfruta-denia.com/evento/circo-tranvia-num-12/
LOCATION:Teatro Auditorio Centro Social\, 4 Carrer Calderón\, Dénia\, VC\, 03700\, Spain
CATEGORIES:Cultura,Espectáculo
ATTACH;FMTTYPE=image/png:https://disfruta-denia.com/wp-content/uploads/2024/03/13-tranvia-no-12.png
ORGANIZER;CN="Denia Cultura":MAILTO:cultura@ayto-denia.es
END:VEVENT
BEGIN:VEVENT
DTSTART;TZID=Europe/Madrid:20240328T200000
DTEND;TZID=Europe/Madrid:20240328T200000
DTSTAMP:20260424T094423
CREATED:20240221T150929Z
LAST-MODIFIED:20240221T150929Z
UID:10017243-1711656000-1711656000@disfruta-denia.com
SUMMARY:Open Mic en Babilonia
DESCRIPTION:Discover your talent at our Open Mic every Thursday at 8:00 PM! \nCome and share your passion for music\, poetry\, or dance.  \nImmerse yourself in a world of artistic expression and join us.\n Everyone is welcome to shine on stage! \nReady to captivate the audience?\nWe can’t wait to see you! \n– Free entrance.
URL:https://disfruta-denia.com/evento/open-mic-en-babilonia/2024-03-28/
LOCATION:Babilonia Restaurante\, Calle Cavallers 11\, Denia\, Alicante\, 03700\, España
CATEGORIES:Espectáculo,Música
ATTACH;FMTTYPE=image/jpeg:https://disfruta-denia.com/wp-content/uploads/2024/02/425011009_375331362029714_8464622446710910306_n.jpg
END:VEVENT
BEGIN:VEVENT
DTSTART;TZID=Europe/Madrid:20240329T200000
DTEND;TZID=Europe/Madrid:20240329T200000
DTSTAMP:20260424T094423
CREATED:20240301T085356Z
LAST-MODIFIED:20240301T085356Z
UID:10017522-1711742400-1711742400@disfruta-denia.com
SUMMARY:Magia en vivo con Santi Marcilla
DESCRIPTION:
URL:https://disfruta-denia.com/evento/magia-en-vivo-con-santi-marcilla/2024-03-29/
LOCATION:Babilonia Restaurante\, Calle Cavallers 11\, Denia\, Alicante\, 03700\, España
CATEGORIES:Cultura,Espectáculo
ATTACH;FMTTYPE=image/jpeg:https://disfruta-denia.com/wp-content/uploads/2024/03/423541791_1736385443554964_981225945373241253_n.jpg
END:VEVENT
END:VCALENDAR