BEGIN:VCALENDAR
VERSION:2.0
PRODID:-//Disfruta Denia - ECPv6.15.20//NONSGML v1.0//EN
CALSCALE:GREGORIAN
METHOD:PUBLISH
X-ORIGINAL-URL:https://disfruta-denia.com
X-WR-CALDESC:Eventos para Disfruta Denia
REFRESH-INTERVAL;VALUE=DURATION:PT1H
X-Robots-Tag:noindex
X-PUBLISHED-TTL:PT1H
BEGIN:VTIMEZONE
TZID:Europe/Madrid
BEGIN:DAYLIGHT
TZOFFSETFROM:+0100
TZOFFSETTO:+0200
TZNAME:CEST
DTSTART:20230326T010000
END:DAYLIGHT
BEGIN:STANDARD
TZOFFSETFROM:+0200
TZOFFSETTO:+0100
TZNAME:CET
DTSTART:20231029T010000
END:STANDARD
BEGIN:DAYLIGHT
TZOFFSETFROM:+0100
TZOFFSETTO:+0200
TZNAME:CEST
DTSTART:20240331T010000
END:DAYLIGHT
BEGIN:STANDARD
TZOFFSETFROM:+0200
TZOFFSETTO:+0100
TZNAME:CET
DTSTART:20241027T010000
END:STANDARD
BEGIN:DAYLIGHT
TZOFFSETFROM:+0100
TZOFFSETTO:+0200
TZNAME:CEST
DTSTART:20250330T010000
END:DAYLIGHT
BEGIN:STANDARD
TZOFFSETFROM:+0200
TZOFFSETTO:+0100
TZNAME:CET
DTSTART:20251026T010000
END:STANDARD
END:VTIMEZONE
BEGIN:VEVENT
DTSTART;TZID=Europe/Madrid:20240705T200000
DTEND;TZID=Europe/Madrid:20240705T200000
DTSTAMP:20260424T020523
CREATED:20240301T085356Z
LAST-MODIFIED:20240301T085356Z
UID:10017536-1720209600-1720209600@disfruta-denia.com
SUMMARY:Magia en vivo con Santi Marcilla
DESCRIPTION:
URL:https://disfruta-denia.com/evento/magia-en-vivo-con-santi-marcilla/2024-07-05/
LOCATION:Babilonia Restaurante\, Calle Cavallers 11\, Denia\, Alicante\, 03700\, España
CATEGORIES:Cultura,Espectáculo
ATTACH;FMTTYPE=image/jpeg:https://disfruta-denia.com/wp-content/uploads/2024/03/423541791_1736385443554964_981225945373241253_n.jpg
END:VEVENT
BEGIN:VEVENT
DTSTART;TZID=Europe/Madrid:20240709T193000
DTEND;TZID=Europe/Madrid:20240709T193000
DTSTAMP:20260424T020523
CREATED:20240614T203652Z
LAST-MODIFIED:20240614T203652Z
UID:10018763-1720553400-1720553400@disfruta-denia.com
SUMMARY:Concierto en valenciano: Borja Penalba
DESCRIPTION:martes 9 de julio concierto de música en valenciano\, con el concierto de Borja Penalba\, en la plaza del Consell. Y posterior correfoc «Infierno‘\, a cargo de Dimonis Polopins
URL:https://disfruta-denia.com/evento/concierto-en-valenciano-borja-penalba/
LOCATION:Plaza del Consell\, Carrer de la Mar\, Denia\, 03700
CATEGORIES:Concierto,Cultura,Espectáculo,Música
ATTACH;FMTTYPE=image/jpeg:https://disfruta-denia.com/wp-content/uploads/2024/06/7029f1.jpg
END:VEVENT
BEGIN:VEVENT
DTSTART;TZID=Europe/Madrid:20240712T200000
DTEND;TZID=Europe/Madrid:20240712T200000
DTSTAMP:20260424T020523
CREATED:20240301T085356Z
LAST-MODIFIED:20240301T085356Z
UID:10017537-1720814400-1720814400@disfruta-denia.com
SUMMARY:Magia en vivo con Santi Marcilla
DESCRIPTION:
URL:https://disfruta-denia.com/evento/magia-en-vivo-con-santi-marcilla/2024-07-12/
LOCATION:Babilonia Restaurante\, Calle Cavallers 11\, Denia\, Alicante\, 03700\, España
CATEGORIES:Cultura,Espectáculo
ATTACH;FMTTYPE=image/jpeg:https://disfruta-denia.com/wp-content/uploads/2024/03/423541791_1736385443554964_981225945373241253_n.jpg
END:VEVENT
BEGIN:VEVENT
DTSTART;TZID=Europe/Madrid:20240713T190000
DTEND;TZID=Europe/Madrid:20240713T230000
DTSTAMP:20260424T020523
CREATED:20240616T152802Z
LAST-MODIFIED:20240616T152802Z
UID:10018770-1720897200-1720911600@disfruta-denia.com
SUMMARY:Desfile de carrozas y comparsas
DESCRIPTION:con la participación de las comisiones falleras\, entidades festeras y Junta Local Fallera. Fiesta de Interés Turístico Provincial. Itinerario: Marqués de Campo\, Diana\, Patricio Ferrándiz\, Marqués de Campo. Organiza: Junta Local Fallera. Colabora: Concejalía de Fiestas. \n00 h. Actuación de la orquesta Empopados. Calle La Vía. \n00 h. Discomóvil con los DJ Miguel Piera y Dion Dobbe. Explanada de Torrecremada.
URL:https://disfruta-denia.com/evento/desfile-de-carrozas-y-comparsas/
LOCATION:Denia\, Denia\, Alicante\, 03700\, España
CATEGORIES:Concierto,Cultura,Desfile,DJ,Espectáculo,Música
ATTACH;FMTTYPE=image/jpeg:https://disfruta-denia.com/wp-content/uploads/2024/06/7029f1.jpg
END:VEVENT
BEGIN:VEVENT
DTSTART;TZID=Europe/Madrid:20240714T230000
DTEND;TZID=Europe/Madrid:20240714T230000
DTSTAMP:20260424T020523
CREATED:20240615T082211Z
LAST-MODIFIED:20240615T082708Z
UID:10018767-1720998000-1720998000@disfruta-denia.com
SUMMARY:Espectáculo pirotécnico 'Vulcano Magia'
DESCRIPTION:espectáculo infantil ‘Beatles for Niños‘\, i espectáculo pirotécnico ‘Vulcano Magia‘\, a cargo de pirotecnia Vulcano\, como final de fiesta\, a las 22.30 horas\, en la explanada de Torrequemada.
URL:https://disfruta-denia.com/evento/espectaculo-pirotecnico-vulcano-magia/
LOCATION:Parque de Torrecremada\, Carrer Germans Maristes\, Denia\, Alicante\, 03700\, España
CATEGORIES:Cultura,Espectáculo
ATTACH;FMTTYPE=image/jpeg:https://disfruta-denia.com/wp-content/uploads/2024/06/7029f1.jpg
END:VEVENT
BEGIN:VEVENT
DTSTART;TZID=Europe/Madrid:20240719T200000
DTEND;TZID=Europe/Madrid:20240719T200000
DTSTAMP:20260424T020523
CREATED:20240301T085356Z
LAST-MODIFIED:20240301T085356Z
UID:10017538-1721419200-1721419200@disfruta-denia.com
SUMMARY:Magia en vivo con Santi Marcilla
DESCRIPTION:
URL:https://disfruta-denia.com/evento/magia-en-vivo-con-santi-marcilla/2024-07-19/
LOCATION:Babilonia Restaurante\, Calle Cavallers 11\, Denia\, Alicante\, 03700\, España
CATEGORIES:Cultura,Espectáculo
ATTACH;FMTTYPE=image/jpeg:https://disfruta-denia.com/wp-content/uploads/2024/03/423541791_1736385443554964_981225945373241253_n.jpg
END:VEVENT
BEGIN:VEVENT
DTSTART;TZID=Europe/Madrid:20240726T200000
DTEND;TZID=Europe/Madrid:20240726T200000
DTSTAMP:20260424T020523
CREATED:20240301T085356Z
LAST-MODIFIED:20240301T085356Z
UID:10017539-1722024000-1722024000@disfruta-denia.com
SUMMARY:Magia en vivo con Santi Marcilla
DESCRIPTION:
URL:https://disfruta-denia.com/evento/magia-en-vivo-con-santi-marcilla/2024-07-26/
LOCATION:Babilonia Restaurante\, Calle Cavallers 11\, Denia\, Alicante\, 03700\, España
CATEGORIES:Cultura,Espectáculo
ATTACH;FMTTYPE=image/jpeg:https://disfruta-denia.com/wp-content/uploads/2024/03/423541791_1736385443554964_981225945373241253_n.jpg
END:VEVENT
END:VCALENDAR