BEGIN:VCALENDAR
VERSION:2.0
PRODID:-//Disfruta Denia - ECPv6.15.20//NONSGML v1.0//EN
CALSCALE:GREGORIAN
METHOD:PUBLISH
X-ORIGINAL-URL:https://disfruta-denia.com
X-WR-CALDESC:Eventos para Disfruta Denia
REFRESH-INTERVAL;VALUE=DURATION:PT1H
X-Robots-Tag:noindex
X-PUBLISHED-TTL:PT1H
BEGIN:VTIMEZONE
TZID:Europe/Madrid
BEGIN:DAYLIGHT
TZOFFSETFROM:+0100
TZOFFSETTO:+0200
TZNAME:CEST
DTSTART:20230326T010000
END:DAYLIGHT
BEGIN:STANDARD
TZOFFSETFROM:+0200
TZOFFSETTO:+0100
TZNAME:CET
DTSTART:20231029T010000
END:STANDARD
BEGIN:DAYLIGHT
TZOFFSETFROM:+0100
TZOFFSETTO:+0200
TZNAME:CEST
DTSTART:20240331T010000
END:DAYLIGHT
BEGIN:STANDARD
TZOFFSETFROM:+0200
TZOFFSETTO:+0100
TZNAME:CET
DTSTART:20241027T010000
END:STANDARD
BEGIN:DAYLIGHT
TZOFFSETFROM:+0100
TZOFFSETTO:+0200
TZNAME:CEST
DTSTART:20250330T010000
END:DAYLIGHT
BEGIN:STANDARD
TZOFFSETFROM:+0200
TZOFFSETTO:+0100
TZNAME:CET
DTSTART:20251026T010000
END:STANDARD
END:VTIMEZONE
BEGIN:VEVENT
DTSTART;TZID=Europe/Madrid:20241005T100000
DTEND;TZID=Europe/Madrid:20241005T190000
DTSTAMP:20260423T222514
CREATED:20240924T125320Z
LAST-MODIFIED:20240924T125748Z
UID:10019634-1728122400-1728154800@disfruta-denia.com
SUMMARY:2nd National american car weekend
DESCRIPTION:¡Llega a Dénia el 2º National American Cars Weekend! \n\n\nLos próximos 5 y 6 de octubre\, @costablancamustangowners nos trae una increíble exhibición de coches americanos\, la mejor música en directo\, show y muchas sorpresas… \n\n\n ¡Reserva ya tu mesa con nosotros y no te pierdas el evento del año en la Estación Marítima @baleariaferry de Dénia!
URL:https://disfruta-denia.com/evento/2nd-national-american-car-weekend/2024-10-05/
LOCATION:Nauta Port\, Moll de la Pansa\, s/n\, Denia\, Alicante\, 03700\, España
CATEGORIES:Cultura,Espectáculo,Exposiciones
ATTACH;FMTTYPE=image/jpeg:https://disfruta-denia.com/wp-content/uploads/2024/09/461290657_865546062389153_2849115643086999706_n-e1727182362343.jpg
END:VEVENT
BEGIN:VEVENT
DTSTART;TZID=Europe/Madrid:20241006T100000
DTEND;TZID=Europe/Madrid:20241006T140000
DTSTAMP:20260423T222514
CREATED:20240924T125320Z
LAST-MODIFIED:20240924T125748Z
UID:10019635-1728208800-1728223200@disfruta-denia.com
SUMMARY:2nd National american car weekend
DESCRIPTION:¡Llega a Dénia el 2º National American Cars Weekend! \n\n\nLos próximos 5 y 6 de octubre\, @costablancamustangowners nos trae una increíble exhibición de coches americanos\, la mejor música en directo\, show y muchas sorpresas… \n\n\n ¡Reserva ya tu mesa con nosotros y no te pierdas el evento del año en la Estación Marítima @baleariaferry de Dénia!
URL:https://disfruta-denia.com/evento/2nd-national-american-car-weekend/2024-10-06/
LOCATION:Nauta Port\, Moll de la Pansa\, s/n\, Denia\, Alicante\, 03700\, España
CATEGORIES:Cultura,Espectáculo,Exposiciones
ATTACH;FMTTYPE=image/jpeg:https://disfruta-denia.com/wp-content/uploads/2024/09/461290657_865546062389153_2849115643086999706_n-e1727182362343.jpg
END:VEVENT
END:VCALENDAR