BEGIN:VCALENDAR
VERSION:2.0
PRODID:-//Disfruta Denia - ECPv6.15.20//NONSGML v1.0//EN
CALSCALE:GREGORIAN
METHOD:PUBLISH
X-WR-CALNAME:Disfruta Denia
X-ORIGINAL-URL:https://disfruta-denia.com
X-WR-CALDESC:Eventos para Disfruta Denia
REFRESH-INTERVAL;VALUE=DURATION:PT1H
X-Robots-Tag:noindex
X-PUBLISHED-TTL:PT1H
BEGIN:VTIMEZONE
TZID:Europe/Madrid
BEGIN:DAYLIGHT
TZOFFSETFROM:+0100
TZOFFSETTO:+0200
TZNAME:CEST
DTSTART:20250330T010000
END:DAYLIGHT
BEGIN:STANDARD
TZOFFSETFROM:+0200
TZOFFSETTO:+0100
TZNAME:CET
DTSTART:20251026T010000
END:STANDARD
BEGIN:DAYLIGHT
TZOFFSETFROM:+0100
TZOFFSETTO:+0200
TZNAME:CEST
DTSTART:20260329T010000
END:DAYLIGHT
BEGIN:STANDARD
TZOFFSETFROM:+0200
TZOFFSETTO:+0100
TZNAME:CET
DTSTART:20261025T010000
END:STANDARD
BEGIN:DAYLIGHT
TZOFFSETFROM:+0100
TZOFFSETTO:+0200
TZNAME:CEST
DTSTART:20270328T010000
END:DAYLIGHT
BEGIN:STANDARD
TZOFFSETFROM:+0200
TZOFFSETTO:+0100
TZNAME:CET
DTSTART:20271031T010000
END:STANDARD
END:VTIMEZONE
BEGIN:VEVENT
DTSTART;TZID=Europe/Madrid:20260307T114500
DTEND;TZID=Europe/Madrid:20260307T114500
DTSTAMP:20260420T160455
CREATED:20260220T084431Z
LAST-MODIFIED:20260220T084431Z
UID:10026530-1772883900-1772883900@disfruta-denia.com
SUMMARY:PRESENTACIÓN LIBRO
DESCRIPTION:CON EL TIEMPO ROTO\, fotografía & poesía de Norma Graciela González Peralta.  \nEntrada: lliure fins a completar aforament /libre hasta completar aforo. \nOrganitza/organiza: Poetes per la Cultura. Col·labora / colabora: Ajuntament de Dénia. Cultura \n 
URL:https://disfruta-denia.com/evento/presentacion-libro-10/
LOCATION:Casa de la Cultura Denia\, Plaça Jaume I\, Denia\, Alicante\, 03700\, España
CATEGORIES:Presentación
ATTACH;FMTTYPE=image/png:https://disfruta-denia.com/wp-content/uploads/2026/02/6-LLibre-dia-7.png
END:VEVENT
BEGIN:VEVENT
DTSTART;TZID=Europe/Madrid:20260313T083000
DTEND;TZID=Europe/Madrid:20260313T213000
DTSTAMP:20260420T160455
CREATED:20260227T102439Z
LAST-MODIFIED:20260227T104212Z
UID:10026619-1773390600-1773437400@disfruta-denia.com
SUMMARY:PRESENTACIÓN DEL LIBRO: MATRIA
DESCRIPTION:La Fundación Baleària y la Asociación de Amistad Andaluza Marroquí – Foro Ibn Rushd impulsan la poesía escrita por mujeres a través de la antología Matria. Colección de poesía femenina contemporánea española y marroquí.\nAmbas entidades presentan en Dénia esta publicación\, que reúne la voz poética de creadoras de ambas orillas del Mediterráneo como expresión de diálogo cultural y literario.\nLa antología cuenta con la participación de 16 poetas españolas y marroquíes y de 14 artistas plásticas\, igualmente españolas y marroquíes —todas ellas mujeres—\, que han cedido sus obras pictóricas para ilustrar esta edición. Los poemas se presentan en formato bilingüe: en la lengua original de cada autora y con traducción al español —en el caso de las poetas que escriben en árabe\, amazigh\, dariya o francés— o al árabe —para las poetas españolas que escriben en español\, catalán\, gallego o euskera—. Las traducciones han sido realizadas por la profesora Salma Moutaouakkil\, de la Universidad de Marrakech.\nEl libro recoge los textos del proyecto de diplomacia cultural Matria\, iniciado en 2024\, que consistió en la distribución gratuita de cuadernos de poesía femenina contemporánea española y marroquí entre los pasajeros de los barcos de Baleària que conectan España con el norte de África. Estas publicaciones\, ilustradas por artistas de ambos países\, tenían como objetivo dar a conocer la creación literaria de destacadas poetas de ambas riberas como metáfora del progresivo acercamiento cultural entre España y Marruecos.\nLos cuadernos fueron distribuidos también entre el alumnado de los once centros educativos que España mantiene en Marruecos\, gracias a la colaboración de la Consejería de Educación de la Embajada de España en Marruecos.\nPOETAS\nRaquel LanserosKhadija ArouhalJuana CastroAmal El AkhdarMaría RosalTouria MajdoulineYolanda CastañoDalila FakhriAlicia AzaSiham BouhlalRosa RomojaroMalika El AssimiÀngels GregoriAicha BassryFadma FarrasTere Irastortza Garmendia\nTRADUCTORA: \nSalma Moutaouakkil\nARTISTAS\nPatricia BonedDoralice SouzaAlmudena PérezItaf BenjellounNajoua El HitmiAhlam LemsefferMounat CharratMariia ZhurykovaAmina RmikiSaoussan MelehiAmelia PisacaCarmen LloretNina LlorensGuiomar Martín
URL:https://disfruta-denia.com/evento/presentacion-del-libro-matria/
LOCATION:Els Magazinos\, Carrer Pont 19\, Denia\, Alicante\, 03700\, España
CATEGORIES:Cultura,Presentación
ATTACH;FMTTYPE=image/jpeg:https://disfruta-denia.com/wp-content/uploads/2026/02/PRESENTACION_MATRIA_DENIA-scaled-mni9EY.jpg
END:VEVENT
BEGIN:VEVENT
DTSTART;TZID=Europe/Madrid:20260321T114500
DTEND;TZID=Europe/Madrid:20260321T114500
DTSTAMP:20260420T160455
CREATED:20260220T090101Z
LAST-MODIFIED:20260220T090101Z
UID:10026536-1774093500-1774093500@disfruta-denia.com
SUMMARY:PRESENTACIÓN LIBRO : A LA SOMBRA DEL TANGO
DESCRIPTION:e Vicente Barberá Albalat.  \nEntrada: lliure fins a completar aforament / libre hasta completar aforo. \nOrganitza/organiza: Poetes per la Cultura. Col·labora / colabora: Ajuntament de Dénia. Cultura
URL:https://disfruta-denia.com/evento/presentacion-libro-a-la-sombra-del-tango/
LOCATION:Casa de la Cultura Denia\, Plaça Jaume I\, Denia\, Alicante\, 03700\, España
CATEGORIES:Cultura,Presentación
ATTACH;FMTTYPE=image/png:https://disfruta-denia.com/wp-content/uploads/2026/02/11-llibre-dia-21.png
END:VEVENT
END:VCALENDAR