BEGIN:VCALENDAR
VERSION:2.0
PRODID:-//Disfruta Denia - ECPv6.15.20//NONSGML v1.0//EN
CALSCALE:GREGORIAN
METHOD:PUBLISH
X-ORIGINAL-URL:https://disfruta-denia.com
X-WR-CALDESC:Eventos para Disfruta Denia
REFRESH-INTERVAL;VALUE=DURATION:PT1H
X-Robots-Tag:noindex
X-PUBLISHED-TTL:PT1H
BEGIN:VTIMEZONE
TZID:Europe/Madrid
BEGIN:DAYLIGHT
TZOFFSETFROM:+0100
TZOFFSETTO:+0200
TZNAME:CEST
DTSTART:20230326T010000
END:DAYLIGHT
BEGIN:STANDARD
TZOFFSETFROM:+0200
TZOFFSETTO:+0100
TZNAME:CET
DTSTART:20231029T010000
END:STANDARD
BEGIN:DAYLIGHT
TZOFFSETFROM:+0100
TZOFFSETTO:+0200
TZNAME:CEST
DTSTART:20240331T010000
END:DAYLIGHT
BEGIN:STANDARD
TZOFFSETFROM:+0200
TZOFFSETTO:+0100
TZNAME:CET
DTSTART:20241027T010000
END:STANDARD
BEGIN:DAYLIGHT
TZOFFSETFROM:+0100
TZOFFSETTO:+0200
TZNAME:CEST
DTSTART:20250330T010000
END:DAYLIGHT
BEGIN:STANDARD
TZOFFSETFROM:+0200
TZOFFSETTO:+0100
TZNAME:CET
DTSTART:20251026T010000
END:STANDARD
END:VTIMEZONE
BEGIN:VEVENT
DTSTART;TZID=Europe/Madrid:20240511T113000
DTEND;TZID=Europe/Madrid:20240511T113000
DTSTAMP:20260424T095103
CREATED:20240504T070255Z
LAST-MODIFIED:20240504T070255Z
UID:10018496-1715427000-1715427000@disfruta-denia.com
SUMMARY:Día Internacional de los Museos 2024
DESCRIPTION:El área de Arqueología y Museos del Ajuntament de Dénia ha organizado un programa especial de actividades con motivo de la celebración\, el 18 de mayo\, del Día Internacional de los Museos. El hilo conductor de la programación es la Guerra de la Independencia\, que tuvo un impacto importante en la vida y el patrimonio de la ciudad\, especialmente en su castillo. \n  \nEsta programación especial empieza el jueves 16 de mayo con una conferencia de César Evangelio Luz sobre los salvamentos del Santo Cáliz en la Guerra de la Independencia y su paso por Dénia. En esta charla\, el autor expondrá el episodio\, poco conocido\, del salvamento del Santo Cáliz de la catedral de València en el transcurso de la Guerra de Independencia. El temor a la ocupación napoleónica hizo que el cabildo decidiera poner a salvo el cáliz y sus reliquias\, trasladándolas a diferentes poblaciones entre 1809 y 1810. La conferencia se impartirá en la Biblioteca Municipal\, a las 19 horas. \n  \nEl viernes 17 de mayo\, a las 10.30 horas\, desde la plaza del Consell\, saldrá la visita guiada gratuita “La Dénia de Pascual Madoz. Una instantánea de la ciudad de 1847”: un mínimo recorrido urbano donde se explicarán\, in situ\, las descripciones que hace Madoz de la Dénia del momento\, enfrentada a importantes retos en la economía y el urbanismo después de la primera crisis del sector de la pasa. La visita no es apta para personas con movilidad reducida. \n  \nEl 18 de mayo\, sábado\, la entrada al castillo de Dénia será gratuita y durante la jornada se obsequiará a los visitantes con una miniguia del monumento. \n  \nEste día\, se ha programado a las 11.30 horas de la mañana la visita “El castillo de Dénia entre guerras. De la Guerra de Sucesión a la Guerra del Francés”\, un repaso por las huellas de las dos contiendas en la población y el patrimonio de la ciudad. \n  \nDénia sufrió entre 1708 y 1813 dos episodios de guerra. El 18 de noviembre de 1708\, después de tres asedios\, las tropas borbónicas abrieron una brecha en la muralla y quemaron la ciudad\, ocupándola militarmente. La población fue reprimida y castigada por su apoyo al archiduque Carlos de Austria durante la llamada guerra de Sucesión. Esta derrota supuso que el castillo y toda la ciudad se convirtiera en un gran cuartel militar. \n  \nA lo largo del siglo XVIII\, poco a poco\, la economía de la ciudad fue recuperándose\, pero en 1813\, durante la Guerra del Francés o de la Independencia\, volvió a ser arrasada por las tropas realistas y británicas partidarias de Fernando VII. \n  \nEsta visita guiada volverá a repetirse el domingo 19 de mayo\, a la misma hora\, y pondrá punto final a la programación especial del Día Internacional de los Museos. \n  \nNo obstante\, durante este mes de mayo\, Arqueología y Museos ha programado otras visitas gratuitas con guía experto para los fines de semana. \n  \nLos sábados 4 y 11 de mayo\, a las 11.30 horas\, y el 25 de mayo a las 17 horas\, se hará la visita “Descubrir el castillo. La colección de cerámica islámica”\, un recorrido diacrónico que ofrece la oportunidad de conocer la fortaleza en el transcurso del tiempo. De manera exclusiva\, el público participante podrá acceder a la bodega para admirar una valiosa colección de cerámicas presentes en los hogares durante los siglos XI y XII. Las personas visitantes se encontrarán en el castillo de Dénia\, frente al quiosco de tickets. \n  \nEl domingo día 12 de mayo\, a las 12 horas\, en el Museo del Mar de Dénia se ha programado una visita explicativa del convivium o banquete romano\, mostrando la vasa escaria\, nombre que se dio en la antigüedad romana al conjunto de utensilios de mesa\, a través de los materiales procedentes de Dianium. \n  \nCompleta la programación del mes la visita guiada “La Caridad de Domingo Llorens. Proceso de restauración”\, prevista los domingos 5 y 26 de mayo\, a las 11.30 horas\, en el Museo Etnológico. La actividad permitirá un acercamiento a la vida y obra del pintor dianense y a su obra La Caridad\, restaurada recientemente. \n  \nPara participar en las visitas guiadas gratuitas que organiza el área de Arqueología y Museos se requiere una inscripción previa llamando al 96 642 02 60\, de lunes a domingo\, de 10 a 13 horas.
URL:https://disfruta-denia.com/evento/dia-internacional-de-los-museos-2024/2024-05-11/
LOCATION:Denia\, Denia\, Alicante\, 03700\, España
CATEGORIES:Charlas y conferencias,Cultura,Presentación,Visita
ATTACH;FMTTYPE=image/jpeg:https://disfruta-denia.com/wp-content/uploads/2024/05/6980f2.jpg
ORGANIZER;CN="Denia Cultura":MAILTO:cultura@ayto-denia.es
END:VEVENT
BEGIN:VEVENT
DTSTART;TZID=Europe/Madrid:20240512T120000
DTEND;TZID=Europe/Madrid:20240512T120000
DTSTAMP:20260424T095104
CREATED:20240504T070255Z
LAST-MODIFIED:20240504T070255Z
UID:10018497-1715515200-1715515200@disfruta-denia.com
SUMMARY:Día Internacional de los Museos 2024
DESCRIPTION:El área de Arqueología y Museos del Ajuntament de Dénia ha organizado un programa especial de actividades con motivo de la celebración\, el 18 de mayo\, del Día Internacional de los Museos. El hilo conductor de la programación es la Guerra de la Independencia\, que tuvo un impacto importante en la vida y el patrimonio de la ciudad\, especialmente en su castillo. \n  \nEsta programación especial empieza el jueves 16 de mayo con una conferencia de César Evangelio Luz sobre los salvamentos del Santo Cáliz en la Guerra de la Independencia y su paso por Dénia. En esta charla\, el autor expondrá el episodio\, poco conocido\, del salvamento del Santo Cáliz de la catedral de València en el transcurso de la Guerra de Independencia. El temor a la ocupación napoleónica hizo que el cabildo decidiera poner a salvo el cáliz y sus reliquias\, trasladándolas a diferentes poblaciones entre 1809 y 1810. La conferencia se impartirá en la Biblioteca Municipal\, a las 19 horas. \n  \nEl viernes 17 de mayo\, a las 10.30 horas\, desde la plaza del Consell\, saldrá la visita guiada gratuita “La Dénia de Pascual Madoz. Una instantánea de la ciudad de 1847”: un mínimo recorrido urbano donde se explicarán\, in situ\, las descripciones que hace Madoz de la Dénia del momento\, enfrentada a importantes retos en la economía y el urbanismo después de la primera crisis del sector de la pasa. La visita no es apta para personas con movilidad reducida. \n  \nEl 18 de mayo\, sábado\, la entrada al castillo de Dénia será gratuita y durante la jornada se obsequiará a los visitantes con una miniguia del monumento. \n  \nEste día\, se ha programado a las 11.30 horas de la mañana la visita “El castillo de Dénia entre guerras. De la Guerra de Sucesión a la Guerra del Francés”\, un repaso por las huellas de las dos contiendas en la población y el patrimonio de la ciudad. \n  \nDénia sufrió entre 1708 y 1813 dos episodios de guerra. El 18 de noviembre de 1708\, después de tres asedios\, las tropas borbónicas abrieron una brecha en la muralla y quemaron la ciudad\, ocupándola militarmente. La población fue reprimida y castigada por su apoyo al archiduque Carlos de Austria durante la llamada guerra de Sucesión. Esta derrota supuso que el castillo y toda la ciudad se convirtiera en un gran cuartel militar. \n  \nA lo largo del siglo XVIII\, poco a poco\, la economía de la ciudad fue recuperándose\, pero en 1813\, durante la Guerra del Francés o de la Independencia\, volvió a ser arrasada por las tropas realistas y británicas partidarias de Fernando VII. \n  \nEsta visita guiada volverá a repetirse el domingo 19 de mayo\, a la misma hora\, y pondrá punto final a la programación especial del Día Internacional de los Museos. \n  \nNo obstante\, durante este mes de mayo\, Arqueología y Museos ha programado otras visitas gratuitas con guía experto para los fines de semana. \n  \nLos sábados 4 y 11 de mayo\, a las 11.30 horas\, y el 25 de mayo a las 17 horas\, se hará la visita “Descubrir el castillo. La colección de cerámica islámica”\, un recorrido diacrónico que ofrece la oportunidad de conocer la fortaleza en el transcurso del tiempo. De manera exclusiva\, el público participante podrá acceder a la bodega para admirar una valiosa colección de cerámicas presentes en los hogares durante los siglos XI y XII. Las personas visitantes se encontrarán en el castillo de Dénia\, frente al quiosco de tickets. \n  \nEl domingo día 12 de mayo\, a las 12 horas\, en el Museo del Mar de Dénia se ha programado una visita explicativa del convivium o banquete romano\, mostrando la vasa escaria\, nombre que se dio en la antigüedad romana al conjunto de utensilios de mesa\, a través de los materiales procedentes de Dianium. \n  \nCompleta la programación del mes la visita guiada “La Caridad de Domingo Llorens. Proceso de restauración”\, prevista los domingos 5 y 26 de mayo\, a las 11.30 horas\, en el Museo Etnológico. La actividad permitirá un acercamiento a la vida y obra del pintor dianense y a su obra La Caridad\, restaurada recientemente. \n  \nPara participar en las visitas guiadas gratuitas que organiza el área de Arqueología y Museos se requiere una inscripción previa llamando al 96 642 02 60\, de lunes a domingo\, de 10 a 13 horas.
URL:https://disfruta-denia.com/evento/dia-internacional-de-los-museos-2024/2024-05-12/
LOCATION:Denia\, Denia\, Alicante\, 03700\, España
CATEGORIES:Charlas y conferencias,Cultura,Presentación,Visita
ATTACH;FMTTYPE=image/jpeg:https://disfruta-denia.com/wp-content/uploads/2024/05/6980f2.jpg
ORGANIZER;CN="Denia Cultura":MAILTO:cultura@ayto-denia.es
END:VEVENT
BEGIN:VEVENT
DTSTART;TZID=Europe/Madrid:20240518T113000
DTEND;TZID=Europe/Madrid:20240518T113000
DTSTAMP:20260424T095104
CREATED:20240504T070255Z
LAST-MODIFIED:20240504T070255Z
UID:10018498-1716031800-1716031800@disfruta-denia.com
SUMMARY:Día Internacional de los Museos 2024
DESCRIPTION:El área de Arqueología y Museos del Ajuntament de Dénia ha organizado un programa especial de actividades con motivo de la celebración\, el 18 de mayo\, del Día Internacional de los Museos. El hilo conductor de la programación es la Guerra de la Independencia\, que tuvo un impacto importante en la vida y el patrimonio de la ciudad\, especialmente en su castillo. \n  \nEsta programación especial empieza el jueves 16 de mayo con una conferencia de César Evangelio Luz sobre los salvamentos del Santo Cáliz en la Guerra de la Independencia y su paso por Dénia. En esta charla\, el autor expondrá el episodio\, poco conocido\, del salvamento del Santo Cáliz de la catedral de València en el transcurso de la Guerra de Independencia. El temor a la ocupación napoleónica hizo que el cabildo decidiera poner a salvo el cáliz y sus reliquias\, trasladándolas a diferentes poblaciones entre 1809 y 1810. La conferencia se impartirá en la Biblioteca Municipal\, a las 19 horas. \n  \nEl viernes 17 de mayo\, a las 10.30 horas\, desde la plaza del Consell\, saldrá la visita guiada gratuita “La Dénia de Pascual Madoz. Una instantánea de la ciudad de 1847”: un mínimo recorrido urbano donde se explicarán\, in situ\, las descripciones que hace Madoz de la Dénia del momento\, enfrentada a importantes retos en la economía y el urbanismo después de la primera crisis del sector de la pasa. La visita no es apta para personas con movilidad reducida. \n  \nEl 18 de mayo\, sábado\, la entrada al castillo de Dénia será gratuita y durante la jornada se obsequiará a los visitantes con una miniguia del monumento. \n  \nEste día\, se ha programado a las 11.30 horas de la mañana la visita “El castillo de Dénia entre guerras. De la Guerra de Sucesión a la Guerra del Francés”\, un repaso por las huellas de las dos contiendas en la población y el patrimonio de la ciudad. \n  \nDénia sufrió entre 1708 y 1813 dos episodios de guerra. El 18 de noviembre de 1708\, después de tres asedios\, las tropas borbónicas abrieron una brecha en la muralla y quemaron la ciudad\, ocupándola militarmente. La población fue reprimida y castigada por su apoyo al archiduque Carlos de Austria durante la llamada guerra de Sucesión. Esta derrota supuso que el castillo y toda la ciudad se convirtiera en un gran cuartel militar. \n  \nA lo largo del siglo XVIII\, poco a poco\, la economía de la ciudad fue recuperándose\, pero en 1813\, durante la Guerra del Francés o de la Independencia\, volvió a ser arrasada por las tropas realistas y británicas partidarias de Fernando VII. \n  \nEsta visita guiada volverá a repetirse el domingo 19 de mayo\, a la misma hora\, y pondrá punto final a la programación especial del Día Internacional de los Museos. \n  \nNo obstante\, durante este mes de mayo\, Arqueología y Museos ha programado otras visitas gratuitas con guía experto para los fines de semana. \n  \nLos sábados 4 y 11 de mayo\, a las 11.30 horas\, y el 25 de mayo a las 17 horas\, se hará la visita “Descubrir el castillo. La colección de cerámica islámica”\, un recorrido diacrónico que ofrece la oportunidad de conocer la fortaleza en el transcurso del tiempo. De manera exclusiva\, el público participante podrá acceder a la bodega para admirar una valiosa colección de cerámicas presentes en los hogares durante los siglos XI y XII. Las personas visitantes se encontrarán en el castillo de Dénia\, frente al quiosco de tickets. \n  \nEl domingo día 12 de mayo\, a las 12 horas\, en el Museo del Mar de Dénia se ha programado una visita explicativa del convivium o banquete romano\, mostrando la vasa escaria\, nombre que se dio en la antigüedad romana al conjunto de utensilios de mesa\, a través de los materiales procedentes de Dianium. \n  \nCompleta la programación del mes la visita guiada “La Caridad de Domingo Llorens. Proceso de restauración”\, prevista los domingos 5 y 26 de mayo\, a las 11.30 horas\, en el Museo Etnológico. La actividad permitirá un acercamiento a la vida y obra del pintor dianense y a su obra La Caridad\, restaurada recientemente. \n  \nPara participar en las visitas guiadas gratuitas que organiza el área de Arqueología y Museos se requiere una inscripción previa llamando al 96 642 02 60\, de lunes a domingo\, de 10 a 13 horas.
URL:https://disfruta-denia.com/evento/dia-internacional-de-los-museos-2024/2024-05-18/
LOCATION:Denia\, Denia\, Alicante\, 03700\, España
CATEGORIES:Charlas y conferencias,Cultura,Presentación,Visita
ATTACH;FMTTYPE=image/jpeg:https://disfruta-denia.com/wp-content/uploads/2024/05/6980f2.jpg
ORGANIZER;CN="Denia Cultura":MAILTO:cultura@ayto-denia.es
END:VEVENT
BEGIN:VEVENT
DTSTART;TZID=Europe/Madrid:20240526T113000
DTEND;TZID=Europe/Madrid:20240526T113000
DTSTAMP:20260424T095104
CREATED:20240504T070255Z
LAST-MODIFIED:20240504T070255Z
UID:10018499-1716723000-1716723000@disfruta-denia.com
SUMMARY:Día Internacional de los Museos 2024
DESCRIPTION:El área de Arqueología y Museos del Ajuntament de Dénia ha organizado un programa especial de actividades con motivo de la celebración\, el 18 de mayo\, del Día Internacional de los Museos. El hilo conductor de la programación es la Guerra de la Independencia\, que tuvo un impacto importante en la vida y el patrimonio de la ciudad\, especialmente en su castillo. \n  \nEsta programación especial empieza el jueves 16 de mayo con una conferencia de César Evangelio Luz sobre los salvamentos del Santo Cáliz en la Guerra de la Independencia y su paso por Dénia. En esta charla\, el autor expondrá el episodio\, poco conocido\, del salvamento del Santo Cáliz de la catedral de València en el transcurso de la Guerra de Independencia. El temor a la ocupación napoleónica hizo que el cabildo decidiera poner a salvo el cáliz y sus reliquias\, trasladándolas a diferentes poblaciones entre 1809 y 1810. La conferencia se impartirá en la Biblioteca Municipal\, a las 19 horas. \n  \nEl viernes 17 de mayo\, a las 10.30 horas\, desde la plaza del Consell\, saldrá la visita guiada gratuita “La Dénia de Pascual Madoz. Una instantánea de la ciudad de 1847”: un mínimo recorrido urbano donde se explicarán\, in situ\, las descripciones que hace Madoz de la Dénia del momento\, enfrentada a importantes retos en la economía y el urbanismo después de la primera crisis del sector de la pasa. La visita no es apta para personas con movilidad reducida. \n  \nEl 18 de mayo\, sábado\, la entrada al castillo de Dénia será gratuita y durante la jornada se obsequiará a los visitantes con una miniguia del monumento. \n  \nEste día\, se ha programado a las 11.30 horas de la mañana la visita “El castillo de Dénia entre guerras. De la Guerra de Sucesión a la Guerra del Francés”\, un repaso por las huellas de las dos contiendas en la población y el patrimonio de la ciudad. \n  \nDénia sufrió entre 1708 y 1813 dos episodios de guerra. El 18 de noviembre de 1708\, después de tres asedios\, las tropas borbónicas abrieron una brecha en la muralla y quemaron la ciudad\, ocupándola militarmente. La población fue reprimida y castigada por su apoyo al archiduque Carlos de Austria durante la llamada guerra de Sucesión. Esta derrota supuso que el castillo y toda la ciudad se convirtiera en un gran cuartel militar. \n  \nA lo largo del siglo XVIII\, poco a poco\, la economía de la ciudad fue recuperándose\, pero en 1813\, durante la Guerra del Francés o de la Independencia\, volvió a ser arrasada por las tropas realistas y británicas partidarias de Fernando VII. \n  \nEsta visita guiada volverá a repetirse el domingo 19 de mayo\, a la misma hora\, y pondrá punto final a la programación especial del Día Internacional de los Museos. \n  \nNo obstante\, durante este mes de mayo\, Arqueología y Museos ha programado otras visitas gratuitas con guía experto para los fines de semana. \n  \nLos sábados 4 y 11 de mayo\, a las 11.30 horas\, y el 25 de mayo a las 17 horas\, se hará la visita “Descubrir el castillo. La colección de cerámica islámica”\, un recorrido diacrónico que ofrece la oportunidad de conocer la fortaleza en el transcurso del tiempo. De manera exclusiva\, el público participante podrá acceder a la bodega para admirar una valiosa colección de cerámicas presentes en los hogares durante los siglos XI y XII. Las personas visitantes se encontrarán en el castillo de Dénia\, frente al quiosco de tickets. \n  \nEl domingo día 12 de mayo\, a las 12 horas\, en el Museo del Mar de Dénia se ha programado una visita explicativa del convivium o banquete romano\, mostrando la vasa escaria\, nombre que se dio en la antigüedad romana al conjunto de utensilios de mesa\, a través de los materiales procedentes de Dianium. \n  \nCompleta la programación del mes la visita guiada “La Caridad de Domingo Llorens. Proceso de restauración”\, prevista los domingos 5 y 26 de mayo\, a las 11.30 horas\, en el Museo Etnológico. La actividad permitirá un acercamiento a la vida y obra del pintor dianense y a su obra La Caridad\, restaurada recientemente. \n  \nPara participar en las visitas guiadas gratuitas que organiza el área de Arqueología y Museos se requiere una inscripción previa llamando al 96 642 02 60\, de lunes a domingo\, de 10 a 13 horas.
URL:https://disfruta-denia.com/evento/dia-internacional-de-los-museos-2024/2024-05-26/
LOCATION:Denia\, Denia\, Alicante\, 03700\, España
CATEGORIES:Charlas y conferencias,Cultura,Presentación,Visita
ATTACH;FMTTYPE=image/jpeg:https://disfruta-denia.com/wp-content/uploads/2024/05/6980f2.jpg
ORGANIZER;CN="Denia Cultura":MAILTO:cultura@ayto-denia.es
END:VEVENT
END:VCALENDAR