BEGIN:VCALENDAR
VERSION:2.0
PRODID:-//Disfruta Denia - ECPv6.15.20//NONSGML v1.0//EN
CALSCALE:GREGORIAN
METHOD:PUBLISH
X-ORIGINAL-URL:https://disfruta-denia.com
X-WR-CALDESC:Eventos para Disfruta Denia
REFRESH-INTERVAL;VALUE=DURATION:PT1H
X-Robots-Tag:noindex
X-PUBLISHED-TTL:PT1H
BEGIN:VTIMEZONE
TZID:Europe/Madrid
BEGIN:DAYLIGHT
TZOFFSETFROM:+0100
TZOFFSETTO:+0200
TZNAME:CEST
DTSTART:20230326T010000
END:DAYLIGHT
BEGIN:STANDARD
TZOFFSETFROM:+0200
TZOFFSETTO:+0100
TZNAME:CET
DTSTART:20231029T010000
END:STANDARD
BEGIN:DAYLIGHT
TZOFFSETFROM:+0100
TZOFFSETTO:+0200
TZNAME:CEST
DTSTART:20240331T010000
END:DAYLIGHT
BEGIN:STANDARD
TZOFFSETFROM:+0200
TZOFFSETTO:+0100
TZNAME:CET
DTSTART:20241027T010000
END:STANDARD
BEGIN:DAYLIGHT
TZOFFSETFROM:+0100
TZOFFSETTO:+0200
TZNAME:CEST
DTSTART:20250330T010000
END:DAYLIGHT
BEGIN:STANDARD
TZOFFSETFROM:+0200
TZOFFSETTO:+0100
TZNAME:CET
DTSTART:20251026T010000
END:STANDARD
END:VTIMEZONE
BEGIN:VEVENT
DTSTART;TZID=Europe/Madrid:20240704T100000
DTEND;TZID=Europe/Madrid:20240704T100000
DTSTAMP:20260424T060426
CREATED:20240630T095944Z
LAST-MODIFIED:20240630T100116Z
UID:10018792-1720087200-1720087200@disfruta-denia.com
SUMMARY:Visita guíada en catamarán
DESCRIPTION:El día 4 de julio empiezan las salidas en barco a la Reserva del Cabo de San Antonio!\nNo te pierdas esta oportunidad de conocer esta zona natural de incalculable valor ecológico y medioambiental-\nOrganizado por el centro de interpretación del Parque Natural del Montgó.
URL:https://disfruta-denia.com/evento/visita-guiada-en-catamaran/2024-07-04/
LOCATION:Puerto de Denia  Portet\, carrer moll de la pansa\, s n\,\, Denia\, 03700
CATEGORIES:Cultura,Visita
ATTACH;FMTTYPE=image/jpeg:https://disfruta-denia.com/wp-content/uploads/2024/06/448546120_872208904946891_6057863289591207933_n.jpg
END:VEVENT
BEGIN:VEVENT
DTSTART;TZID=Europe/Madrid:20240718T100000
DTEND;TZID=Europe/Madrid:20240718T100000
DTSTAMP:20260424T060426
CREATED:20240630T095944Z
LAST-MODIFIED:20240630T100116Z
UID:10018793-1721296800-1721296800@disfruta-denia.com
SUMMARY:Visita guíada en catamarán
DESCRIPTION:El día 4 de julio empiezan las salidas en barco a la Reserva del Cabo de San Antonio!\nNo te pierdas esta oportunidad de conocer esta zona natural de incalculable valor ecológico y medioambiental-\nOrganizado por el centro de interpretación del Parque Natural del Montgó.
URL:https://disfruta-denia.com/evento/visita-guiada-en-catamaran/2024-07-18/
LOCATION:Puerto de Denia  Portet\, carrer moll de la pansa\, s n\,\, Denia\, 03700
CATEGORIES:Cultura,Visita
ATTACH;FMTTYPE=image/jpeg:https://disfruta-denia.com/wp-content/uploads/2024/06/448546120_872208904946891_6057863289591207933_n.jpg
END:VEVENT
END:VCALENDAR