BEGIN:VCALENDAR
VERSION:2.0
PRODID:-//Disfruta Denia - ECPv6.15.20//NONSGML v1.0//EN
CALSCALE:GREGORIAN
METHOD:PUBLISH
X-ORIGINAL-URL:https://disfruta-denia.com
X-WR-CALDESC:Eventos para Disfruta Denia
REFRESH-INTERVAL;VALUE=DURATION:PT1H
X-Robots-Tag:noindex
X-PUBLISHED-TTL:PT1H
BEGIN:VTIMEZONE
TZID:Europe/Madrid
BEGIN:DAYLIGHT
TZOFFSETFROM:+0100
TZOFFSETTO:+0200
TZNAME:CEST
DTSTART:20230326T010000
END:DAYLIGHT
BEGIN:STANDARD
TZOFFSETFROM:+0200
TZOFFSETTO:+0100
TZNAME:CET
DTSTART:20231029T010000
END:STANDARD
BEGIN:DAYLIGHT
TZOFFSETFROM:+0100
TZOFFSETTO:+0200
TZNAME:CEST
DTSTART:20240331T010000
END:DAYLIGHT
BEGIN:STANDARD
TZOFFSETFROM:+0200
TZOFFSETTO:+0100
TZNAME:CET
DTSTART:20241027T010000
END:STANDARD
BEGIN:DAYLIGHT
TZOFFSETFROM:+0100
TZOFFSETTO:+0200
TZNAME:CEST
DTSTART:20250330T010000
END:DAYLIGHT
BEGIN:STANDARD
TZOFFSETFROM:+0200
TZOFFSETTO:+0100
TZNAME:CET
DTSTART:20251026T010000
END:STANDARD
END:VTIMEZONE
BEGIN:VEVENT
DTSTART;TZID=Europe/Madrid:20241103T103000
DTEND;TZID=Europe/Madrid:20241103T103000
DTSTAMP:20260423T222923
CREATED:20241031T100100Z
LAST-MODIFIED:20241031T100100Z
UID:10020210-1730629800-1730629800@disfruta-denia.com
SUMMARY:Visita en familia: LA DÉNIA DE MADOZ
DESCRIPTION:LA DÉNIA DE MADOZ. UNA INSTANTÀNIA DE LA CIUTAT DE 1847  \nPunt d’Encontre: Plaça del Consell. 10.30 h \nInformació i reserves/información y reservas: Museu Etnològic de Dénia\, 966420260.  \nDe dimarts a diumenge / martes a domingo\, de 10 a 13 h.  \nVisita amb guia expert / Visita con guía experto.
URL:https://disfruta-denia.com/evento/visita-en-familia-la-denia-de-madoz-2/
LOCATION:Plaza del Consell\, Carrer de la Mar\, Denia\, 03700
CATEGORIES:Cultura,Visita
ATTACH;FMTTYPE=image/png:https://disfruta-denia.com/wp-content/uploads/2024/10/visita-en-familia-dia-3.png
ORGANIZER;CN="Denia Cultura":MAILTO:cultura@ayto-denia.es
END:VEVENT
END:VCALENDAR