BEGIN:VCALENDAR
VERSION:2.0
PRODID:-//Disfruta Denia - ECPv6.15.20//NONSGML v1.0//EN
CALSCALE:GREGORIAN
METHOD:PUBLISH
X-ORIGINAL-URL:https://disfruta-denia.com
X-WR-CALDESC:Eventos para Disfruta Denia
REFRESH-INTERVAL;VALUE=DURATION:PT1H
X-Robots-Tag:noindex
X-PUBLISHED-TTL:PT1H
BEGIN:VTIMEZONE
TZID:Europe/Madrid
BEGIN:DAYLIGHT
TZOFFSETFROM:+0100
TZOFFSETTO:+0200
TZNAME:CEST
DTSTART:20240331T010000
END:DAYLIGHT
BEGIN:STANDARD
TZOFFSETFROM:+0200
TZOFFSETTO:+0100
TZNAME:CET
DTSTART:20241027T010000
END:STANDARD
BEGIN:DAYLIGHT
TZOFFSETFROM:+0100
TZOFFSETTO:+0200
TZNAME:CEST
DTSTART:20250330T010000
END:DAYLIGHT
BEGIN:STANDARD
TZOFFSETFROM:+0200
TZOFFSETTO:+0100
TZNAME:CET
DTSTART:20251026T010000
END:STANDARD
BEGIN:DAYLIGHT
TZOFFSETFROM:+0100
TZOFFSETTO:+0200
TZNAME:CEST
DTSTART:20260329T010000
END:DAYLIGHT
BEGIN:STANDARD
TZOFFSETFROM:+0200
TZOFFSETTO:+0100
TZNAME:CET
DTSTART:20261025T010000
END:STANDARD
END:VTIMEZONE
BEGIN:VEVENT
DTSTART;TZID=Europe/Madrid:20250201T113000
DTEND;TZID=Europe/Madrid:20250201T113000
DTSTAMP:20260423T185815
CREATED:20250129T112316Z
LAST-MODIFIED:20250129T112316Z
UID:10020488-1738409400-1738409400@disfruta-denia.com
SUMMARY:Visia guíada: DIANIUM\,DANIYA\, DÉNIA\, UNA CIUDAD DESDE EL MAR
DESCRIPTION:hace referencia a lo que hemos sido históricamente y lo que somos. Del mar proceden los estímulos coloniales que incorporaron las poblaciones íberas a la civilización mediterránea. \nEl mar permitió la llegada de Roma y del portus de Dianium saldría el vino producido en el territorio. Por el mar surcaron las naves de Justiniano y\, poco después\, las del islam\, para tomar poder sobre nuestras tierras. \nEl mar y los barcos construidos a los astilleros\, sobre el mar mismo\, permitieron el dominio de las Baleares y Cerdeña durante la esplendorosa Taifa. \nEl puerto de la villa\, ciudad después\, fue base de galeras\, lugar doloroso de embarque de moriscos echados\, objeto de piratería y objetivo de asedios. \nLa puesta en escena os gustará y os sorprenderá. Las nuevas tecnologías\, el lenguaje de la Inteligencia Artificial\, permiten observar las antiguas colecciones desde otro punto de vista adaptado a nuevas realidades\, donde un digno mercator de Dianium o un imponente Jaime II campan a sus anchas por las salas del museo. Un cuidado diseño de los contenidos de las vitrinas\, imbuyen de escenografía los materiales expuestos que parecen delinear arquitecturas. \nPara disfrutar del nuevo emplazamiento de la colección\, se han programado de octubre a diciembre una serie de visitas guiadas que son una buena oportunidad para conocer\, saborear y mirar la historia. \nVISITAS GUIADAS TODOS LOS SÁBADOS A LAS 11.30 \nMÁS INFORMACIÓN: \nMuseo Etnológico Dénia \n966420260
URL:https://disfruta-denia.com/evento/visia-guiada-dianiumdaniya-denia-una-ciudad-desde-el-mar/
LOCATION:Museo Etnológico de Dénia\, C/ Cavallers\, 1\, Denia\, Alicante\, 03700\, España
CATEGORIES:Cultura,Visita
ATTACH;FMTTYPE=image/jpeg:https://disfruta-denia.com/wp-content/uploads/2025/01/DIANIUMDANIYADENIA.UNACIUTATDEMARESTANT_Mediano.jpg
END:VEVENT
BEGIN:VEVENT
DTSTART;TZID=Europe/Madrid:20250209T103000
DTEND;TZID=Europe/Madrid:20250209T103000
DTSTAMP:20260423T185815
CREATED:20250129T103026Z
LAST-MODIFIED:20250129T103026Z
UID:10020473-1739097000-1739097000@disfruta-denia.com
SUMMARY:Visita en familia
DESCRIPTION:LA COLÒNIA AGRÍCOLA DEL MONTGÓ. LES EMPREMTES D’UN PROCÉS COLONITZADOR FRACASSAT  \nVisita guiada.  \nPunt d’Encontre/punto de encuentro: 10.30 h ermita del Pare Pere\, camí de la Cova de l’Aigua\, núm. 25. \nInformació i reserves: Museu Etnològic de Dénia\, 966420260. De dimarts a diumenge\, de 10 h a 13 h.  \nVisita amb guia expert. Dificultat mitjana. \nInscripción y reservas: Museo Etnológico de Dénia. 966420260. De martes a domingo de 10 h a 13 h. \nVisita guiada con guía experto. Dificultad mediana.
URL:https://disfruta-denia.com/evento/visita-en-familia-3/
LOCATION:Denia\, Denia\, Alicante\, 03700\, España
CATEGORIES:Cultura,Visita
ATTACH;FMTTYPE=image/png:https://disfruta-denia.com/wp-content/uploads/2025/01/7-Visita-en-familia-dia-9.png
ORGANIZER;CN="Denia Cultura":MAILTO:cultura@ayto-denia.es
END:VEVENT
END:VCALENDAR