BEGIN:VCALENDAR
VERSION:2.0
PRODID:-//Disfruta Denia - ECPv6.15.20//NONSGML v1.0//EN
CALSCALE:GREGORIAN
METHOD:PUBLISH
X-WR-CALNAME:Disfruta Denia
X-ORIGINAL-URL:https://disfruta-denia.com
X-WR-CALDESC:Eventos para Disfruta Denia
REFRESH-INTERVAL;VALUE=DURATION:PT1H
X-Robots-Tag:noindex
X-PUBLISHED-TTL:PT1H
BEGIN:VTIMEZONE
TZID:Europe/Madrid
BEGIN:DAYLIGHT
TZOFFSETFROM:+0100
TZOFFSETTO:+0200
TZNAME:CEST
DTSTART:20240331T010000
END:DAYLIGHT
BEGIN:STANDARD
TZOFFSETFROM:+0200
TZOFFSETTO:+0100
TZNAME:CET
DTSTART:20241027T010000
END:STANDARD
BEGIN:DAYLIGHT
TZOFFSETFROM:+0100
TZOFFSETTO:+0200
TZNAME:CEST
DTSTART:20250330T010000
END:DAYLIGHT
BEGIN:STANDARD
TZOFFSETFROM:+0200
TZOFFSETTO:+0100
TZNAME:CET
DTSTART:20251026T010000
END:STANDARD
BEGIN:DAYLIGHT
TZOFFSETFROM:+0100
TZOFFSETTO:+0200
TZNAME:CEST
DTSTART:20260329T010000
END:DAYLIGHT
BEGIN:STANDARD
TZOFFSETFROM:+0200
TZOFFSETTO:+0100
TZNAME:CET
DTSTART:20261025T010000
END:STANDARD
END:VTIMEZONE
BEGIN:VEVENT
DTSTART;TZID=Europe/Madrid:20250516T113000
DTEND;TZID=Europe/Madrid:20250516T113000
DTSTAMP:20260423T112255
CREATED:20250514T065140Z
LAST-MODIFIED:20250514T065140Z
UID:10020633-1747395000-1747395000@disfruta-denia.com
SUMMARY:Visita guiada gratuita el Museu de la Mar
DESCRIPTION:la exposición “De temor y seda”\, una muestra sobre la creación\, a partir del siglo XVI\, de un complejo sistema defensivo a lo largo de la costa valenciana que fue financiado mediante un impuesto especial sobre la seda. La torre del Gerro\, en conexión visual con el Castell\, es parte de nuestro patrimonio vinculado al mar y a la referida vigilancia costera.
URL:https://disfruta-denia.com/evento/visita-guiada-gratuita-el-museu-de-la-mar/
LOCATION:Museo del Mar\, Explanada Cervantes 2\, Dénia\, 03700\, España
CATEGORIES:Cultura,Exposiciones,Visita
ATTACH;FMTTYPE=image/jpeg:https://disfruta-denia.com/wp-content/uploads/2025/05/7330f2.jpg
END:VEVENT
BEGIN:VEVENT
DTSTART;TZID=Europe/Madrid:20250517T113000
DTEND;TZID=Europe/Madrid:20250517T113000
DTSTAMP:20260423T112255
CREATED:20250514T065253Z
LAST-MODIFIED:20250514T065253Z
UID:10020634-1747481400-1747481400@disfruta-denia.com
SUMMARY:Visita guíada gratuita Museo Arqueológico de Dénia
DESCRIPTION:El sábado 17 de mayo se visitará la propuesta museográfica “Dianium\, Daniya\, Dénia. Una ciutat de mar estant” del Museo Arqueológico de Dénia\, una alusión a lo que hemos sido históricamente y a lo que somos.
URL:https://disfruta-denia.com/evento/visita-guiada-gratuita-museo-arqueologico-de-denia/
LOCATION:Museo Etnológico de Dénia\, C/ Cavallers\, 1\, Denia\, Alicante\, 03700\, España
CATEGORIES:Cultura,Exposiciones,Visita
ATTACH;FMTTYPE=image/jpeg:https://disfruta-denia.com/wp-content/uploads/2025/05/7330f2.jpg
END:VEVENT
BEGIN:VEVENT
DTSTART;TZID=Europe/Madrid:20250518T113000
DTEND;TZID=Europe/Madrid:20250518T113000
DTSTAMP:20260423T112255
CREATED:20250514T065430Z
LAST-MODIFIED:20250514T065430Z
UID:10020635-1747567800-1747567800@disfruta-denia.com
SUMMARY:Visita guíada gratuita Castell de Dénia
DESCRIPTION:el domingo 18 de mayo\, se ofrece una visita guiada al Castell de Dénia y al Centro de interpretación Dénia\, ciutat vigia que encontramos en la cima de la fortaleza. El Castell\, emblema de la ciudad\, ha sido siempre centinela y defensa de Dénia. Entre sus murallas se pueden leer siglos de historia grabados en cada una de las piedras que lo conforman. \nAl llegar a la parte más alta\, se visitará el Centro de interpretación donde se expone un breve recorrido cronológico materializado por piezas arqueológicas clave que permiten a los visitantes comprender la rica historia de Dénia a través de cinco periodos: íbero\, romano\, Taifa\, moderno y siglo XIX.
URL:https://disfruta-denia.com/evento/visita-guiada-gratuita-castell-de-denia/
LOCATION:Castillo de Denia\, Carrer Sant Francesc\, S/n\, Denia\, Alicante\, 03700\, España
CATEGORIES:Cultura,Exposiciones,Visita
ATTACH;FMTTYPE=image/jpeg:https://disfruta-denia.com/wp-content/uploads/2025/05/7330f2.jpg
END:VEVENT
END:VCALENDAR