BEGIN:VCALENDAR
VERSION:2.0
PRODID:-//Disfruta Denia - ECPv6.15.20//NONSGML v1.0//EN
CALSCALE:GREGORIAN
METHOD:PUBLISH
X-WR-CALNAME:Disfruta Denia
X-ORIGINAL-URL:https://disfruta-denia.com
X-WR-CALDESC:Eventos para Disfruta Denia
REFRESH-INTERVAL;VALUE=DURATION:PT1H
X-Robots-Tag:noindex
X-PUBLISHED-TTL:PT1H
BEGIN:VTIMEZONE
TZID:Europe/Madrid
BEGIN:DAYLIGHT
TZOFFSETFROM:+0100
TZOFFSETTO:+0200
TZNAME:CEST
DTSTART:20220327T010000
END:DAYLIGHT
BEGIN:STANDARD
TZOFFSETFROM:+0200
TZOFFSETTO:+0100
TZNAME:CET
DTSTART:20221030T010000
END:STANDARD
BEGIN:DAYLIGHT
TZOFFSETFROM:+0100
TZOFFSETTO:+0200
TZNAME:CEST
DTSTART:20230326T010000
END:DAYLIGHT
BEGIN:STANDARD
TZOFFSETFROM:+0200
TZOFFSETTO:+0100
TZNAME:CET
DTSTART:20231029T010000
END:STANDARD
BEGIN:DAYLIGHT
TZOFFSETFROM:+0100
TZOFFSETTO:+0200
TZNAME:CEST
DTSTART:20240331T010000
END:DAYLIGHT
BEGIN:STANDARD
TZOFFSETFROM:+0200
TZOFFSETTO:+0100
TZNAME:CET
DTSTART:20241027T010000
END:STANDARD
END:VTIMEZONE
BEGIN:VEVENT
DTSTART;VALUE=DATE:20230402
DTEND;VALUE=DATE:20230404
DTSTAMP:20260423T035434
CREATED:20230316T212129Z
LAST-MODIFIED:20230316T212141Z
UID:10010537-1680408000-1680494399@disfruta-denia.com
SUMMARY:XVIII Regata liga suma
DESCRIPTION:Un any més arriba la Regata de la Mare Déu a Dénia\, la qual puntuarà com la huitena competició de la Lliga Suma de Banc Fix. \nVos esperem el diumenge 2 d’abril per a gaudir de l’esport\, la mar i les vistes que acompanyen aquesta regata des del passeig de la Marina Dénia 
URL:https://disfruta-denia.com/evento/xviii-regata-liga-suma/
LOCATION:Marina de Denia\, Puerto de Dénia\, Edificio Capitanía\, Dársena de Babor\, Denia\, Alicante\, 03700\, España
CATEGORIES:Deporte
ATTACH;FMTTYPE=image/jpeg:https://disfruta-denia.com/wp-content/uploads/2023/03/336040079_1246324535961713_4986091874654743880_n.jpg
END:VEVENT
BEGIN:VEVENT
DTSTART;TZID=Europe/Madrid:20230406T093000
DTEND;TZID=Europe/Madrid:20230406T140000
DTSTAMP:20260423T035434
CREATED:20221003T115403Z
LAST-MODIFIED:20221004T101627Z
UID:10006250-1680773400-1680789600@disfruta-denia.com
SUMMARY:Caminata saludable
DESCRIPTION:Octubre\, Noviembre y Diciembre 2022 \n\n\n\n\nPrograma de paseos agradables por la costa\, montaña\, paisaje agrícola y jardín con encanto. \nOBJETIVO \n  –  Disfrutar recorriendo paisajes y rincones con encanto en Dénia. \n  –  Fomentar el bienestar personal\, practicando estilo de vida saludable caminando al aire libre. \nINFORMACIÓN GENERAL \n¿QUIEN PUEDE PARTICIPAR?\nCualquier persona en condiciones normales de salud y con hábito básico de caminar. El nivel de todas las salidas es fácil.\nINFORMACIÓN E INSCRIPCIÓN\nIndicar nombre completo\, teléfono y edad al correo: deniaviva@ayto-denia.es\nEl plazo se acaba a las 13 h miércoles anterior a cada salida. \n\n\n\n\n\n\n\n\n\nDESCARGARPROGRAMA  AQUI \n\n\n\n\n\n\n\n\nNOTA: La organización se reserva el derecho de modificar o anular cualquier salida por causas que lo justifiquen. \nGrupos de máximo 15 participantes.
URL:https://disfruta-denia.com/evento/caminata-saludable/2023-04-06/
LOCATION:Denia\, Denia\, Alicante\, 03700\, España
CATEGORIES:Deporte,Excursión
ATTACH;FMTTYPE=image/jpeg:https://disfruta-denia.com/wp-content/uploads/2022/10/16642084861_Vertical.jpg
END:VEVENT
BEGIN:VEVENT
DTSTART;VALUE=DATE:20230410
DTEND;VALUE=DATE:20230419
DTSTAMP:20260423T035434
CREATED:20230406T102859Z
LAST-MODIFIED:20230406T102859Z
UID:10010557-1681099200-1681790399@disfruta-denia.com
SUMMARY:Campeonato regional de la Comunidad Valenciana - Cadete
DESCRIPTION:Del 10 al 17 de abril\, se disputará en nuestras instalaciones el Campeonato de la Comunidad Valenciana en categoría cadete.\nPodremos ver a las mejores raquetas de nuestra comunidad \, luchando por el máximo título regional. \nTodos los cuadros y horarios se podrán ver desde este enlace:\nhttps://www.ftcv.es/2022/03/02/cto-cv-cadete-2022/ \nOs animamos a que vengais a verl@s!
URL:https://disfruta-denia.com/evento/campeonato-regional-de-la-comunidad-valenciana-cadete/
LOCATION:Club de Tenis Denia\, Partida Marjal\, 0\, Denia\, Alicante\, 03700\, España
CATEGORIES:Deporte
ATTACH;FMTTYPE=image/jpeg:https://disfruta-denia.com/wp-content/uploads/2023/04/339649673_1232738987615453_8696526948429513995_n.jpg
END:VEVENT
BEGIN:VEVENT
DTSTART;VALUE=DATE:20230411
DTEND;VALUE=DATE:20230416
DTSTAMP:20260423T035434
CREATED:20230319T095646Z
LAST-MODIFIED:20230319T095646Z
UID:10010540-1681185600-1681531199@disfruta-denia.com
SUMMARY:IX Campus de Tecnificación de Fútbol Sala de Dénia
DESCRIPTION:Llega la novena edición del Campus de Tecnificación de Fútbol Sala de Dénia\, un evento que llevamos organizando desde 2013 y que permite a los niños y niñas de Dénia\, o de cualquier localidad\, aprender y disfrutar de este deporte que tanto amamos.\nEsta Semana Santa\, podrán disfrutar de diversas actividades relacionadas con fútbol sala: ejercicios con los que mejorarán su técnica y táctica individual\, juegos\, partidos\, torneo interno\, etc.\, completadas con otras actividades que serán muy interesantes y beneficiosas para ellos: dinámicas de grupo\, charlas\, etc.\nPodrán inscribirse en el Campus todos los niños y niñas nacidos entre los años 2009 y 2016. \nLas actividades se realizarán del martes 11 al viernes 14 de abril\, en horario de 9h a 13h. \nEl plazo de inscripción al Campus estará abierto hasta el 5 de abril de 2023. \nSi estás interesado/a en inscribirte al Campus\, mándanos un correo o un whatsapp y te responderemos con toda la documentación necesaria para que formalices tu matrícula. Además\, te mandaremos un documento con la normativa y los aspectos a tener en cuenta para el buen desarrollo del evento.\nLa inscripción incluye: agua diaria para cada participante\, seguro de accidentes deportivos y camiseta deportiva del Campus. \nPara cualquier duda:\n 652 155 124\n dianensefutsal@gmail.com
URL:https://disfruta-denia.com/evento/ix-campus-de-tecnificacion-de-futbol-sala-de-denia/
LOCATION:Polideportivo municipal de Denia\, Camí del Regatxo\, 6\, Denia\, Alicante\, 03700\, España
CATEGORIES:Deporte,Futsal
ATTACH;FMTTYPE=image/jpeg:https://disfruta-denia.com/wp-content/uploads/2023/03/336660101_243592628015579_7064552305780134315_n.jpg
END:VEVENT
BEGIN:VEVENT
DTSTART;TZID=Europe/Madrid:20230413T093000
DTEND;TZID=Europe/Madrid:20230413T140000
DTSTAMP:20260423T035434
CREATED:20221003T115403Z
LAST-MODIFIED:20221004T101627Z
UID:10006251-1681378200-1681394400@disfruta-denia.com
SUMMARY:Caminata saludable
DESCRIPTION:Octubre\, Noviembre y Diciembre 2022 \n\n\n\n\nPrograma de paseos agradables por la costa\, montaña\, paisaje agrícola y jardín con encanto. \nOBJETIVO \n  –  Disfrutar recorriendo paisajes y rincones con encanto en Dénia. \n  –  Fomentar el bienestar personal\, practicando estilo de vida saludable caminando al aire libre. \nINFORMACIÓN GENERAL \n¿QUIEN PUEDE PARTICIPAR?\nCualquier persona en condiciones normales de salud y con hábito básico de caminar. El nivel de todas las salidas es fácil.\nINFORMACIÓN E INSCRIPCIÓN\nIndicar nombre completo\, teléfono y edad al correo: deniaviva@ayto-denia.es\nEl plazo se acaba a las 13 h miércoles anterior a cada salida. \n\n\n\n\n\n\n\n\n\nDESCARGARPROGRAMA  AQUI \n\n\n\n\n\n\n\n\nNOTA: La organización se reserva el derecho de modificar o anular cualquier salida por causas que lo justifiquen. \nGrupos de máximo 15 participantes.
URL:https://disfruta-denia.com/evento/caminata-saludable/2023-04-13/
LOCATION:Denia\, Denia\, Alicante\, 03700\, España
CATEGORIES:Deporte,Excursión
ATTACH;FMTTYPE=image/jpeg:https://disfruta-denia.com/wp-content/uploads/2022/10/16642084861_Vertical.jpg
END:VEVENT
BEGIN:VEVENT
DTSTART;TZID=Europe/Madrid:20230422T163000
DTEND;TZID=Europe/Madrid:20230422T203000
DTSTAMP:20260423T035434
CREATED:20230417T094612Z
LAST-MODIFIED:20230417T094612Z
UID:10010585-1682181000-1682195400@disfruta-denia.com
SUMMARY:Volta a peu Denia 2023
DESCRIPTION:6ª prova puntuable del 25è Circuit a peu Marina Alta\n\n\n\n\n\n\n\nDistància de la cursa 9\,9 Km\n\nDistancia de la carrera: 9\,9 Km \n\n\n\n\n\n\n\n\n18:30 h. – Hora d’eixida del adults\n\n18:30 h. Hora de salida de los adultos \n\n\n\n\n\n\n}\n\n16:00 h – Hora d’eixida de les curses dels xiquets\n\n16:00 h. Hora de comienzo de las carreras infantiles \n\n\n\n\n\n\n\n\nEixida i Meta. Carrera la Via 53. Dénia\n\nSalida y Meta. Calle la Vía\, 53. Dénia \n\n\n\n\n\n\n\n\nInscripció finalitza – 21/04/2023 a les12:00 h\n\nÚltimo dia de inscripción – 21/04/2023 a las 12:00 h \n\n\n\n\n\n\n\n\nServei de Dutxes. Col·legi Maristes. A 189 m. de meta.\n\nServicio de duchas: Colegio Hermanos Maristas. A 189 m. de meta. \n\n\n\n\n\n\n\n\nServei de guarda-roba. En zona de meta.\n\nServicio de guardarropa. En zona de meta. \n\n\n\n\n\n\n\n\nOrganitza: C. Dénia Corre i M.I. Ajuntament de Dénia
URL:https://disfruta-denia.com/evento/volta-a-peu-denia-2023/
LOCATION:Calle La Vía\, calle la via\, Denia\, Alicante\, 03700\, España
CATEGORIES:Deporte
ATTACH;FMTTYPE=image/png:https://disfruta-denia.com/wp-content/uploads/2023/04/Volta_a_peu_Denia_23_v2.png
END:VEVENT
BEGIN:VEVENT
DTSTART;TZID=Europe/Madrid:20230430T084500
DTEND;TZID=Europe/Madrid:20230430T163000
DTSTAMP:20260423T035434
CREATED:20230418T073718Z
LAST-MODIFIED:20230418T074007Z
UID:10010624-1682844300-1682872200@disfruta-denia.com
SUMMARY:EXCURSIÓN EN FAMILIA
DESCRIPTION:TORRE DEL GERRO. LES PLANES. PORT DE XÀBIA.  \nSenderisme a prop de la mar/senderismo cerca del mar. \nInscripció prèvia obligatòria fins a les 14 h del dijous anterior al correu:  \ndeniaviva@ayto-denia.es cal indicar nom complet\, edat i telèfon.  \nDinar: pícnic àrea recreativa de les Planes.  \nDesplaçament en autobús i vaixell. Duració: 7 h. Bitllet bus FGV: 1\,50 €. Vaixell: 10 €. \n  \nInscripción previa obligatoria hasta las 14 h del jueves anterior al correo:\ndeniaviva@ayto-denia.es hay que indicar nombre completo\, edad y teléfono.\nComer: pícnico área recreativa de las Planes.\nDesplazamiento en autobús y barco. Duración: 7 h. Billete bus FGV: 1\,50 €. Barco: 10 €.
URL:https://disfruta-denia.com/evento/excursion-en-familia-5/
LOCATION:Denia\, Denia\, Alicante\, 03700\, España
CATEGORIES:Deporte,Excursión
ATTACH;FMTTYPE=image/png:https://disfruta-denia.com/wp-content/uploads/2023/04/23-excursio-dia-30.png
ORGANIZER;CN="Denia Cultura":MAILTO:cultura@ayto-denia.es
END:VEVENT
END:VCALENDAR