BEGIN:VCALENDAR
VERSION:2.0
PRODID:-//Disfruta Denia - ECPv6.15.20//NONSGML v1.0//EN
CALSCALE:GREGORIAN
METHOD:PUBLISH
X-WR-CALNAME:Disfruta Denia
X-ORIGINAL-URL:https://disfruta-denia.com
X-WR-CALDESC:Eventos para Disfruta Denia
REFRESH-INTERVAL;VALUE=DURATION:PT1H
X-Robots-Tag:noindex
X-PUBLISHED-TTL:PT1H
BEGIN:VTIMEZONE
TZID:Europe/Madrid
BEGIN:DAYLIGHT
TZOFFSETFROM:+0100
TZOFFSETTO:+0200
TZNAME:CEST
DTSTART:20220327T010000
END:DAYLIGHT
BEGIN:STANDARD
TZOFFSETFROM:+0200
TZOFFSETTO:+0100
TZNAME:CET
DTSTART:20221030T010000
END:STANDARD
BEGIN:DAYLIGHT
TZOFFSETFROM:+0100
TZOFFSETTO:+0200
TZNAME:CEST
DTSTART:20230326T010000
END:DAYLIGHT
BEGIN:STANDARD
TZOFFSETFROM:+0200
TZOFFSETTO:+0100
TZNAME:CET
DTSTART:20231029T010000
END:STANDARD
BEGIN:DAYLIGHT
TZOFFSETFROM:+0100
TZOFFSETTO:+0200
TZNAME:CEST
DTSTART:20240331T010000
END:DAYLIGHT
BEGIN:STANDARD
TZOFFSETFROM:+0200
TZOFFSETTO:+0100
TZNAME:CET
DTSTART:20241027T010000
END:STANDARD
END:VTIMEZONE
BEGIN:VEVENT
DTSTART;TZID=Europe/Madrid:20231001T123000
DTEND;TZID=Europe/Madrid:20231001T140000
DTSTAMP:20260422T154043
CREATED:20230926T221650Z
LAST-MODIFIED:20230926T221650Z
UID:10013737-1696163400-1696168800@disfruta-denia.com
SUMMARY:Futbol: Juvenil B VS Real de Gandia C.F. “A”
DESCRIPTION:Tocarà animar al nostre Juvenil B en el Diego Mena Cuesta a les :H VS el Real de Gandia C.F. “A”.
URL:https://disfruta-denia.com/evento/futbol-juvenil-b-vs-real-de-gandia-c-f-a/
LOCATION:Campo de Fútbol «Diego Mena Cuesta»\, Dénia\, 03700\, España
CATEGORIES:Deporte,Futbol
ATTACH;FMTTYPE=image/jpeg:https://disfruta-denia.com/wp-content/uploads/2023/09/380798592_17974320284559250_2741136781902524370_n.jpg
END:VEVENT
BEGIN:VEVENT
DTSTART;TZID=Europe/Madrid:20231006T181500
DTEND;TZID=Europe/Madrid:20231006T193000
DTSTAMP:20260422T154043
CREATED:20230928T214126Z
LAST-MODIFIED:20230928T214150Z
UID:10013742-1696616100-1696620600@disfruta-denia.com
SUMMARY:Yin yoga con live guitar
DESCRIPTION:Este evento el próximo viernes 6 de octubre va a estar súper bonito\, reserva pronto si quieres participar. 
URL:https://disfruta-denia.com/evento/yin-yoga-con-live-guitar/
LOCATION:Códigos del Arte\, Carreró de Morant\, 8\, Dénia\, 03700\, España
CATEGORIES:Deporte,Música,Taller,Yoga
ATTACH;FMTTYPE=image/jpeg:https://disfruta-denia.com/wp-content/uploads/2023/09/382233825_18353973763073275_2746252349048339627_n-1.jpg
END:VEVENT
BEGIN:VEVENT
DTSTART;TZID=Europe/Madrid:20231006T200000
DTEND;TZID=Europe/Madrid:20231006T200000
DTSTAMP:20260422T154043
CREATED:20231002T075109Z
LAST-MODIFIED:20231002T075147Z
UID:10013745-1696622400-1696622400@disfruta-denia.com
SUMMARY:Escala i Corda 1ra fase XVI Copa Caixa Popular.
DESCRIPTION:En Dénia disfrutaremos el próximo  viernes 6 de octubre a partir de las  20:00 h\, en el  Trinquet Municipal «El Rovellet»\, de la partida de la modalidad de «Escala i Corda» perteneciente a la primera fase de la  Copa Caixa Popular.\n\n\n La partida enfrentará\, dentro del Grupo A de esta competición a la pareja  Puchol II y A. Gimeno de la Pobla de Vallbona\, frente a la pareja de Dénia\,  J. Salvador y Tomás II .
URL:https://disfruta-denia.com/evento/escala-i-corda-1ra-fase-xvi-copa-caixa-popular/
LOCATION:Trinquet El Rovellet\, Camí del Regatxo\, 6\, Denia\, Alicante\, 03700\, España
CATEGORIES:Deporte
ATTACH;FMTTYPE=image/jpeg:https://disfruta-denia.com/wp-content/uploads/2023/10/376818846_162611286881515_3577418466733883586_n-1.jpg
END:VEVENT
BEGIN:VEVENT
DTSTART;TZID=Europe/Madrid:20231007T170000
DTEND;TZID=Europe/Madrid:20231007T170000
DTSTAMP:20260422T154043
CREATED:20231006T144652Z
LAST-MODIFIED:20231006T144652Z
UID:10014636-1696698000-1696698000@disfruta-denia.com
SUMMARY:Basquet: SENIOR NACIONAL MASCULINO DBC VS CBI ELCHE
DESCRIPTION:PABELLÓN JOAN FUSTER:\nSENIOR NACIONAL MASCULINO DBC VS CBI ELCHE\nSÁBADO 07\, OCTUBRE 17:00h
URL:https://disfruta-denia.com/evento/basquet-senior-nacional-masculino-dbc-vs-cbi-elche/
LOCATION:Polideportivo municipal de Denia\, Camí del Regatxo\, 6\, Denia\, Alicante\, 03700\, España
CATEGORIES:Basket,Deporte
ATTACH;FMTTYPE=image/jpeg:https://disfruta-denia.com/wp-content/uploads/2023/10/385817978_18238247347212894_6402349421998794855_n.jpg
END:VEVENT
BEGIN:VEVENT
DTSTART;TZID=Europe/Madrid:20231008T090000
DTEND;TZID=Europe/Madrid:20231008T120000
DTSTAMP:20260422T154043
CREATED:20231003T080321Z
LAST-MODIFIED:20231003T080406Z
UID:10013753-1696755600-1696766400@disfruta-denia.com
SUMMARY:Día de la pilota
DESCRIPTION:I DÍA DE LA PELOTA VALENCIANA  \n El próximo  domingo 8 de octubre podremos disfrutar del Primer Día de la Pelota Valenciana\, con 3 partidas de «raspall» en la  calle Escollera (Barrio Baix la Mar). \n HORARIOS DE LAS PARTIDAS: \n A las 9.00 h\, partida de categoría Benjamín\n A las 10.00 h\, partida de categoría Juvenil\nA las 11.00 h\, partida de categoría Sénior: Àlex\, Tomate y Flare contra Jordi\, Néstor y Kiko. \nVen y disfruta de nuestro deporte
URL:https://disfruta-denia.com/evento/dia-de-la-pilota/
LOCATION:Carrer Escollera\, Carrer Escollera\, Dénia\, 03700\, España
CATEGORIES:Deporte
ATTACH;FMTTYPE=image/jpeg:https://disfruta-denia.com/wp-content/uploads/2023/10/384344018_173388342470476_5503757495715899218_n.jpg
END:VEVENT
BEGIN:VEVENT
DTSTART;TZID=Europe/Madrid:20231008T103000
DTEND;TZID=Europe/Madrid:20231008T103000
DTSTAMP:20260422T154043
CREATED:20230919T074653Z
LAST-MODIFIED:20230919T074653Z
UID:10013700-1696761000-1696761000@disfruta-denia.com
SUMMARY:VISITA EN FAMILIA: COVA DE LA CATXUPA
DESCRIPTION:COVA DE LA CATXUPA. ART RUPESTRE LLEVANTÍ. \nPunt d’encontre /Punto de encuentro: Carretera CN 332. Km 187.5. Venta de Parra.           \nInformació i reserves / información y reservas: Museu Etnològic de Dénia\, 966420260.  \nDe dimarts a dissabte/ de martes a sábado\, de 10.30 a 13.00 h  \nVisita amb guia expert/ Visita con guía experto. Dificultat alta.
URL:https://disfruta-denia.com/evento/visita-en-familia-cova-de-la-catxupa-2/
LOCATION:Denia\, Denia\, Alicante\, 03700\, España
CATEGORIES:Deporte,Excursión
ATTACH;FMTTYPE=image/png:https://disfruta-denia.com/wp-content/uploads/2023/09/10-Excursio-familia.-cova-caputxa.png
ORGANIZER;CN="Denia Cultura":MAILTO:cultura@ayto-denia.es
END:VEVENT
BEGIN:VEVENT
DTSTART;TZID=Europe/Madrid:20231008T173000
DTEND;TZID=Europe/Madrid:20231008T173000
DTSTAMP:20260422T154043
CREATED:20231003T100754Z
LAST-MODIFIED:20231003T100754Z
UID:10014027-1696786200-1696786200@disfruta-denia.com
SUMMARY:Fútbol: C.D Dénia VS el Callosa Deportiva C.F
DESCRIPTION:El diumenge\, us esperem a tots en el Diego Mena Cuesta a les :H. El nostre primer equip jugarà VS el Callosa Deportiva C.F. I lluitaran per acabar amb un +3 en la classificació.
URL:https://disfruta-denia.com/evento/futbol-c-d-denia-vs-el-callosa-deportiva-c-f/
LOCATION:Campo de Fútbol «Diego Mena Cuesta»\, Dénia\, 03700\, España
CATEGORIES:Deporte,Futbol
ATTACH;FMTTYPE=image/jpeg:https://disfruta-denia.com/wp-content/uploads/2023/10/385048992_17975201666559250_391503121616172760_n.jpg
END:VEVENT
BEGIN:VEVENT
DTSTART;TZID=Europe/Madrid:20231010T083000
DTEND;TZID=Europe/Madrid:20231010T083000
DTSTAMP:20260422T154043
CREATED:20231005T092619Z
LAST-MODIFIED:20231005T092702Z
UID:10014037-1696926600-1696926600@disfruta-denia.com
SUMMARY:Clase de Yoga en Códigos del Arte
DESCRIPTION:Clase de Yoga en Códigos del Arte
URL:https://disfruta-denia.com/evento/clase-de-yoga-en-codigos-del-arte/2023-10-10/
LOCATION:Códigos del Arte\, Carreró de Morant\, 8\, Dénia\, 03700\, España
CATEGORIES:Deporte,Yoga
ATTACH;FMTTYPE=image/jpeg:https://disfruta-denia.com/wp-content/uploads/2023/10/image_6487327.jpg
END:VEVENT
BEGIN:VEVENT
DTSTART;TZID=Europe/Madrid:20231010T213000
DTEND;TZID=Europe/Madrid:20231010T213000
DTSTAMP:20260422T154043
CREATED:20231004T125538Z
LAST-MODIFIED:20231004T125538Z
UID:10014034-1696973400-1696973400@disfruta-denia.com
SUMMARY:la Nostra Copa Futsal: Dianense vs C.F.S. L’Alfàs del Pi
DESCRIPTION:Debutamos en la Nostra Copa Futsal y lo hacemos ante todo un Tercera.\nEl C.F.S. L’Alfàs del Pi\, que milita en el grupo XV de Tercera División\, será nuestro rival en esta eliminatoria. Partido muy complicado\, pero en el que intentaremos darlo todo para clasificarnos para la siguiente ronda 
URL:https://disfruta-denia.com/evento/la-nostra-copa-futsal-dianense-vs-c-f-s-lalfas-del-pi/
LOCATION:Polideportivo municipal de Denia\, Camí del Regatxo\, 6\, Denia\, Alicante\, 03700\, España
CATEGORIES:Deporte,Futsal
ATTACH;FMTTYPE=image/jpeg:https://disfruta-denia.com/wp-content/uploads/2023/10/369349438_809710214494797_3716631445178518476_n.jpg
END:VEVENT
BEGIN:VEVENT
DTSTART;TZID=Europe/Madrid:20231012T083000
DTEND;TZID=Europe/Madrid:20231012T083000
DTSTAMP:20260422T154043
CREATED:20231005T092619Z
LAST-MODIFIED:20231005T092702Z
UID:10014038-1697099400-1697099400@disfruta-denia.com
SUMMARY:Clase de Yoga en Códigos del Arte
DESCRIPTION:Clase de Yoga en Códigos del Arte
URL:https://disfruta-denia.com/evento/clase-de-yoga-en-codigos-del-arte/2023-10-12/
LOCATION:Códigos del Arte\, Carreró de Morant\, 8\, Dénia\, 03700\, España
CATEGORIES:Deporte,Yoga
ATTACH;FMTTYPE=image/jpeg:https://disfruta-denia.com/wp-content/uploads/2023/10/image_6487327.jpg
END:VEVENT
BEGIN:VEVENT
DTSTART;VALUE=DATE:20231013
DTEND;VALUE=DATE:20231017
DTSTAMP:20260422T154043
CREATED:20231002T083253Z
LAST-MODIFIED:20231002T083253Z
UID:10013749-1697169600-1697428799@disfruta-denia.com
SUMMARY:Retiro Yoga y meditación
DESCRIPTION:Este año nos vamos a Dénia\, un lugar energéticamente mágico que lo sentirás cuando llegues. La Villa es preciosa y a 3 mins caminando de la playa\, totalmente equipada para lo que buscamos: descansar\, practicar yoga y meditación\, comer sano\, ralentizar el ritmo interior en la naturaleza. Ya que teniendo un cuerpo y mente tranquilos es cuando podemos adentrar a la introspección. \nPuedes elegir: \n⭐️RETIRO ESENCIAL 13-15 OCTUBRE\n⭐️ RETIRO AMPLIADO 12-15 OCTUBRE \nIncluye: \n🔸 Hatha Yoga\n🔸 Meditación\n🔸 Actividades mindfulness\n🔸 Agua / Infu dispo 24h\n🔸 3 comidas vegetarianas\n🔸 Ropa de cama y toallas\n🔸 Habitación compartida o individual\n✨ Todas las habitaciones disponen de baño propio\, aire acondicionado y nevera.\n🔸 Piscina\n🔸 Parking privado\n🔸 Salidas en grupo\n🔸 Materiales de yoga
URL:https://disfruta-denia.com/evento/retiro-yoga-y-meditacion/
LOCATION:Denia\, Denia\, Alicante\, 03700\, España
CATEGORIES:Deporte,Yoga
ATTACH;FMTTYPE=image/png:https://disfruta-denia.com/wp-content/uploads/2023/10/𝗬𝗼𝗴𝗮-𝗠𝗶𝗻𝗱𝗳𝘂𝗹𝗻𝗲𝘀𝘀-ॐ-xihui-yogini-•-Photos-et-videos-Instagram.png
END:VEVENT
BEGIN:VEVENT
DTSTART;TZID=Europe/Madrid:20231014T103000
DTEND;TZID=Europe/Madrid:20231014T170000
DTSTAMP:20260422T154043
CREATED:20231013T101043Z
LAST-MODIFIED:20231013T101043Z
UID:10014689-1697279400-1697302800@disfruta-denia.com
SUMMARY:Basquet: los partidos del finde
DESCRIPTION:Partidos en Joan Fuster\, Denia este fin de semana 14/15 de Octubre 23/24\n\n\nVen y disfruta de nuestros partidos!!!
URL:https://disfruta-denia.com/evento/basquet-los-partidos-del-finde/2023-10-14/
LOCATION:Polideportivo municipal de Denia\, Camí del Regatxo\, 6\, Denia\, Alicante\, 03700\, España
CATEGORIES:Basket,Deporte
ATTACH;FMTTYPE=image/jpeg:https://disfruta-denia.com/wp-content/uploads/2023/10/391610386_18239203162212894_771739089833295302_n.jpg
END:VEVENT
BEGIN:VEVENT
DTSTART;TZID=Europe/Madrid:20231014T170000
DTEND;TZID=Europe/Madrid:20231014T170000
DTSTAMP:20260422T154043
CREATED:20231010T203556Z
LAST-MODIFIED:20231010T203556Z
UID:10014643-1697302800-1697302800@disfruta-denia.com
SUMMARY:Fútbol! Juvenil B VS C.F. Clariano D’Ontinyent
DESCRIPTION:Sábado 14/10;\n\n\n Jugará en Juvenil B VS C.F. Clariano D’Ontinyent a las :H.
URL:https://disfruta-denia.com/evento/futbol-juvenil-b-vs-c-f-clariano-dontinyent/
LOCATION:Campo de Fútbol «Diego Mena Cuesta»\, Dénia\, 03700\, España
CATEGORIES:Deporte,Futbol
ATTACH;FMTTYPE=image/jpeg:https://disfruta-denia.com/wp-content/uploads/2023/10/391617222_17976138674559250_6335924588724263850_n.jpg
END:VEVENT
BEGIN:VEVENT
DTSTART;TZID=Europe/Madrid:20231014T170000
DTEND;TZID=Europe/Madrid:20231014T170000
DTSTAMP:20260422T154043
CREATED:20231011T124044Z
LAST-MODIFIED:20231011T124044Z
UID:10014684-1697302800-1697302800@disfruta-denia.com
SUMMARY:Basquet: SENIOR PREFERENTE MASCULINO DBC VS CB ALGEMESÍ
DESCRIPTION:PABELLÓN JOAN FUSTER:\nSENIOR PREFERENTE MASCULINO DBC VS CB ALGEMESÍ\nSÁBADO 14\, OCTUBRE 17:00h
URL:https://disfruta-denia.com/evento/basquet-senior-preferente-masculino-dbc-vs-cb-algemesi/
LOCATION:Polideportivo municipal de Denia\, Camí del Regatxo\, 6\, Denia\, Alicante\, 03700\, España
CATEGORIES:Basket,Deporte
ATTACH;FMTTYPE=image/jpeg:https://disfruta-denia.com/wp-content/uploads/2023/10/387205692_18238897411212894_5752753987479401860_n.jpg
END:VEVENT
BEGIN:VEVENT
DTSTART;TZID=Europe/Madrid:20231015T100000
DTEND;TZID=Europe/Madrid:20231015T100000
DTSTAMP:20260422T154043
CREATED:20230919T081655Z
LAST-MODIFIED:20230919T081655Z
UID:10013705-1697364000-1697364000@disfruta-denia.com
SUMMARY:EXCURSIÓ EN FAMÍLIA
DESCRIPTION:COLL DE POUS. JESÚS POBRE. Bosc mediterrani i paisatge agrícola.  \nInscripció prèvia obligatòria fins a les 14 h del dijous anterior\, al correu: deniaviva@ayto-denia.es \nDuració: 4 h. Desplaçament amb cotxe \n  \nCOLL DE POUS. JESÚS POBRE. Bosque mediterráneo y pasaje agrícola. \nInscripción previa obligatoria hasta las 14 h del jueves anterior al correo: deniaviva@ayto-denia.es.  \nDuración: 4 h. Desplazamiento en coche. \nAparcament Hospital de la Pedrera
URL:https://disfruta-denia.com/evento/excursio-en-familia-3/
LOCATION:Denia\, Denia\, Alicante\, 03700\, España
CATEGORIES:Deporte,Excursión
ATTACH;FMTTYPE=image/png:https://disfruta-denia.com/wp-content/uploads/2023/09/14-Excursio-familia-dia-15.png
ORGANIZER;CN="Denia Cultura":MAILTO:cultura@ayto-denia.es
END:VEVENT
BEGIN:VEVENT
DTSTART;TZID=Europe/Madrid:20231015T103000
DTEND;TZID=Europe/Madrid:20231015T103000
DTSTAMP:20260422T154043
CREATED:20231013T101043Z
LAST-MODIFIED:20231013T101043Z
UID:10014690-1697365800-1697365800@disfruta-denia.com
SUMMARY:Basquet: los partidos del finde
DESCRIPTION:Partidos en Joan Fuster\, Denia este fin de semana 14/15 de Octubre 23/24\n\n\nVen y disfruta de nuestros partidos!!!
URL:https://disfruta-denia.com/evento/basquet-los-partidos-del-finde/2023-10-15/
LOCATION:Polideportivo municipal de Denia\, Camí del Regatxo\, 6\, Denia\, Alicante\, 03700\, España
CATEGORIES:Basket,Deporte
ATTACH;FMTTYPE=image/jpeg:https://disfruta-denia.com/wp-content/uploads/2023/10/391610386_18239203162212894_771739089833295302_n.jpg
END:VEVENT
BEGIN:VEVENT
DTSTART;TZID=Europe/Madrid:20231015T103000
DTEND;TZID=Europe/Madrid:20231015T170000
DTSTAMP:20260422T154043
CREATED:20231010T203735Z
LAST-MODIFIED:20231010T203735Z
UID:10014644-1697365800-1697389200@disfruta-denia.com
SUMMARY:Fútbol:  Juvenil A VS F.B.C.D. Catarroja “A”
DESCRIPTION:Serà el torn del Juvenil A que jugarà VS F.B.C.D. Catarroja “A” a les :H.\n\n\nMOLTA SORT
URL:https://disfruta-denia.com/evento/futbol-juvenil-a-vs-f-b-c-d-catarroja-a/
LOCATION:Campo de Fútbol «Diego Mena Cuesta»\, Dénia\, 03700\, España
CATEGORIES:Deporte,Futbol
ATTACH;FMTTYPE=image/jpeg:https://disfruta-denia.com/wp-content/uploads/2023/10/391617222_17976138674559250_6335924588724263850_n-1.jpg
END:VEVENT
BEGIN:VEVENT
DTSTART;TZID=Europe/Madrid:20231015T113000
DTEND;TZID=Europe/Madrid:20231015T113000
DTSTAMP:20260422T154043
CREATED:20231010T090831Z
LAST-MODIFIED:20231010T090831Z
UID:10014641-1697369400-1697369400@disfruta-denia.com
SUMMARY:Raspall: 2nda fase Copa Caixa Popular
DESCRIPTION:El próximo  domingo 15 de octubre a partir de las  11:30 h\, en el  Trinquet Municipal «El Rovellet»\, de la partida de la modalidad de «Raspall» perteneciente a la segunda fase de la  Copa Caixa Popular. \n La partida enfrentará\, dentro del Grupo B de esta competición a la pareja  Ian y Brisca de Castelló de Rugat\, frente a la pareja de Xeraco\,  Vicent y Lorja
URL:https://disfruta-denia.com/evento/raspall-2nda-fase-copa-caixa-popular/
LOCATION:Trinquet El Rovellet\, Camí del Regatxo\, 6\, Denia\, Alicante\, 03700\, España
CATEGORIES:Deporte
ATTACH;FMTTYPE=image/jpeg:https://disfruta-denia.com/wp-content/uploads/2023/10/387196887_178098455332798_1391894710725162710_n.jpg
END:VEVENT
BEGIN:VEVENT
DTSTART;TZID=Europe/Madrid:20231017T083000
DTEND;TZID=Europe/Madrid:20231017T083000
DTSTAMP:20260422T154043
CREATED:20231005T092619Z
LAST-MODIFIED:20231005T092702Z
UID:10014039-1697531400-1697531400@disfruta-denia.com
SUMMARY:Clase de Yoga en Códigos del Arte
DESCRIPTION:Clase de Yoga en Códigos del Arte
URL:https://disfruta-denia.com/evento/clase-de-yoga-en-codigos-del-arte/2023-10-17/
LOCATION:Códigos del Arte\, Carreró de Morant\, 8\, Dénia\, 03700\, España
CATEGORIES:Deporte,Yoga
ATTACH;FMTTYPE=image/jpeg:https://disfruta-denia.com/wp-content/uploads/2023/10/image_6487327.jpg
END:VEVENT
BEGIN:VEVENT
DTSTART;TZID=Europe/Madrid:20231019T083000
DTEND;TZID=Europe/Madrid:20231019T083000
DTSTAMP:20260422T154043
CREATED:20231005T092619Z
LAST-MODIFIED:20231005T092702Z
UID:10014040-1697704200-1697704200@disfruta-denia.com
SUMMARY:Clase de Yoga en Códigos del Arte
DESCRIPTION:Clase de Yoga en Códigos del Arte
URL:https://disfruta-denia.com/evento/clase-de-yoga-en-codigos-del-arte/2023-10-19/
LOCATION:Códigos del Arte\, Carreró de Morant\, 8\, Dénia\, 03700\, España
CATEGORIES:Deporte,Yoga
ATTACH;FMTTYPE=image/jpeg:https://disfruta-denia.com/wp-content/uploads/2023/10/image_6487327.jpg
END:VEVENT
BEGIN:VEVENT
DTSTART;TZID=Europe/Madrid:20231021T170000
DTEND;TZID=Europe/Madrid:20231021T170000
DTSTAMP:20260422T154043
CREATED:20231020T164419Z
LAST-MODIFIED:20231020T164419Z
UID:10014744-1697907600-1697907600@disfruta-denia.com
SUMMARY:Basquet: SENIOR NACIONAL MASCULINO DBC VS CB ALGINET
DESCRIPTION:SENIOR MASCULINO NACIONAL\nPABELLÓN JOAN FUSTER:\nSENIOR NACIONAL MASCULINO DBC VS CB ALGINET\nSÁBADO 21 OCTUBRE 17:00h
URL:https://disfruta-denia.com/evento/basquet-senior-nacional-masculino-dbc-vs-cb-alginet/
LOCATION:Pabellón Joan Fuster\, Partida Capsades\, 2B\, Denia\, Alicante\, 03700\, España
CATEGORIES:Basket,Deporte
ATTACH;FMTTYPE=image/jpeg:https://disfruta-denia.com/wp-content/uploads/2023/10/391620730_18240006307212894_7056612631057262180_n.jpg
END:VEVENT
BEGIN:VEVENT
DTSTART;TZID=Europe/Madrid:20231022T100000
DTEND;TZID=Europe/Madrid:20231022T130000
DTSTAMP:20260422T154043
CREATED:20231018T082505Z
LAST-MODIFIED:20231018T082505Z
UID:10014734-1697968800-1697979600@disfruta-denia.com
SUMMARY:XVI Marcha Solidaria de AMADEM ONG Por la Salud Mental
DESCRIPTION:Se realiza la XVI Marcha Solidaria de AMADEM ONG Por la Salud Mental\, que tendrá lugar el día 22 de octubre de 10 a 13h. El punto de partida es el parking Marina de Dénia y la llegada será el Restaurante Mena\, siendo la dificultad media en un recorrido de 5km. El coste de los tickets es 5€ y se pueden obtener en la página web
URL:https://disfruta-denia.com/evento/xvi-marcha-solidaria-de-amadem-ong-por-la-salud-mental/
LOCATION:Marina de Denia\, Puerto de Dénia\, Edificio Capitanía\, Dársena de Babor\, Denia\, Alicante\, 03700\, España
CATEGORIES:Deporte
ATTACH;FMTTYPE=image/jpeg:https://disfruta-denia.com/wp-content/uploads/2023/10/Cartel-XVI-MARCHA-SOLIDARIA.jpg
ORGANIZER;CN="Amadem":MAILTO:amadem@amadem.es
END:VEVENT
BEGIN:VEVENT
DTSTART;TZID=Europe/Madrid:20231024T083000
DTEND;TZID=Europe/Madrid:20231024T083000
DTSTAMP:20260422T154043
CREATED:20231005T092619Z
LAST-MODIFIED:20231005T092702Z
UID:10014041-1698136200-1698136200@disfruta-denia.com
SUMMARY:Clase de Yoga en Códigos del Arte
DESCRIPTION:Clase de Yoga en Códigos del Arte
URL:https://disfruta-denia.com/evento/clase-de-yoga-en-codigos-del-arte/2023-10-24/
LOCATION:Códigos del Arte\, Carreró de Morant\, 8\, Dénia\, 03700\, España
CATEGORIES:Deporte,Yoga
ATTACH;FMTTYPE=image/jpeg:https://disfruta-denia.com/wp-content/uploads/2023/10/image_6487327.jpg
END:VEVENT
BEGIN:VEVENT
DTSTART;TZID=Europe/Madrid:20231026T083000
DTEND;TZID=Europe/Madrid:20231026T083000
DTSTAMP:20260422T154043
CREATED:20231005T092619Z
LAST-MODIFIED:20231005T092702Z
UID:10014042-1698309000-1698309000@disfruta-denia.com
SUMMARY:Clase de Yoga en Códigos del Arte
DESCRIPTION:Clase de Yoga en Códigos del Arte
URL:https://disfruta-denia.com/evento/clase-de-yoga-en-codigos-del-arte/2023-10-26/
LOCATION:Códigos del Arte\, Carreró de Morant\, 8\, Dénia\, 03700\, España
CATEGORIES:Deporte,Yoga
ATTACH;FMTTYPE=image/jpeg:https://disfruta-denia.com/wp-content/uploads/2023/10/image_6487327.jpg
END:VEVENT
BEGIN:VEVENT
DTSTART;VALUE=DATE:20231028
DTEND;VALUE=DATE:20231031
DTSTAMP:20260422T154043
CREATED:20231005T183540Z
LAST-MODIFIED:20231005T183540Z
UID:10014633-1698465600-1698638399@disfruta-denia.com
SUMMARY:XXVII Regata Turkana
DESCRIPTION:Marina Dénia acoge un año más la celebración de la Regata Turkana\, organizada por Nautica corcho y Aproache Yachting. La edición XXVII de esta prueba solidaria se celebra el 28 y 29 de octubre.  \nLa finalidad de esta iniciativa es conseguir recaudar fondos para el proyecto quirúrgico en la localidad de Turkana\, en Kenia. Cirugía en Turkana
URL:https://disfruta-denia.com/evento/xxvii-regata-turkana/
LOCATION:Marina de Denia\, Puerto de Dénia\, Edificio Capitanía\, Dársena de Babor\, Denia\, Alicante\, 03700\, España
CATEGORIES:Deporte
ATTACH;FMTTYPE=image/jpeg:https://disfruta-denia.com/wp-content/uploads/2023/10/386600900_692299239598642_2357206668747542378_n.jpg
END:VEVENT
BEGIN:VEVENT
DTSTART;TZID=Europe/Madrid:20231028T070000
DTEND;TZID=Europe/Madrid:20231028T130000
DTSTAMP:20260422T154043
CREATED:20231020T165152Z
LAST-MODIFIED:20231020T165152Z
UID:10014745-1698476400-1698498000@disfruta-denia.com
SUMMARY:Concurso de pesca Currican Bajura
DESCRIPTION:El concurso de pesca Currican Bajura se celebrará el próximo 28 de Octubre con salida a las 7\,00h de la mañana y hora máxima de llegada a puerto a las 13\,ooh.\, seguidamente se realizará la entrega de premios y una comida para todos los participantes.
URL:https://disfruta-denia.com/evento/concurso-de-pesca-currican-bajura/
LOCATION:Marina de Denia\, Puerto de Dénia\, Edificio Capitanía\, Dársena de Babor\, Denia\, Alicante\, 03700\, España
CATEGORIES:Deporte
ATTACH;FMTTYPE=image/png:https://disfruta-denia.com/wp-content/uploads/2023/10/El-RCNDenia-presenta-sus-proximos-eventos-Concurso-de-pesca-Currican-Bajura-y-la-XXVII-edicion-de-la-Copa-del-Canal-Real-Club-Nautico-Denia.png
END:VEVENT
BEGIN:VEVENT
DTSTART;TZID=Europe/Madrid:20231028T100000
DTEND;TZID=Europe/Madrid:20231028T203000
DTSTAMP:20260422T154043
CREATED:20231023T131006Z
LAST-MODIFIED:20231023T131427Z
UID:10014753-1698487200-1698525000@disfruta-denia.com
SUMMARY:Puertas Abiertas Samba Yoga Loft
DESCRIPTION:
URL:https://disfruta-denia.com/evento/puertas-abiertas-samba-yoga-loft/2023-10-28/
LOCATION:Samba Yoga Loft\, Calle Marqués de Campo 6\, 2º izquierda\, Dénia\, 03700\, España
CATEGORIES:Deporte,Yoga
ATTACH;FMTTYPE=image/png:https://disfruta-denia.com/wp-content/uploads/2023/10/1-e1698066853928.png
ORGANIZER;CN="Samba Yoga Loft":MAILTO:hola@sambayogaloft.com
END:VEVENT
BEGIN:VEVENT
DTSTART;TZID=Europe/Madrid:20231028T190000
DTEND;TZID=Europe/Madrid:20231028T190000
DTSTAMP:20260422T154043
CREATED:20231024T103845Z
LAST-MODIFIED:20231024T103845Z
UID:10014767-1698519600-1698519600@disfruta-denia.com
SUMMARY:Fútbol: Juvenil B VS U.D. Portuarios-Disarp “A”
DESCRIPTION:A les :H\, tenim dos partits!\nEl Juvenil B buscarà la victòria VS U.D. Portuarios-Disarp “A
URL:https://disfruta-denia.com/evento/futbol-juvenil-b-vs-u-d-portuarios-disarp-a/
LOCATION:Campo de Fútbol «Diego Mena Cuesta»\, Dénia\, 03700\, España
CATEGORIES:Deporte,Futbol
ATTACH;FMTTYPE=image/jpeg:https://disfruta-denia.com/wp-content/uploads/2023/10/394625829_17977968302559250_3287940316864345031_n.jpg
END:VEVENT
BEGIN:VEVENT
DTSTART;TZID=Europe/Madrid:20231029T100000
DTEND;TZID=Europe/Madrid:20231029T203000
DTSTAMP:20260422T154043
CREATED:20231023T131006Z
LAST-MODIFIED:20231023T131427Z
UID:10014754-1698573600-1698611400@disfruta-denia.com
SUMMARY:Puertas Abiertas Samba Yoga Loft
DESCRIPTION:
URL:https://disfruta-denia.com/evento/puertas-abiertas-samba-yoga-loft/2023-10-29/
LOCATION:Samba Yoga Loft\, Calle Marqués de Campo 6\, 2º izquierda\, Dénia\, 03700\, España
CATEGORIES:Deporte,Yoga
ATTACH;FMTTYPE=image/png:https://disfruta-denia.com/wp-content/uploads/2023/10/1-e1698066853928.png
ORGANIZER;CN="Samba Yoga Loft":MAILTO:hola@sambayogaloft.com
END:VEVENT
BEGIN:VEVENT
DTSTART;TZID=Europe/Madrid:20231029T100000
DTEND;TZID=Europe/Madrid:20231101T170000
DTSTAMP:20260422T154043
CREATED:20231018T165330Z
LAST-MODIFIED:20231018T165330Z
UID:10014736-1698573600-1698858000@disfruta-denia.com
SUMMARY:Escape room Halloween
DESCRIPTION:Entra con tus amigos en la casa de “CARAMALA”\, una de las brujas  más malvadas de la ciudad. ⁣\n⁣\nUna de sus horribles ideas para este Halloween 2023 es crear una poción y elaborar un hechizo para quitarles a todos las ganas de vivir. Esto afectará a toda la humanidad.⁣\n⁣\nTendréis que entrar en la casa y robar el libro  de pócimas y hechizos. Solo así podréis evitar que lancen el maleficio la noche de Halloween en el Akelarre.⁣\n⁣\n¡𝗦𝗨𝗘𝗥𝗧𝗘!⁣\n⁣\n𝗥𝗲𝘀𝗲𝗿𝘃𝗮 𝘆𝗮 𝘁𝘂 𝗱í𝗮 𝘆 𝗵𝗼𝗿𝗮 𝘆 𝘃𝗲𝗻𝘁𝗲 𝗲𝗻 𝗳𝗮𝗺𝗶𝗹𝗶𝗮 𝗼 𝗰𝗼𝗻 𝗮𝗺𝗶𝗴𝗼𝘀.⁣\nEdad mínima recomendada 8 años.⁣\n⁣\nDel 29 de octubre al 1 de noviembre.⁣\n10:00; 11:30; 13:00; 16:00; 17:30; 19:00; 20:30; 22:00.⁣\n⁣\nY recuerda\, ¡cuántos más seáis\, menos pagáis!⁣
URL:https://disfruta-denia.com/evento/escape-room-halloween/
LOCATION:Les Tramoies\, C/ de Patricio Ferrándiz\, 88\, Denia\, Alicante\, 03700\, España
CATEGORIES:Deporte
ATTACH;FMTTYPE=image/jpeg:https://disfruta-denia.com/wp-content/uploads/2023/10/391615457_344009568026135_4723427649399418941_n.jpg
END:VEVENT
END:VCALENDAR