BEGIN:VCALENDAR
VERSION:2.0
PRODID:-//Disfruta Denia - ECPv6.15.20//NONSGML v1.0//EN
CALSCALE:GREGORIAN
METHOD:PUBLISH
X-ORIGINAL-URL:https://disfruta-denia.com
X-WR-CALDESC:Eventos para Disfruta Denia
REFRESH-INTERVAL;VALUE=DURATION:PT1H
X-Robots-Tag:noindex
X-PUBLISHED-TTL:PT1H
BEGIN:VTIMEZONE
TZID:Europe/Madrid
BEGIN:DAYLIGHT
TZOFFSETFROM:+0100
TZOFFSETTO:+0200
TZNAME:CEST
DTSTART:20230326T010000
END:DAYLIGHT
BEGIN:STANDARD
TZOFFSETFROM:+0200
TZOFFSETTO:+0100
TZNAME:CET
DTSTART:20231029T010000
END:STANDARD
BEGIN:DAYLIGHT
TZOFFSETFROM:+0100
TZOFFSETTO:+0200
TZNAME:CEST
DTSTART:20240331T010000
END:DAYLIGHT
BEGIN:STANDARD
TZOFFSETFROM:+0200
TZOFFSETTO:+0100
TZNAME:CET
DTSTART:20241027T010000
END:STANDARD
BEGIN:DAYLIGHT
TZOFFSETFROM:+0100
TZOFFSETTO:+0200
TZNAME:CEST
DTSTART:20250330T010000
END:DAYLIGHT
BEGIN:STANDARD
TZOFFSETFROM:+0200
TZOFFSETTO:+0100
TZNAME:CET
DTSTART:20251026T010000
END:STANDARD
END:VTIMEZONE
BEGIN:VEVENT
DTSTART;TZID=Europe/Madrid:20240303T093000
DTEND;TZID=Europe/Madrid:20240303T093000
DTSTAMP:20260422T072840
CREATED:20240226T094759Z
LAST-MODIFIED:20240226T094759Z
UID:10017502-1709458200-1709458200@disfruta-denia.com
SUMMARY:Ciclismo: XXVII MEMORIAL SAMUEL LLORCA
DESCRIPTION:El próximo  domingo 3 de marzo a partir de las  9.30 h.\, tendrá lugar en las calles de Dénia\, la  XXVII edición del Memorial Samuel Llorca de  ciclismo.\n\n\nCon  salida y  llegada en la  c/ *Electra y un circuito urbano de 1.400 m.\, se disputarán las carreras de las categorías:\n Cadete: Masculino y Femenino\n Júnior: Masculino y Femenino\n Sub-21 Masculino\n Sub-23 y Élite Femenino\n\n\n Organiza: Club Ciclista Dénia\nMás información e inscripciones: Federación Ciclismo de la C. V. \n https://fccv.es/…/26720-xxvii-memorial-samuel-llorca\n\n\n Os esperamos para disfrutar de esta prueba ciclista!!! \n\n\n\n\n\n\n\nVoir la traduction
URL:https://disfruta-denia.com/evento/ciclismo-xxvii-memorial-samuel-llorca/
LOCATION:Denia\, Denia\, Alicante\, 03700\, España
CATEGORIES:Deporte
ATTACH;FMTTYPE=image/jpeg:https://disfruta-denia.com/wp-content/uploads/2024/02/429836376_263208980155078_4217940796549700305_n.jpg
END:VEVENT
BEGIN:VEVENT
DTSTART;TZID=Europe/Madrid:20240305T083000
DTEND;TZID=Europe/Madrid:20240305T083000
DTSTAMP:20260422T072840
CREATED:20231005T092619Z
LAST-MODIFIED:20231005T092702Z
UID:10014079-1709627400-1709627400@disfruta-denia.com
SUMMARY:Clase de Yoga en Códigos del Arte
DESCRIPTION:Clase de Yoga en Códigos del Arte
URL:https://disfruta-denia.com/evento/clase-de-yoga-en-codigos-del-arte/2024-03-05/
LOCATION:Códigos del Arte\, Carreró de Morant\, 8\, Dénia\, 03700\, España
CATEGORIES:Deporte,Yoga
ATTACH;FMTTYPE=image/jpeg:https://disfruta-denia.com/wp-content/uploads/2023/10/image_6487327.jpg
END:VEVENT
BEGIN:VEVENT
DTSTART;TZID=Europe/Madrid:20240307T083000
DTEND;TZID=Europe/Madrid:20240307T083000
DTSTAMP:20260422T072840
CREATED:20231005T092619Z
LAST-MODIFIED:20231005T092702Z
UID:10014080-1709800200-1709800200@disfruta-denia.com
SUMMARY:Clase de Yoga en Códigos del Arte
DESCRIPTION:Clase de Yoga en Códigos del Arte
URL:https://disfruta-denia.com/evento/clase-de-yoga-en-codigos-del-arte/2024-03-07/
LOCATION:Códigos del Arte\, Carreró de Morant\, 8\, Dénia\, 03700\, España
CATEGORIES:Deporte,Yoga
ATTACH;FMTTYPE=image/jpeg:https://disfruta-denia.com/wp-content/uploads/2023/10/image_6487327.jpg
END:VEVENT
BEGIN:VEVENT
DTSTART;TZID=Europe/Madrid:20240310T093000
DTEND;TZID=Europe/Madrid:20240310T170000
DTSTAMP:20260422T072840
CREATED:20240309T160049Z
LAST-MODIFIED:20240309T163332Z
UID:10017797-1710063000-1710090000@disfruta-denia.com
SUMMARY:Excursión en familia: LA VALL DE GALLINERA
DESCRIPTION:LA VALL DE GALLINERA. DE BENISILI A BENIRRAMA. \nCamins entre pobles\, llavadors i corrals. Arquitectura de la pedra seca.   \nInscripció prèvia obligatòria fins a les 14 h del dijous anterior al correu: deniaviva@ayto-denia.es  \nDesplaçament en bus. Duració: 7 h.  \nInscripción previa obligatoria hasta las 14 h del jueves anterior al correo: deniaviva@ato-denia.es  \nDesplazamiento en bus. Duración 7 h.
URL:https://disfruta-denia.com/evento/excursion-en-familia-la-vall-de-gallinera/
LOCATION:Casa de la Cultura Denia\, Plaça Jaume I\, Denia\, Alicante\, 03700\, España
CATEGORIES:Deporte,Excursión
ATTACH;FMTTYPE=image/png:https://disfruta-denia.com/wp-content/uploads/2024/03/Excursion-en-familia-LA-VALL-DE-GALLINERA-Disfruta-Denia.png
END:VEVENT
BEGIN:VEVENT
DTSTART;TZID=Europe/Madrid:20240312T083000
DTEND;TZID=Europe/Madrid:20240312T083000
DTSTAMP:20260422T072840
CREATED:20231005T092619Z
LAST-MODIFIED:20231005T092702Z
UID:10014081-1710232200-1710232200@disfruta-denia.com
SUMMARY:Clase de Yoga en Códigos del Arte
DESCRIPTION:Clase de Yoga en Códigos del Arte
URL:https://disfruta-denia.com/evento/clase-de-yoga-en-codigos-del-arte/2024-03-12/
LOCATION:Códigos del Arte\, Carreró de Morant\, 8\, Dénia\, 03700\, España
CATEGORIES:Deporte,Yoga
ATTACH;FMTTYPE=image/jpeg:https://disfruta-denia.com/wp-content/uploads/2023/10/image_6487327.jpg
END:VEVENT
BEGIN:VEVENT
DTSTART;TZID=Europe/Madrid:20240314T083000
DTEND;TZID=Europe/Madrid:20240314T083000
DTSTAMP:20260422T072840
CREATED:20231005T092619Z
LAST-MODIFIED:20231005T092702Z
UID:10014082-1710405000-1710405000@disfruta-denia.com
SUMMARY:Clase de Yoga en Códigos del Arte
DESCRIPTION:Clase de Yoga en Códigos del Arte
URL:https://disfruta-denia.com/evento/clase-de-yoga-en-codigos-del-arte/2024-03-14/
LOCATION:Códigos del Arte\, Carreró de Morant\, 8\, Dénia\, 03700\, España
CATEGORIES:Deporte,Yoga
ATTACH;FMTTYPE=image/jpeg:https://disfruta-denia.com/wp-content/uploads/2023/10/image_6487327.jpg
END:VEVENT
BEGIN:VEVENT
DTSTART;TZID=Europe/Madrid:20240319T083000
DTEND;TZID=Europe/Madrid:20240319T083000
DTSTAMP:20260422T072840
CREATED:20231005T092619Z
LAST-MODIFIED:20231005T092702Z
UID:10014083-1710837000-1710837000@disfruta-denia.com
SUMMARY:Clase de Yoga en Códigos del Arte
DESCRIPTION:Clase de Yoga en Códigos del Arte
URL:https://disfruta-denia.com/evento/clase-de-yoga-en-codigos-del-arte/2024-03-19/
LOCATION:Códigos del Arte\, Carreró de Morant\, 8\, Dénia\, 03700\, España
CATEGORIES:Deporte,Yoga
ATTACH;FMTTYPE=image/jpeg:https://disfruta-denia.com/wp-content/uploads/2023/10/image_6487327.jpg
END:VEVENT
BEGIN:VEVENT
DTSTART;TZID=Europe/Madrid:20240321T083000
DTEND;TZID=Europe/Madrid:20240321T083000
DTSTAMP:20260422T072840
CREATED:20231005T092619Z
LAST-MODIFIED:20231005T092702Z
UID:10014084-1711009800-1711009800@disfruta-denia.com
SUMMARY:Clase de Yoga en Códigos del Arte
DESCRIPTION:Clase de Yoga en Códigos del Arte
URL:https://disfruta-denia.com/evento/clase-de-yoga-en-codigos-del-arte/2024-03-21/
LOCATION:Códigos del Arte\, Carreró de Morant\, 8\, Dénia\, 03700\, España
CATEGORIES:Deporte,Yoga
ATTACH;FMTTYPE=image/jpeg:https://disfruta-denia.com/wp-content/uploads/2023/10/image_6487327.jpg
END:VEVENT
BEGIN:VEVENT
DTSTART;TZID=Europe/Madrid:20240326T083000
DTEND;TZID=Europe/Madrid:20240326T083000
DTSTAMP:20260422T072840
CREATED:20231005T092619Z
LAST-MODIFIED:20231005T092702Z
UID:10014085-1711441800-1711441800@disfruta-denia.com
SUMMARY:Clase de Yoga en Códigos del Arte
DESCRIPTION:Clase de Yoga en Códigos del Arte
URL:https://disfruta-denia.com/evento/clase-de-yoga-en-codigos-del-arte/2024-03-26/
LOCATION:Códigos del Arte\, Carreró de Morant\, 8\, Dénia\, 03700\, España
CATEGORIES:Deporte,Yoga
ATTACH;FMTTYPE=image/jpeg:https://disfruta-denia.com/wp-content/uploads/2023/10/image_6487327.jpg
END:VEVENT
BEGIN:VEVENT
DTSTART;TZID=Europe/Madrid:20240328T083000
DTEND;TZID=Europe/Madrid:20240328T083000
DTSTAMP:20260422T072840
CREATED:20231005T092619Z
LAST-MODIFIED:20231005T092702Z
UID:10014086-1711614600-1711614600@disfruta-denia.com
SUMMARY:Clase de Yoga en Códigos del Arte
DESCRIPTION:Clase de Yoga en Códigos del Arte
URL:https://disfruta-denia.com/evento/clase-de-yoga-en-codigos-del-arte/2024-03-28/
LOCATION:Códigos del Arte\, Carreró de Morant\, 8\, Dénia\, 03700\, España
CATEGORIES:Deporte,Yoga
ATTACH;FMTTYPE=image/jpeg:https://disfruta-denia.com/wp-content/uploads/2023/10/image_6487327.jpg
END:VEVENT
BEGIN:VEVENT
DTSTART;TZID=Europe/Madrid:20240330T180000
DTEND;TZID=Europe/Madrid:20240330T180000
DTSTAMP:20260422T072840
CREATED:20240328T110823Z
LAST-MODIFIED:20240328T110823Z
UID:10017851-1711821600-1711821600@disfruta-denia.com
SUMMARY:Campionat d'Arts Marcials Mixtes (MMA)
DESCRIPTION:Les arts marcials arriben a Ondara!  \nEl dissabte 30 a les 18h ens veiem al Pavelló Municipal d’Esports. Serà l’escenari del Campionat d’Arts Marcials Mixtes (MMA). \nVine i sigues testimoni de l’habilitat dels lluitadors més destacats!
URL:https://disfruta-denia.com/evento/campionat-darts-marcials-mixtes-mma/
LOCATION:Pabellón Polideportivo Municipal de Ondara\, Pabellón Polideportivo Municipal de Ondara\, Ondara\, 03760\, España
CATEGORIES:Deporte
ATTACH;FMTTYPE=image/jpeg:https://disfruta-denia.com/wp-content/uploads/2024/03/434171890_384821527685146_5833614659008483049_n.jpg
END:VEVENT
END:VCALENDAR