BEGIN:VCALENDAR
VERSION:2.0
PRODID:-//Disfruta Denia - ECPv6.15.20//NONSGML v1.0//EN
CALSCALE:GREGORIAN
METHOD:PUBLISH
X-ORIGINAL-URL:https://disfruta-denia.com
X-WR-CALDESC:Eventos para Disfruta Denia
REFRESH-INTERVAL;VALUE=DURATION:PT1H
X-Robots-Tag:noindex
X-PUBLISHED-TTL:PT1H
BEGIN:VTIMEZONE
TZID:Europe/Madrid
BEGIN:DAYLIGHT
TZOFFSETFROM:+0100
TZOFFSETTO:+0200
TZNAME:CEST
DTSTART:20230326T010000
END:DAYLIGHT
BEGIN:STANDARD
TZOFFSETFROM:+0200
TZOFFSETTO:+0100
TZNAME:CET
DTSTART:20231029T010000
END:STANDARD
BEGIN:DAYLIGHT
TZOFFSETFROM:+0100
TZOFFSETTO:+0200
TZNAME:CEST
DTSTART:20240331T010000
END:DAYLIGHT
BEGIN:STANDARD
TZOFFSETFROM:+0200
TZOFFSETTO:+0100
TZNAME:CET
DTSTART:20241027T010000
END:STANDARD
BEGIN:DAYLIGHT
TZOFFSETFROM:+0100
TZOFFSETTO:+0200
TZNAME:CEST
DTSTART:20250330T010000
END:DAYLIGHT
BEGIN:STANDARD
TZOFFSETFROM:+0200
TZOFFSETTO:+0100
TZNAME:CET
DTSTART:20251026T010000
END:STANDARD
END:VTIMEZONE
BEGIN:VEVENT
DTSTART;TZID=Europe/Madrid:20240402T083000
DTEND;TZID=Europe/Madrid:20240402T083000
DTSTAMP:20260422T055440
CREATED:20231005T092619Z
LAST-MODIFIED:20231005T092702Z
UID:10014087-1712046600-1712046600@disfruta-denia.com
SUMMARY:Clase de Yoga en Códigos del Arte
DESCRIPTION:Clase de Yoga en Códigos del Arte
URL:https://disfruta-denia.com/evento/clase-de-yoga-en-codigos-del-arte/2024-04-02/
LOCATION:Códigos del Arte\, Carreró de Morant\, 8\, Dénia\, 03700\, España
CATEGORIES:Deporte,Yoga
ATTACH;FMTTYPE=image/jpeg:https://disfruta-denia.com/wp-content/uploads/2023/10/image_6487327.jpg
END:VEVENT
BEGIN:VEVENT
DTSTART;TZID=Europe/Madrid:20240402T093000
DTEND;TZID=Europe/Madrid:20240402T133000
DTSTAMP:20260422T055440
CREATED:20240227T125546Z
LAST-MODIFIED:20240227T125546Z
UID:10017503-1712050200-1712064600@disfruta-denia.com
SUMMARY:V Campus Clínic València CF-Dénia
DESCRIPTION:Vuelve a celebrarse una nueva edición del Campus Clínic València CF-Dénia\, que tendrá lugar del 2 al 5 de abril\, coincidiendo con las vacaciones escolares de Semana Santa. Las niñas y los niños de entre 4 y 16 años interesada/os pueden inscribirse a través de la página web www.vcfcampusclinics.com o a través del teléfono 633014143. \nLos entrenamientos del campus se basan en la metodología del València Club de Fútbol y serán desarrollados por entrenadores de la escuela del Valencia C.F y con equipamiento de entrenamiento del club. La actividad se celebrará en las instalaciones deportivas de Diego Mena y el campo del Rodat\, desde las 9.00 horas hasta las 13.30 horas. \nEl objetivo de esta iniciativa presentada por Iván Malter\, representante de la empresa organizadora de las actividades Nitidia Sport\, es potenciar la autonomía personal de los jugadores y estimular el aprendizaje de habilidades necesarias para la competición. Además\, estos entrenamientos sirven como estrategia de captación para la escuela de fútbol del Valencia CF. \nSegún ha destacado Juanjo Palacios\, presidente de la Escuela Municipal de Fútbol\, “además de los entrenamientos\, como en otras ocasiones\, se combinarán las jornadas con un programa de actividades paralelas muy divertidas\, como una gincana ‘wipe out’\, la prueba deportiva portero volador\, castillos hinchables y dianas gigantes y toboganes”. \nEl regidor de Deportes\, Valentí Alcalà ha invitado a las niñas y a los niños de Dénia a que se unan a esta experiencia del Clinic\, puesto que “a través de los valores de hermandad\, sentimiento y valentía que tiene el club\, nuestra/os niñas y niños podrán disfrutar de una experiencia futbolística única durante sus vacaciones escolares”.
URL:https://disfruta-denia.com/evento/v-campus-clinic-valencia-cf-denia/2024-04-02/
LOCATION:Campo de Fútbol «Diego Mena Cuesta»\, Dénia\, 03700\, España
CATEGORIES:Deporte,Futbol
ATTACH;FMTTYPE=image/jpeg:https://disfruta-denia.com/wp-content/uploads/2024/02/6909f1-1.jpg
END:VEVENT
BEGIN:VEVENT
DTSTART;TZID=Europe/Madrid:20240403T080000
DTEND;TZID=Europe/Madrid:20240403T170000
DTSTAMP:20260422T055440
CREATED:20240403T083550Z
LAST-MODIFIED:20240403T083550Z
UID:10017866-1712131200-1712163600@disfruta-denia.com
SUMMARY:Torneo de billar modalidad bola 9
DESCRIPTION:El próximo sábado 6 de Abril\, Torneo de Pascua del Club de Pool Dénia y la Marina Alta!\n\n\n Premios 16 Inscritos: 4 primeros\, Mejor Júnior\, Mejor Jugadora Femenina\n\n\nPremios 32 Inscritos: 8 Primeros\, Mejor Júnior\, Mejor jugadora femnina\, Doble KO Europeo\nBola 9 a Ganar 7\nRondas Perdedores a Ganar 6\nSemifinal y Final a Ganar 8I\n\n\nnscripciones e información  644 836 568
URL:https://disfruta-denia.com/evento/torneo-de-billar-modalidad-bola-9/
LOCATION:Club de Pool Dénia y la Marina Alta\, Partida Madrigueres Nord 59\, Denia\, 03700\, España
CATEGORIES:Deporte
ATTACH;FMTTYPE=image/jpeg:https://disfruta-denia.com/wp-content/uploads/2024/04/420420101_373920312284425_1342819292102744629_n.jpg
END:VEVENT
BEGIN:VEVENT
DTSTART;TZID=Europe/Madrid:20240403T093000
DTEND;TZID=Europe/Madrid:20240403T133000
DTSTAMP:20260422T055440
CREATED:20240227T125546Z
LAST-MODIFIED:20240227T125546Z
UID:10017504-1712136600-1712151000@disfruta-denia.com
SUMMARY:V Campus Clínic València CF-Dénia
DESCRIPTION:Vuelve a celebrarse una nueva edición del Campus Clínic València CF-Dénia\, que tendrá lugar del 2 al 5 de abril\, coincidiendo con las vacaciones escolares de Semana Santa. Las niñas y los niños de entre 4 y 16 años interesada/os pueden inscribirse a través de la página web www.vcfcampusclinics.com o a través del teléfono 633014143. \nLos entrenamientos del campus se basan en la metodología del València Club de Fútbol y serán desarrollados por entrenadores de la escuela del Valencia C.F y con equipamiento de entrenamiento del club. La actividad se celebrará en las instalaciones deportivas de Diego Mena y el campo del Rodat\, desde las 9.00 horas hasta las 13.30 horas. \nEl objetivo de esta iniciativa presentada por Iván Malter\, representante de la empresa organizadora de las actividades Nitidia Sport\, es potenciar la autonomía personal de los jugadores y estimular el aprendizaje de habilidades necesarias para la competición. Además\, estos entrenamientos sirven como estrategia de captación para la escuela de fútbol del Valencia CF. \nSegún ha destacado Juanjo Palacios\, presidente de la Escuela Municipal de Fútbol\, “además de los entrenamientos\, como en otras ocasiones\, se combinarán las jornadas con un programa de actividades paralelas muy divertidas\, como una gincana ‘wipe out’\, la prueba deportiva portero volador\, castillos hinchables y dianas gigantes y toboganes”. \nEl regidor de Deportes\, Valentí Alcalà ha invitado a las niñas y a los niños de Dénia a que se unan a esta experiencia del Clinic\, puesto que “a través de los valores de hermandad\, sentimiento y valentía que tiene el club\, nuestra/os niñas y niños podrán disfrutar de una experiencia futbolística única durante sus vacaciones escolares”.
URL:https://disfruta-denia.com/evento/v-campus-clinic-valencia-cf-denia/2024-04-03/
LOCATION:Campo de Fútbol «Diego Mena Cuesta»\, Dénia\, 03700\, España
CATEGORIES:Deporte,Futbol
ATTACH;FMTTYPE=image/jpeg:https://disfruta-denia.com/wp-content/uploads/2024/02/6909f1-1.jpg
END:VEVENT
BEGIN:VEVENT
DTSTART;TZID=Europe/Madrid:20240404T083000
DTEND;TZID=Europe/Madrid:20240404T083000
DTSTAMP:20260422T055440
CREATED:20231005T092619Z
LAST-MODIFIED:20231005T092702Z
UID:10014088-1712219400-1712219400@disfruta-denia.com
SUMMARY:Clase de Yoga en Códigos del Arte
DESCRIPTION:Clase de Yoga en Códigos del Arte
URL:https://disfruta-denia.com/evento/clase-de-yoga-en-codigos-del-arte/2024-04-04/
LOCATION:Códigos del Arte\, Carreró de Morant\, 8\, Dénia\, 03700\, España
CATEGORIES:Deporte,Yoga
ATTACH;FMTTYPE=image/jpeg:https://disfruta-denia.com/wp-content/uploads/2023/10/image_6487327.jpg
END:VEVENT
BEGIN:VEVENT
DTSTART;TZID=Europe/Madrid:20240404T093000
DTEND;TZID=Europe/Madrid:20240404T133000
DTSTAMP:20260422T055440
CREATED:20240227T125546Z
LAST-MODIFIED:20240227T125546Z
UID:10017505-1712223000-1712237400@disfruta-denia.com
SUMMARY:V Campus Clínic València CF-Dénia
DESCRIPTION:Vuelve a celebrarse una nueva edición del Campus Clínic València CF-Dénia\, que tendrá lugar del 2 al 5 de abril\, coincidiendo con las vacaciones escolares de Semana Santa. Las niñas y los niños de entre 4 y 16 años interesada/os pueden inscribirse a través de la página web www.vcfcampusclinics.com o a través del teléfono 633014143. \nLos entrenamientos del campus se basan en la metodología del València Club de Fútbol y serán desarrollados por entrenadores de la escuela del Valencia C.F y con equipamiento de entrenamiento del club. La actividad se celebrará en las instalaciones deportivas de Diego Mena y el campo del Rodat\, desde las 9.00 horas hasta las 13.30 horas. \nEl objetivo de esta iniciativa presentada por Iván Malter\, representante de la empresa organizadora de las actividades Nitidia Sport\, es potenciar la autonomía personal de los jugadores y estimular el aprendizaje de habilidades necesarias para la competición. Además\, estos entrenamientos sirven como estrategia de captación para la escuela de fútbol del Valencia CF. \nSegún ha destacado Juanjo Palacios\, presidente de la Escuela Municipal de Fútbol\, “además de los entrenamientos\, como en otras ocasiones\, se combinarán las jornadas con un programa de actividades paralelas muy divertidas\, como una gincana ‘wipe out’\, la prueba deportiva portero volador\, castillos hinchables y dianas gigantes y toboganes”. \nEl regidor de Deportes\, Valentí Alcalà ha invitado a las niñas y a los niños de Dénia a que se unan a esta experiencia del Clinic\, puesto que “a través de los valores de hermandad\, sentimiento y valentía que tiene el club\, nuestra/os niñas y niños podrán disfrutar de una experiencia futbolística única durante sus vacaciones escolares”.
URL:https://disfruta-denia.com/evento/v-campus-clinic-valencia-cf-denia/2024-04-04/
LOCATION:Campo de Fútbol «Diego Mena Cuesta»\, Dénia\, 03700\, España
CATEGORIES:Deporte,Futbol
ATTACH;FMTTYPE=image/jpeg:https://disfruta-denia.com/wp-content/uploads/2024/02/6909f1-1.jpg
END:VEVENT
BEGIN:VEVENT
DTSTART;TZID=Europe/Madrid:20240405T093000
DTEND;TZID=Europe/Madrid:20240405T133000
DTSTAMP:20260422T055440
CREATED:20240227T125546Z
LAST-MODIFIED:20240227T125546Z
UID:10017506-1712309400-1712323800@disfruta-denia.com
SUMMARY:V Campus Clínic València CF-Dénia
DESCRIPTION:Vuelve a celebrarse una nueva edición del Campus Clínic València CF-Dénia\, que tendrá lugar del 2 al 5 de abril\, coincidiendo con las vacaciones escolares de Semana Santa. Las niñas y los niños de entre 4 y 16 años interesada/os pueden inscribirse a través de la página web www.vcfcampusclinics.com o a través del teléfono 633014143. \nLos entrenamientos del campus se basan en la metodología del València Club de Fútbol y serán desarrollados por entrenadores de la escuela del Valencia C.F y con equipamiento de entrenamiento del club. La actividad se celebrará en las instalaciones deportivas de Diego Mena y el campo del Rodat\, desde las 9.00 horas hasta las 13.30 horas. \nEl objetivo de esta iniciativa presentada por Iván Malter\, representante de la empresa organizadora de las actividades Nitidia Sport\, es potenciar la autonomía personal de los jugadores y estimular el aprendizaje de habilidades necesarias para la competición. Además\, estos entrenamientos sirven como estrategia de captación para la escuela de fútbol del Valencia CF. \nSegún ha destacado Juanjo Palacios\, presidente de la Escuela Municipal de Fútbol\, “además de los entrenamientos\, como en otras ocasiones\, se combinarán las jornadas con un programa de actividades paralelas muy divertidas\, como una gincana ‘wipe out’\, la prueba deportiva portero volador\, castillos hinchables y dianas gigantes y toboganes”. \nEl regidor de Deportes\, Valentí Alcalà ha invitado a las niñas y a los niños de Dénia a que se unan a esta experiencia del Clinic\, puesto que “a través de los valores de hermandad\, sentimiento y valentía que tiene el club\, nuestra/os niñas y niños podrán disfrutar de una experiencia futbolística única durante sus vacaciones escolares”.
URL:https://disfruta-denia.com/evento/v-campus-clinic-valencia-cf-denia/2024-04-05/
LOCATION:Campo de Fútbol «Diego Mena Cuesta»\, Dénia\, 03700\, España
CATEGORIES:Deporte,Futbol
ATTACH;FMTTYPE=image/jpeg:https://disfruta-denia.com/wp-content/uploads/2024/02/6909f1-1.jpg
END:VEVENT
BEGIN:VEVENT
DTSTART;TZID=Europe/Madrid:20240409T083000
DTEND;TZID=Europe/Madrid:20240409T083000
DTSTAMP:20260422T055440
CREATED:20231005T092619Z
LAST-MODIFIED:20231005T092702Z
UID:10014089-1712651400-1712651400@disfruta-denia.com
SUMMARY:Clase de Yoga en Códigos del Arte
DESCRIPTION:Clase de Yoga en Códigos del Arte
URL:https://disfruta-denia.com/evento/clase-de-yoga-en-codigos-del-arte/2024-04-09/
LOCATION:Códigos del Arte\, Carreró de Morant\, 8\, Dénia\, 03700\, España
CATEGORIES:Deporte,Yoga
ATTACH;FMTTYPE=image/jpeg:https://disfruta-denia.com/wp-content/uploads/2023/10/image_6487327.jpg
END:VEVENT
BEGIN:VEVENT
DTSTART;TZID=Europe/Madrid:20240409T090000
DTEND;TZID=Europe/Madrid:20240409T170000
DTSTAMP:20260422T055440
CREATED:20240408T082659Z
LAST-MODIFIED:20240408T082659Z
UID:10017882-1712653200-1712682000@disfruta-denia.com
SUMMARY:THE RADIANCE ONE DAY RETREAT
DESCRIPTION:Take a day for mindful and meaningful movement and joy and join us for a ONE day retreat in Denia (Alicante\, Spain) on APRIL 9th\, 2024. THE RADIANCE RETREAT at Samar Garden Denia – is a one day retreat of vibrant color and heart opening radiance. To have an intentional space and cicle where your nervous system can relax and reset and your dreams can come alive. A place to open yourself up to play. This is about sourcing your own radiant energy and allowing it to fuel you as you hold space for your soul work. \nIn this retreat we will share the insights of Celêstial yoga practice and meditation to help you experience harmony and direction in your spiritual path. So your mind\, heart and energy will be aligned. You will also receive the Celêstial Alignment\, so through a prayer from your heart the entire Universe will support your intention and manifest what you desire. Through the Celêstial Alignment you will experience the most powerful energy of the 5D and transform a specific aspect of your life. \n\n\n\n\n\n\n\nHORARIO / SCHEDULE\n\n9 ABRIL/ APRIL 9th 2024\n \n9:00 Bienvenida /Welcoming \n9:10 Yoga y trabajo respiratorio / Yoga and Pranayama / Breathwork \n10:40 Dharma\, enseñanza espiritual y tiempo para compartir / Dharma\, spiritual teachings and time for sharing \n11:15 Meditación / Meditation \n11:45 Short break\, relaxation\n \n12:00 Alineación Celêstial (Experimenta la más poderosa energía de la QUINTA DIMENSION y transforma un aspecto específico de tu vida) /Celêstial Alignment (Experience the most powerful energy of the 5th dimension of consciousness and transform an specific aspect of your life) \n1:00 pm Lunch\n \n3:00 pm Alchemy Sound Bath / Baño de sonidos ancestrales\n \n5:00 pm Tiempo para compartir. Meditación final y despedida /Time for sharing. Meditation and farewell.
URL:https://disfruta-denia.com/evento/the-radiance-one-day-retreat/
LOCATION:Meditation Samar Garden Denia\, Carrer Ametla\, Dénia\, 03700\, España
CATEGORIES:Deporte,Yoga
ATTACH;FMTTYPE=image/jpeg:https://disfruta-denia.com/wp-content/uploads/2024/04/434646199_763831909052991_4935718987723035666_n.jpg
END:VEVENT
BEGIN:VEVENT
DTSTART;TZID=Europe/Madrid:20240411T083000
DTEND;TZID=Europe/Madrid:20240411T083000
DTSTAMP:20260422T055440
CREATED:20231005T092619Z
LAST-MODIFIED:20231005T092702Z
UID:10014090-1712824200-1712824200@disfruta-denia.com
SUMMARY:Clase de Yoga en Códigos del Arte
DESCRIPTION:Clase de Yoga en Códigos del Arte
URL:https://disfruta-denia.com/evento/clase-de-yoga-en-codigos-del-arte/2024-04-11/
LOCATION:Códigos del Arte\, Carreró de Morant\, 8\, Dénia\, 03700\, España
CATEGORIES:Deporte,Yoga
ATTACH;FMTTYPE=image/jpeg:https://disfruta-denia.com/wp-content/uploads/2023/10/image_6487327.jpg
END:VEVENT
BEGIN:VEVENT
DTSTART;TZID=Europe/Madrid:20240414T093000
DTEND;TZID=Europe/Madrid:20240414T093000
DTSTAMP:20260422T055440
CREATED:20240320T094638Z
LAST-MODIFIED:20240407T101758Z
UID:10017827-1713087000-1713087000@disfruta-denia.com
SUMMARY:Excursión en familia : Torre del Gerro
DESCRIPTION:TORRE DEL GERRO. LES PLANES. PORT DE XÀBIA.  \nSenderisme a prop de la mar / senderismo cerca del mar. \nInscripció prèvia obligatòria fins a les 14 h del dijous anterior al correu: deniaviva@ayto-denia.es cal indicar nom complet\, edat i telèfon.  \nDinar: pícnic àrea recreativa de les Planes.  \nDesplaçament en autobús i vaixell. Duració: 7 h. Bitllet bus 1\,60 €. Vaixell: 10 €. \n  \nInscripción previa obligatoria hasta las 14 h del jueves anterior al correo: deniaviva@ayto-denia.es hay que indicar nombre completo\, edad y teléfono.\nComer: picnic  área recreativa de les Planes.\nDesplazamiento en autobús y barco. Duración: 7 h. Billete bus: 1\,60 €. Barco: 10 €.
URL:https://disfruta-denia.com/evento/excursion-en-familia-torre-del-gerro/
LOCATION:Muelle Mundo Marino\, Esplanada Cervantes\, 23\, Denia\, Alicante\, 03700\, España
CATEGORIES:Deporte,Excursión
ATTACH;FMTTYPE=image/png:https://disfruta-denia.com/wp-content/uploads/2024/03/unnamed-5.png
ORGANIZER;CN="Denia Cultura":MAILTO:cultura@ayto-denia.es
END:VEVENT
BEGIN:VEVENT
DTSTART;TZID=Europe/Madrid:20240414T100000
DTEND;TZID=Europe/Madrid:20240414T100000
DTSTAMP:20260422T055440
CREATED:20240403T083137Z
LAST-MODIFIED:20240403T083137Z
UID:10017865-1713088800-1713088800@disfruta-denia.com
SUMMARY:35º edición de la Regata Mare de Deu
DESCRIPTION:Llega la 35º edición de la Regata Mare de Deu organizado por el Club Rem Marina de Dénia a la Marina Dénia el próximo 14 de abril de 2024.\n\n\n A la regata participarán cerca de 600 deportistas y dará inicio a las 9h con las categorías Infantil\, Cadete\, Juvenil\, Absoluto y Veterano.\n\n\nA la presentación de la regata han estado presentes el Concejal de Deportes Valen Alcalà\, Vanessa Nicolau del Club de Rem Marina de Dénia y el Capitán de la Marina de Dénia Gabriel Martínez.
URL:https://disfruta-denia.com/evento/35o-edicion-de-la-regata-mare-de-deu/
LOCATION:Marina de Denia\, Puerto de Dénia\, Edificio Capitanía\, Dársena de Babor\, Denia\, Alicante\, 03700\, España
CATEGORIES:Deporte
ATTACH;FMTTYPE=image/jpeg:https://disfruta-denia.com/wp-content/uploads/2024/04/432936334_284669674675675_6417643038263501520_n.jpg
END:VEVENT
BEGIN:VEVENT
DTSTART;TZID=Europe/Madrid:20240416T083000
DTEND;TZID=Europe/Madrid:20240416T083000
DTSTAMP:20260422T055440
CREATED:20231005T092619Z
LAST-MODIFIED:20231005T092702Z
UID:10014091-1713256200-1713256200@disfruta-denia.com
SUMMARY:Clase de Yoga en Códigos del Arte
DESCRIPTION:Clase de Yoga en Códigos del Arte
URL:https://disfruta-denia.com/evento/clase-de-yoga-en-codigos-del-arte/2024-04-16/
LOCATION:Códigos del Arte\, Carreró de Morant\, 8\, Dénia\, 03700\, España
CATEGORIES:Deporte,Yoga
ATTACH;FMTTYPE=image/jpeg:https://disfruta-denia.com/wp-content/uploads/2023/10/image_6487327.jpg
END:VEVENT
BEGIN:VEVENT
DTSTART;TZID=Europe/Madrid:20240418T083000
DTEND;TZID=Europe/Madrid:20240418T083000
DTSTAMP:20260422T055440
CREATED:20231005T092619Z
LAST-MODIFIED:20231005T092702Z
UID:10014092-1713429000-1713429000@disfruta-denia.com
SUMMARY:Clase de Yoga en Códigos del Arte
DESCRIPTION:Clase de Yoga en Códigos del Arte
URL:https://disfruta-denia.com/evento/clase-de-yoga-en-codigos-del-arte/2024-04-18/
LOCATION:Códigos del Arte\, Carreró de Morant\, 8\, Dénia\, 03700\, España
CATEGORIES:Deporte,Yoga
ATTACH;FMTTYPE=image/jpeg:https://disfruta-denia.com/wp-content/uploads/2023/10/image_6487327.jpg
END:VEVENT
BEGIN:VEVENT
DTSTART;TZID=Europe/Madrid:20240420T110000
DTEND;TZID=Europe/Madrid:20240420T133000
DTSTAMP:20260422T055440
CREATED:20240202T162703Z
LAST-MODIFIED:20240202T162703Z
UID:10017125-1713610800-1713619800@disfruta-denia.com
SUMMARY:Workshop: flexibilidad de espalda
DESCRIPTION:Súper WORKSHOP con Blanca García @caoviin\n\n\nTe traemos estos dos talleres de FLEXIBILIDAD a cargo de esta gran profesional.\n\n\nEntrenadora de flexibilidad y movilidad especialzada en contorsión y entrenamiento desde un enfoque biomecánico. Su objetivo es ayudar a personas de diferentes disciplinas y niveles a lograr sus objetivos y descubrir el potencial de sus cuerpos.\n\n\n2 talleres:\nSábado 20 de abril de 11-13.30h Centrado en la espalda.\nDomingo 21 de abril de 11-13.30 h. Centrado en piernas.\n\n\nPrecio:\n75€ 1 taller\n125€ Los 2 talleres\n\n\nGuarda la fecha y Apúntate en el 689254622\n\n\n¡No subestimes el poder de estirar tus músculos!
URL:https://disfruta-denia.com/evento/workshop-flexibilidad-de-espalda/
LOCATION:La Marina Social Club\, Partida Madrigueres Sud\, 67. Polígono Industrial Dénia\, Denia\, Alicante\, 03700\, España
CATEGORIES:Deporte
ATTACH;FMTTYPE=image/jpeg:https://disfruta-denia.com/wp-content/uploads/2024/02/421926552_742778231283793_3743489372395662787_n.jpg
END:VEVENT
BEGIN:VEVENT
DTSTART;TZID=Europe/Madrid:20240420T160000
DTEND;TZID=Europe/Madrid:20240420T160000
DTSTAMP:20260422T055440
CREATED:20240416T074408Z
LAST-MODIFIED:20240416T074408Z
UID:10018177-1713628800-1713628800@disfruta-denia.com
SUMMARY:VOLTA A PEU DÉNIA 2024 – 9\,9k
DESCRIPTION:Este sábado llega a Dénia el XXVI Circuito a pie de la Marina Alta \, con la Vuelta a la localidad\, un circuito urbano de 10 km. ¿Estás preparad@?  Sábado\, 20 abril 2024 Salida y meta: Calle Marqués de Campo. Carreras infantiles 16 h.Carreras adultos: 18.30 h.
URL:https://disfruta-denia.com/evento/volta-a-peu-denia-2024-99k/
LOCATION:Carrer del Marqués de Campo\, Carrer del Marqués de Campo\, Denia\, Alicante\, 03700\, España
CATEGORIES:Deporte
ATTACH;FMTTYPE=image/png:https://disfruta-denia.com/wp-content/uploads/2024/04/Volta-a-peu-Denia-2024.png
END:VEVENT
BEGIN:VEVENT
DTSTART;TZID=Europe/Madrid:20240421T110000
DTEND;TZID=Europe/Madrid:20240421T133000
DTSTAMP:20260422T055440
CREATED:20240202T162815Z
LAST-MODIFIED:20240202T162815Z
UID:10017126-1713697200-1713706200@disfruta-denia.com
SUMMARY:Workshop: flexibilidad de piernas
DESCRIPTION:Súper WORKSHOP con Blanca García @caoviin\n\n\nTe traemos estos dos talleres de FLEXIBILIDAD a cargo de esta gran profesional.\n\n\nEntrenadora de flexibilidad y movilidad especialzada en contorsión y entrenamiento desde un enfoque biomecánico. Su objetivo es ayudar a personas de diferentes disciplinas y niveles a lograr sus objetivos y descubrir el potencial de sus cuerpos.\n\n\n2 talleres:\nSábado 20 de abril de 11-13.30h Centrado en la espalda.\nDomingo 21 de abril de 11-13.30 h. Centrado en piernas.\n\n\nPrecio:\n75€ 1 taller\n125€ Los 2 talleres\n\n\nGuarda la fecha y Apúntate en el 689254622\n\n\n¡No subestimes el poder de estirar tus músculos!
URL:https://disfruta-denia.com/evento/workshop-flexibilidad-de-piernas/
LOCATION:La Marina Social Club\, Partida Madrigueres Sud\, 67. Polígono Industrial Dénia\, Denia\, Alicante\, 03700\, España
CATEGORIES:Deporte
ATTACH;FMTTYPE=image/jpeg:https://disfruta-denia.com/wp-content/uploads/2024/02/421861401_742778234617126_5903865800964125466_n.jpg
END:VEVENT
BEGIN:VEVENT
DTSTART;TZID=Europe/Madrid:20240423T083000
DTEND;TZID=Europe/Madrid:20240423T083000
DTSTAMP:20260422T055440
CREATED:20231005T092619Z
LAST-MODIFIED:20231005T092702Z
UID:10014093-1713861000-1713861000@disfruta-denia.com
SUMMARY:Clase de Yoga en Códigos del Arte
DESCRIPTION:Clase de Yoga en Códigos del Arte
URL:https://disfruta-denia.com/evento/clase-de-yoga-en-codigos-del-arte/2024-04-23/
LOCATION:Códigos del Arte\, Carreró de Morant\, 8\, Dénia\, 03700\, España
CATEGORIES:Deporte,Yoga
ATTACH;FMTTYPE=image/jpeg:https://disfruta-denia.com/wp-content/uploads/2023/10/image_6487327.jpg
END:VEVENT
BEGIN:VEVENT
DTSTART;TZID=Europe/Madrid:20240425T083000
DTEND;TZID=Europe/Madrid:20240425T083000
DTSTAMP:20260422T055440
CREATED:20231005T092619Z
LAST-MODIFIED:20231005T092702Z
UID:10014094-1714033800-1714033800@disfruta-denia.com
SUMMARY:Clase de Yoga en Códigos del Arte
DESCRIPTION:Clase de Yoga en Códigos del Arte
URL:https://disfruta-denia.com/evento/clase-de-yoga-en-codigos-del-arte/2024-04-25/
LOCATION:Códigos del Arte\, Carreró de Morant\, 8\, Dénia\, 03700\, España
CATEGORIES:Deporte,Yoga
ATTACH;FMTTYPE=image/jpeg:https://disfruta-denia.com/wp-content/uploads/2023/10/image_6487327.jpg
END:VEVENT
BEGIN:VEVENT
DTSTART;TZID=Europe/Madrid:20240428T090000
DTEND;TZID=Europe/Madrid:20240428T090000
DTSTAMP:20260422T055440
CREATED:20240422T083525Z
LAST-MODIFIED:20240422T083525Z
UID:10018184-1714294800-1714294800@disfruta-denia.com
SUMMARY:VI MARCHA LA GAMBA
DESCRIPTION:VI MARCHA LA GAMBA – HOMENAJE A EMILIO CALERO  MARCHA CICLOTURISTA El  domingo 28 de abril tendrá lugar la  VI Marcha la Gamba Dénia\, donde el club Unión Ciclista Montgó hará un homenaje a su socio\, Emilio Calero. Recorrido:Los corredores harán un total de  126 km con un desnivel de  2.100 metros y se subirán los  puertos de montaña de; la Llosa de Camatxo\, Pla de Petracos\, la Cueva del Rull\, Tollos y Sa Creueta\, siendo este último ascenso el tramo que será  cronometrado. Salida y Meta:  La salida y  meta será en el Polideportivo Municipal de Dénia Horarios: Salida a partir de las 9:00 h. Llegada aproximada de los primeros participantes a partir de las 13:00 h. Entrega de trofeos a las 13:30 h. Más información e inscripciones: enlace abajo Apúntate a disfrutar del  ciclismo y de  nuestra comarca!! 
URL:https://disfruta-denia.com/evento/vi-marcha-la-gamba/
LOCATION:Polideportivo municipal de Denia\, Camí del Regatxo\, 6\, Denia\, Alicante\, 03700\, España
CATEGORIES:Deporte
ATTACH;FMTTYPE=image/jpeg:https://disfruta-denia.com/wp-content/uploads/2024/04/438093728_293826270426682_6397690304088366450_n-1.jpg
ORGANIZER;CN="Uni%C3%B3 Ciclista Montgo D%C3%A9nia":MAILTO:unionciclistamontgo@gmail.com
END:VEVENT
BEGIN:VEVENT
DTSTART;TZID=Europe/Madrid:20240430T083000
DTEND;TZID=Europe/Madrid:20240430T083000
DTSTAMP:20260422T055440
CREATED:20231005T092619Z
LAST-MODIFIED:20231005T092702Z
UID:10014095-1714465800-1714465800@disfruta-denia.com
SUMMARY:Clase de Yoga en Códigos del Arte
DESCRIPTION:Clase de Yoga en Códigos del Arte
URL:https://disfruta-denia.com/evento/clase-de-yoga-en-codigos-del-arte/2024-04-30/
LOCATION:Códigos del Arte\, Carreró de Morant\, 8\, Dénia\, 03700\, España
CATEGORIES:Deporte,Yoga
ATTACH;FMTTYPE=image/jpeg:https://disfruta-denia.com/wp-content/uploads/2023/10/image_6487327.jpg
END:VEVENT
END:VCALENDAR