BEGIN:VCALENDAR
VERSION:2.0
PRODID:-//Disfruta Denia - ECPv6.15.20//NONSGML v1.0//EN
CALSCALE:GREGORIAN
METHOD:PUBLISH
X-WR-CALNAME:Disfruta Denia
X-ORIGINAL-URL:https://disfruta-denia.com
X-WR-CALDESC:Eventos para Disfruta Denia
REFRESH-INTERVAL;VALUE=DURATION:PT1H
X-Robots-Tag:noindex
X-PUBLISHED-TTL:PT1H
BEGIN:VTIMEZONE
TZID:Europe/Madrid
BEGIN:DAYLIGHT
TZOFFSETFROM:+0100
TZOFFSETTO:+0200
TZNAME:CEST
DTSTART:20230326T010000
END:DAYLIGHT
BEGIN:STANDARD
TZOFFSETFROM:+0200
TZOFFSETTO:+0100
TZNAME:CET
DTSTART:20231029T010000
END:STANDARD
BEGIN:DAYLIGHT
TZOFFSETFROM:+0100
TZOFFSETTO:+0200
TZNAME:CEST
DTSTART:20240331T010000
END:DAYLIGHT
BEGIN:STANDARD
TZOFFSETFROM:+0200
TZOFFSETTO:+0100
TZNAME:CET
DTSTART:20241027T010000
END:STANDARD
BEGIN:DAYLIGHT
TZOFFSETFROM:+0100
TZOFFSETTO:+0200
TZNAME:CEST
DTSTART:20250330T010000
END:DAYLIGHT
BEGIN:STANDARD
TZOFFSETFROM:+0200
TZOFFSETTO:+0100
TZNAME:CET
DTSTART:20251026T010000
END:STANDARD
END:VTIMEZONE
BEGIN:VEVENT
DTSTART;TZID=Europe/Madrid:20240702T083000
DTEND;TZID=Europe/Madrid:20240702T083000
DTSTAMP:20260422T000557
CREATED:20231005T092619Z
LAST-MODIFIED:20231005T092702Z
UID:10014113-1719909000-1719909000@disfruta-denia.com
SUMMARY:Clase de Yoga en Códigos del Arte
DESCRIPTION:Clase de Yoga en Códigos del Arte
URL:https://disfruta-denia.com/evento/clase-de-yoga-en-codigos-del-arte/2024-07-02/
LOCATION:Códigos del Arte\, Carreró de Morant\, 8\, Dénia\, 03700\, España
CATEGORIES:Deporte,Yoga
ATTACH;FMTTYPE=image/jpeg:https://disfruta-denia.com/wp-content/uploads/2023/10/image_6487327.jpg
END:VEVENT
BEGIN:VEVENT
DTSTART;TZID=Europe/Madrid:20240704T083000
DTEND;TZID=Europe/Madrid:20240704T083000
DTSTAMP:20260422T000557
CREATED:20231005T092619Z
LAST-MODIFIED:20231005T092702Z
UID:10014114-1720081800-1720081800@disfruta-denia.com
SUMMARY:Clase de Yoga en Códigos del Arte
DESCRIPTION:Clase de Yoga en Códigos del Arte
URL:https://disfruta-denia.com/evento/clase-de-yoga-en-codigos-del-arte/2024-07-04/
LOCATION:Códigos del Arte\, Carreró de Morant\, 8\, Dénia\, 03700\, España
CATEGORIES:Deporte,Yoga
ATTACH;FMTTYPE=image/jpeg:https://disfruta-denia.com/wp-content/uploads/2023/10/image_6487327.jpg
END:VEVENT
BEGIN:VEVENT
DTSTART;TZID=Europe/Madrid:20240709T083000
DTEND;TZID=Europe/Madrid:20240709T083000
DTSTAMP:20260422T000557
CREATED:20231005T092619Z
LAST-MODIFIED:20231005T092702Z
UID:10014115-1720513800-1720513800@disfruta-denia.com
SUMMARY:Clase de Yoga en Códigos del Arte
DESCRIPTION:Clase de Yoga en Códigos del Arte
URL:https://disfruta-denia.com/evento/clase-de-yoga-en-codigos-del-arte/2024-07-09/
LOCATION:Códigos del Arte\, Carreró de Morant\, 8\, Dénia\, 03700\, España
CATEGORIES:Deporte,Yoga
ATTACH;FMTTYPE=image/jpeg:https://disfruta-denia.com/wp-content/uploads/2023/10/image_6487327.jpg
END:VEVENT
BEGIN:VEVENT
DTSTART;TZID=Europe/Madrid:20240711T083000
DTEND;TZID=Europe/Madrid:20240711T083000
DTSTAMP:20260422T000557
CREATED:20231005T092619Z
LAST-MODIFIED:20231005T092702Z
UID:10014116-1720686600-1720686600@disfruta-denia.com
SUMMARY:Clase de Yoga en Códigos del Arte
DESCRIPTION:Clase de Yoga en Códigos del Arte
URL:https://disfruta-denia.com/evento/clase-de-yoga-en-codigos-del-arte/2024-07-11/
LOCATION:Códigos del Arte\, Carreró de Morant\, 8\, Dénia\, 03700\, España
CATEGORIES:Deporte,Yoga
ATTACH;FMTTYPE=image/jpeg:https://disfruta-denia.com/wp-content/uploads/2023/10/image_6487327.jpg
END:VEVENT
BEGIN:VEVENT
DTSTART;TZID=Europe/Madrid:20240716T083000
DTEND;TZID=Europe/Madrid:20240716T083000
DTSTAMP:20260422T000557
CREATED:20231005T092619Z
LAST-MODIFIED:20231005T092702Z
UID:10014117-1721118600-1721118600@disfruta-denia.com
SUMMARY:Clase de Yoga en Códigos del Arte
DESCRIPTION:Clase de Yoga en Códigos del Arte
URL:https://disfruta-denia.com/evento/clase-de-yoga-en-codigos-del-arte/2024-07-16/
LOCATION:Códigos del Arte\, Carreró de Morant\, 8\, Dénia\, 03700\, España
CATEGORIES:Deporte,Yoga
ATTACH;FMTTYPE=image/jpeg:https://disfruta-denia.com/wp-content/uploads/2023/10/image_6487327.jpg
END:VEVENT
BEGIN:VEVENT
DTSTART;TZID=Europe/Madrid:20240718T083000
DTEND;TZID=Europe/Madrid:20240718T083000
DTSTAMP:20260422T000557
CREATED:20231005T092619Z
LAST-MODIFIED:20231005T092702Z
UID:10014118-1721291400-1721291400@disfruta-denia.com
SUMMARY:Clase de Yoga en Códigos del Arte
DESCRIPTION:Clase de Yoga en Códigos del Arte
URL:https://disfruta-denia.com/evento/clase-de-yoga-en-codigos-del-arte/2024-07-18/
LOCATION:Códigos del Arte\, Carreró de Morant\, 8\, Dénia\, 03700\, España
CATEGORIES:Deporte,Yoga
ATTACH;FMTTYPE=image/jpeg:https://disfruta-denia.com/wp-content/uploads/2023/10/image_6487327.jpg
END:VEVENT
BEGIN:VEVENT
DTSTART;TZID=Europe/Madrid:20240723T083000
DTEND;TZID=Europe/Madrid:20240723T083000
DTSTAMP:20260422T000557
CREATED:20231005T092619Z
LAST-MODIFIED:20231005T092702Z
UID:10014119-1721723400-1721723400@disfruta-denia.com
SUMMARY:Clase de Yoga en Códigos del Arte
DESCRIPTION:Clase de Yoga en Códigos del Arte
URL:https://disfruta-denia.com/evento/clase-de-yoga-en-codigos-del-arte/2024-07-23/
LOCATION:Códigos del Arte\, Carreró de Morant\, 8\, Dénia\, 03700\, España
CATEGORIES:Deporte,Yoga
ATTACH;FMTTYPE=image/jpeg:https://disfruta-denia.com/wp-content/uploads/2023/10/image_6487327.jpg
END:VEVENT
BEGIN:VEVENT
DTSTART;TZID=Europe/Madrid:20240725T083000
DTEND;TZID=Europe/Madrid:20240725T083000
DTSTAMP:20260422T000557
CREATED:20231005T092619Z
LAST-MODIFIED:20231005T092702Z
UID:10014120-1721896200-1721896200@disfruta-denia.com
SUMMARY:Clase de Yoga en Códigos del Arte
DESCRIPTION:Clase de Yoga en Códigos del Arte
URL:https://disfruta-denia.com/evento/clase-de-yoga-en-codigos-del-arte/2024-07-25/
LOCATION:Códigos del Arte\, Carreró de Morant\, 8\, Dénia\, 03700\, España
CATEGORIES:Deporte,Yoga
ATTACH;FMTTYPE=image/jpeg:https://disfruta-denia.com/wp-content/uploads/2023/10/image_6487327.jpg
END:VEVENT
BEGIN:VEVENT
DTSTART;TZID=Europe/Madrid:20240728T090000
DTEND;TZID=Europe/Madrid:20240728T110000
DTSTAMP:20260422T000557
CREATED:20240726T122131Z
LAST-MODIFIED:20240726T122131Z
UID:10019139-1722157200-1722164400@disfruta-denia.com
SUMMARY:Travesía a nado Las Rotas
DESCRIPTION:TRAVESÍA LAS ROTAS  Modalidad: Aguas Abiertas Uso recordamos que el próximo domingo\,  28 de julio se celebrará la  1ª edición de la  «Travesía a nado Las Rotas» un acontecimiento deportivo en un entorno privilegiado en las  Rotas\, que se convertirá en un referente para los amantes de la  natación y del mar… Una travesía para todos los públicos. Edades y Distancias: Full Distance: 3\,6 km\, a partir de 14 años Half Distance: 1\,8 km\, a partir de 14 años 600 metros: Niños nacidos entre 2011-2015 200 metros: Niños nacidos entre 2016-2018 Horario de las pruebas:A las 09.00 h\, 11.00 h y 11.15 h. Organiza: Club Natación Dénia. Más información en: https://www.crono4sports.es/info_fusion.php?Evento=1996… Ven a disfrutar del deporte en un entorno formidable!!! 
URL:https://disfruta-denia.com/evento/travesia-a-nado-las-rotas/
LOCATION:Restaurante Mena\, Km 5 Carretera Las Rotas\, Denia\, 03700\, España
CATEGORIES:Deporte
ATTACH;FMTTYPE=image/jpeg:https://disfruta-denia.com/wp-content/uploads/2024/07/452755466_357566234052685_5153484085694658826_n.jpg
END:VEVENT
BEGIN:VEVENT
DTSTART;TZID=Europe/Madrid:20240730T083000
DTEND;TZID=Europe/Madrid:20240730T083000
DTSTAMP:20260422T000557
CREATED:20231005T092619Z
LAST-MODIFIED:20231005T092702Z
UID:10014121-1722328200-1722328200@disfruta-denia.com
SUMMARY:Clase de Yoga en Códigos del Arte
DESCRIPTION:Clase de Yoga en Códigos del Arte
URL:https://disfruta-denia.com/evento/clase-de-yoga-en-codigos-del-arte/2024-07-30/
LOCATION:Códigos del Arte\, Carreró de Morant\, 8\, Dénia\, 03700\, España
CATEGORIES:Deporte,Yoga
ATTACH;FMTTYPE=image/jpeg:https://disfruta-denia.com/wp-content/uploads/2023/10/image_6487327.jpg
END:VEVENT
END:VCALENDAR