BEGIN:VCALENDAR
VERSION:2.0
PRODID:-//Disfruta Denia - ECPv6.15.20//NONSGML v1.0//EN
CALSCALE:GREGORIAN
METHOD:PUBLISH
X-WR-CALNAME:Disfruta Denia
X-ORIGINAL-URL:https://disfruta-denia.com
X-WR-CALDESC:Eventos para Disfruta Denia
REFRESH-INTERVAL;VALUE=DURATION:PT1H
X-Robots-Tag:noindex
X-PUBLISHED-TTL:PT1H
BEGIN:VTIMEZONE
TZID:Europe/Madrid
BEGIN:DAYLIGHT
TZOFFSETFROM:+0100
TZOFFSETTO:+0200
TZNAME:CEST
DTSTART:20230326T010000
END:DAYLIGHT
BEGIN:STANDARD
TZOFFSETFROM:+0200
TZOFFSETTO:+0100
TZNAME:CET
DTSTART:20231029T010000
END:STANDARD
BEGIN:DAYLIGHT
TZOFFSETFROM:+0100
TZOFFSETTO:+0200
TZNAME:CEST
DTSTART:20240331T010000
END:DAYLIGHT
BEGIN:STANDARD
TZOFFSETFROM:+0200
TZOFFSETTO:+0100
TZNAME:CET
DTSTART:20241027T010000
END:STANDARD
BEGIN:DAYLIGHT
TZOFFSETFROM:+0100
TZOFFSETTO:+0200
TZNAME:CEST
DTSTART:20250330T010000
END:DAYLIGHT
BEGIN:STANDARD
TZOFFSETFROM:+0200
TZOFFSETTO:+0100
TZNAME:CET
DTSTART:20251026T010000
END:STANDARD
END:VTIMEZONE
BEGIN:VEVENT
DTSTART;TZID=Europe/Madrid:20241203T083000
DTEND;TZID=Europe/Madrid:20241203T083000
DTSTAMP:20260421T153158
CREATED:20231005T092619Z
LAST-MODIFIED:20231005T092702Z
UID:10014157-1733214600-1733214600@disfruta-denia.com
SUMMARY:Clase de Yoga en Códigos del Arte
DESCRIPTION:Clase de Yoga en Códigos del Arte
URL:https://disfruta-denia.com/evento/clase-de-yoga-en-codigos-del-arte/2024-12-03/
LOCATION:Códigos del Arte\, Carreró de Morant\, 8\, Dénia\, 03700\, España
CATEGORIES:Deporte,Yoga
ATTACH;FMTTYPE=image/jpeg:https://disfruta-denia.com/wp-content/uploads/2023/10/image_6487327.jpg
END:VEVENT
BEGIN:VEVENT
DTSTART;TZID=Europe/Madrid:20241205T083000
DTEND;TZID=Europe/Madrid:20241205T083000
DTSTAMP:20260421T153158
CREATED:20231005T092619Z
LAST-MODIFIED:20231005T092702Z
UID:10014158-1733387400-1733387400@disfruta-denia.com
SUMMARY:Clase de Yoga en Códigos del Arte
DESCRIPTION:Clase de Yoga en Códigos del Arte
URL:https://disfruta-denia.com/evento/clase-de-yoga-en-codigos-del-arte/2024-12-05/
LOCATION:Códigos del Arte\, Carreró de Morant\, 8\, Dénia\, 03700\, España
CATEGORIES:Deporte,Yoga
ATTACH;FMTTYPE=image/jpeg:https://disfruta-denia.com/wp-content/uploads/2023/10/image_6487327.jpg
END:VEVENT
BEGIN:VEVENT
DTSTART;TZID=Europe/Madrid:20241207T123000
DTEND;TZID=Europe/Madrid:20241207T143000
DTSTAMP:20260421T153158
CREATED:20240831T102958Z
LAST-MODIFIED:20240831T103121Z
UID:10019273-1733574600-1733581800@disfruta-denia.com
SUMMARY:Fusión de sentidos - degustación a bordo
DESCRIPTION:Navega con una degustación de tapas a bordo\, concierto de música en vivo y la magia de un artista creando pinturas del mar en directo!\nA continuación\, exposición de pinturas en el restaurante Místico del 22 septiembre al 22 de octubre en la plaza del Convent\, 6\, 03700\, Denia.\n• Música: Altea Bues Proyect\n• Restaurante: Místico Restaurante\n• Pintor: Hans Petter Fjugstad
URL:https://disfruta-denia.com/evento/fusion-de-sentidos-degustacion-a-bordo/2024-12-07/
LOCATION:Muelle Mundo Marino\, Esplanada Cervantes\, 23\, Denia\, Alicante\, 03700\, España
CATEGORIES:Cata,Cultura,Excursión,Exposiciones,Gastronomía
ATTACH;FMTTYPE=image/jpeg:https://disfruta-denia.com/wp-content/uploads/2024/08/457361108_1064261152368457_851324482060992919_n.jpg
END:VEVENT
BEGIN:VEVENT
DTSTART;TZID=Europe/Madrid:20241208T103000
DTEND;TZID=Europe/Madrid:20241208T103000
DTSTAMP:20260421T153158
CREATED:20241118T095140Z
LAST-MODIFIED:20241118T095140Z
UID:10020296-1733653800-1733653800@disfruta-denia.com
SUMMARY:VISITA EN FAMÍLIA
DESCRIPTION:LA COVA DE L’AIGUA. INSCRIPCIÓ ROMANA I ARQUITECTURA HIDRÀULICA. \nLloc d’encontre / Lugar de encuentro: ermita del Pare Pere\, camí de la Cova de l’Aigua\, núm. 25 \nInformació i reserves / Información y reservas: Museu Etnològic de Dénia\, 966420260.  \nDe dimarts a diumenge/ martes a domingo\, de 10 h a 13 h.  \nVisita amb guia expert. Dificultat mitjana/ Visita con guía experto. Dificultad media.cul
URL:https://disfruta-denia.com/evento/visita-en-familia-2/
LOCATION:Denia\, Denia\, Alicante\, 03700\, España
CATEGORIES:Deporte,Excursión
ATTACH;FMTTYPE=image/png:https://disfruta-denia.com/wp-content/uploads/2024/11/FAMILIA.png
END:VEVENT
BEGIN:VEVENT
DTSTART;TZID=Europe/Madrid:20241210T083000
DTEND;TZID=Europe/Madrid:20241210T083000
DTSTAMP:20260421T153158
CREATED:20231005T092619Z
LAST-MODIFIED:20231005T092702Z
UID:10014159-1733819400-1733819400@disfruta-denia.com
SUMMARY:Clase de Yoga en Códigos del Arte
DESCRIPTION:Clase de Yoga en Códigos del Arte
URL:https://disfruta-denia.com/evento/clase-de-yoga-en-codigos-del-arte/2024-12-10/
LOCATION:Códigos del Arte\, Carreró de Morant\, 8\, Dénia\, 03700\, España
CATEGORIES:Deporte,Yoga
ATTACH;FMTTYPE=image/jpeg:https://disfruta-denia.com/wp-content/uploads/2023/10/image_6487327.jpg
END:VEVENT
BEGIN:VEVENT
DTSTART;TZID=Europe/Madrid:20241212T083000
DTEND;TZID=Europe/Madrid:20241212T083000
DTSTAMP:20260421T153158
CREATED:20231005T092619Z
LAST-MODIFIED:20231005T092702Z
UID:10014160-1733992200-1733992200@disfruta-denia.com
SUMMARY:Clase de Yoga en Códigos del Arte
DESCRIPTION:Clase de Yoga en Códigos del Arte
URL:https://disfruta-denia.com/evento/clase-de-yoga-en-codigos-del-arte/2024-12-12/
LOCATION:Códigos del Arte\, Carreró de Morant\, 8\, Dénia\, 03700\, España
CATEGORIES:Deporte,Yoga
ATTACH;FMTTYPE=image/jpeg:https://disfruta-denia.com/wp-content/uploads/2023/10/image_6487327.jpg
END:VEVENT
BEGIN:VEVENT
DTSTART;TZID=Europe/Madrid:20241217T083000
DTEND;TZID=Europe/Madrid:20241217T083000
DTSTAMP:20260421T153158
CREATED:20231005T092619Z
LAST-MODIFIED:20231005T092702Z
UID:10014161-1734424200-1734424200@disfruta-denia.com
SUMMARY:Clase de Yoga en Códigos del Arte
DESCRIPTION:Clase de Yoga en Códigos del Arte
URL:https://disfruta-denia.com/evento/clase-de-yoga-en-codigos-del-arte/2024-12-17/
LOCATION:Códigos del Arte\, Carreró de Morant\, 8\, Dénia\, 03700\, España
CATEGORIES:Deporte,Yoga
ATTACH;FMTTYPE=image/jpeg:https://disfruta-denia.com/wp-content/uploads/2023/10/image_6487327.jpg
END:VEVENT
BEGIN:VEVENT
DTSTART;TZID=Europe/Madrid:20241219T083000
DTEND;TZID=Europe/Madrid:20241219T083000
DTSTAMP:20260421T153158
CREATED:20231005T092619Z
LAST-MODIFIED:20231005T092702Z
UID:10014162-1734597000-1734597000@disfruta-denia.com
SUMMARY:Clase de Yoga en Códigos del Arte
DESCRIPTION:Clase de Yoga en Códigos del Arte
URL:https://disfruta-denia.com/evento/clase-de-yoga-en-codigos-del-arte/2024-12-19/
LOCATION:Códigos del Arte\, Carreró de Morant\, 8\, Dénia\, 03700\, España
CATEGORIES:Deporte,Yoga
ATTACH;FMTTYPE=image/jpeg:https://disfruta-denia.com/wp-content/uploads/2023/10/image_6487327.jpg
END:VEVENT
BEGIN:VEVENT
DTSTART;TZID=Europe/Madrid:20241220T180000
DTEND;TZID=Europe/Madrid:20241220T180000
DTSTAMP:20260421T153158
CREATED:20241218T112700Z
LAST-MODIFIED:20241218T112700Z
UID:10020352-1734717600-1734717600@disfruta-denia.com
SUMMARY:26ª COPA DE RASPALL MASCULINA Y FEMENINA
DESCRIPTION:🏆 FINALES TROFEO DIPUTACIÓN DE VALÈNCIA 2024 \n👉 Los próximos días del 20 al 22 de diciembre\, tendrán lugar en el 📍 Trinquet Municipal «El Rovellet» de Dénia\, las 🥇🥈🥉 finales de 4.ª A y B\, 3.ª A y B\, 2.ª A y B y de 1.ª A en categoría sénior\, tanto masculina como femenina\, de la 🏆 XXVI Copa de Raspall – Trofeo Diputación de València 2024. \n🕖 Horarios: \n– Viernes 20 de diciembre – A partir de las 18.00 (finales categorías masculinas) \n– Sábado 21 de diciembre – De 10.00 a 12.00 h y de 15.30 a 19.00 h (finales categorías femeninas) \n– Domingo 22 de diciembre – De 10.00 a 12.30 h y de 15.30 a 17.30 h (finales categorías masculinas) \n✅ Organiza: Federació de Pilota Valenciana \n🫠 Te esperamos para disfrutar de nuestro deporte!! 💛💙
URL:https://disfruta-denia.com/evento/26a-copa-de-raspall-masculina-y-femenina/2024-12-20/
LOCATION:Trinquet El Rovellet\, Camí del Regatxo\, 6\, Denia\, Alicante\, 03700\, España
CATEGORIES:Deporte
ATTACH;FMTTYPE=image/jpeg:https://disfruta-denia.com/wp-content/uploads/2024/12/IMG_8D8C8E2BD009-2.jpeg
END:VEVENT
BEGIN:VEVENT
DTSTART;TZID=Europe/Madrid:20241221T100000
DTEND;TZID=Europe/Madrid:20241221T170000
DTSTAMP:20260421T153158
CREATED:20241218T112700Z
LAST-MODIFIED:20241218T112700Z
UID:10020353-1734775200-1734800400@disfruta-denia.com
SUMMARY:26ª COPA DE RASPALL MASCULINA Y FEMENINA
DESCRIPTION:🏆 FINALES TROFEO DIPUTACIÓN DE VALÈNCIA 2024 \n👉 Los próximos días del 20 al 22 de diciembre\, tendrán lugar en el 📍 Trinquet Municipal «El Rovellet» de Dénia\, las 🥇🥈🥉 finales de 4.ª A y B\, 3.ª A y B\, 2.ª A y B y de 1.ª A en categoría sénior\, tanto masculina como femenina\, de la 🏆 XXVI Copa de Raspall – Trofeo Diputación de València 2024. \n🕖 Horarios: \n– Viernes 20 de diciembre – A partir de las 18.00 (finales categorías masculinas) \n– Sábado 21 de diciembre – De 10.00 a 12.00 h y de 15.30 a 19.00 h (finales categorías femeninas) \n– Domingo 22 de diciembre – De 10.00 a 12.30 h y de 15.30 a 17.30 h (finales categorías masculinas) \n✅ Organiza: Federació de Pilota Valenciana \n🫠 Te esperamos para disfrutar de nuestro deporte!! 💛💙
URL:https://disfruta-denia.com/evento/26a-copa-de-raspall-masculina-y-femenina/2024-12-21/
LOCATION:Trinquet El Rovellet\, Camí del Regatxo\, 6\, Denia\, Alicante\, 03700\, España
CATEGORIES:Deporte
ATTACH;FMTTYPE=image/jpeg:https://disfruta-denia.com/wp-content/uploads/2024/12/IMG_8D8C8E2BD009-2.jpeg
END:VEVENT
BEGIN:VEVENT
DTSTART;TZID=Europe/Madrid:20241222T100000
DTEND;TZID=Europe/Madrid:20241222T193000
DTSTAMP:20260421T153158
CREATED:20241218T112700Z
LAST-MODIFIED:20241218T112700Z
UID:10020354-1734861600-1734895800@disfruta-denia.com
SUMMARY:26ª COPA DE RASPALL MASCULINA Y FEMENINA
DESCRIPTION:🏆 FINALES TROFEO DIPUTACIÓN DE VALÈNCIA 2024 \n👉 Los próximos días del 20 al 22 de diciembre\, tendrán lugar en el 📍 Trinquet Municipal «El Rovellet» de Dénia\, las 🥇🥈🥉 finales de 4.ª A y B\, 3.ª A y B\, 2.ª A y B y de 1.ª A en categoría sénior\, tanto masculina como femenina\, de la 🏆 XXVI Copa de Raspall – Trofeo Diputación de València 2024. \n🕖 Horarios: \n– Viernes 20 de diciembre – A partir de las 18.00 (finales categorías masculinas) \n– Sábado 21 de diciembre – De 10.00 a 12.00 h y de 15.30 a 19.00 h (finales categorías femeninas) \n– Domingo 22 de diciembre – De 10.00 a 12.30 h y de 15.30 a 17.30 h (finales categorías masculinas) \n✅ Organiza: Federació de Pilota Valenciana \n🫠 Te esperamos para disfrutar de nuestro deporte!! 💛💙
URL:https://disfruta-denia.com/evento/26a-copa-de-raspall-masculina-y-femenina/2024-12-22/
LOCATION:Trinquet El Rovellet\, Camí del Regatxo\, 6\, Denia\, Alicante\, 03700\, España
CATEGORIES:Deporte
ATTACH;FMTTYPE=image/jpeg:https://disfruta-denia.com/wp-content/uploads/2024/12/IMG_8D8C8E2BD009-2.jpeg
END:VEVENT
BEGIN:VEVENT
DTSTART;TZID=Europe/Madrid:20241224T083000
DTEND;TZID=Europe/Madrid:20241224T083000
DTSTAMP:20260421T153158
CREATED:20231005T092619Z
LAST-MODIFIED:20231005T092702Z
UID:10014163-1735029000-1735029000@disfruta-denia.com
SUMMARY:Clase de Yoga en Códigos del Arte
DESCRIPTION:Clase de Yoga en Códigos del Arte
URL:https://disfruta-denia.com/evento/clase-de-yoga-en-codigos-del-arte/2024-12-24/
LOCATION:Códigos del Arte\, Carreró de Morant\, 8\, Dénia\, 03700\, España
CATEGORIES:Deporte,Yoga
ATTACH;FMTTYPE=image/jpeg:https://disfruta-denia.com/wp-content/uploads/2023/10/image_6487327.jpg
END:VEVENT
BEGIN:VEVENT
DTSTART;TZID=Europe/Madrid:20241226T083000
DTEND;TZID=Europe/Madrid:20241226T083000
DTSTAMP:20260421T153158
CREATED:20231005T092619Z
LAST-MODIFIED:20231005T092702Z
UID:10014164-1735201800-1735201800@disfruta-denia.com
SUMMARY:Clase de Yoga en Códigos del Arte
DESCRIPTION:Clase de Yoga en Códigos del Arte
URL:https://disfruta-denia.com/evento/clase-de-yoga-en-codigos-del-arte/2024-12-26/
LOCATION:Códigos del Arte\, Carreró de Morant\, 8\, Dénia\, 03700\, España
CATEGORIES:Deporte,Yoga
ATTACH;FMTTYPE=image/jpeg:https://disfruta-denia.com/wp-content/uploads/2023/10/image_6487327.jpg
END:VEVENT
BEGIN:VEVENT
DTSTART;TZID=Europe/Madrid:20241230T193000
DTEND;TZID=Europe/Madrid:20241230T193000
DTSTAMP:20260421T153158
CREATED:20241215T133245Z
LAST-MODIFIED:20241215T133245Z
UID:10020347-1735587000-1735587000@disfruta-denia.com
SUMMARY:Carrera de San Silvestre 2024 en Dénia
DESCRIPTION:¡Reservad la fecha de la esperada y mítica carrera de Fin de Año en Dénia\, la San Silvestre ! Ya podéis inscribiros en el siguiente enlace Las inscripciones son limitadas\, con un máximo de 750 participantes. ¡Animaros a participar corriendo o caminando en la San Silvestre más multitudinaria de la Marina Alta !Habrá premios para los 5 ganadores y ganadoras y muchas sorpresas más . Lunes 30 de diciembre a las 19:30 horas. Tanto la salida como la meta estarán en la Plaza de la Constitución (bajo el Ayuntamiento de Dénia)\, con un recorrido único de 4\,6 km en total
URL:https://disfruta-denia.com/evento/carrera-de-san-silvestre-2024-en-denia/
LOCATION:Denia\, Denia\, Alicante\, 03700\, España
CATEGORIES:Deporte
ATTACH;FMTTYPE=image/jpeg:https://disfruta-denia.com/wp-content/uploads/2024/12/469964508_456520144157293_5102545104153897865_n.jpg
END:VEVENT
BEGIN:VEVENT
DTSTART;TZID=Europe/Madrid:20241231T083000
DTEND;TZID=Europe/Madrid:20241231T083000
DTSTAMP:20260421T153158
CREATED:20231005T092619Z
LAST-MODIFIED:20231005T092702Z
UID:10014165-1735633800-1735633800@disfruta-denia.com
SUMMARY:Clase de Yoga en Códigos del Arte
DESCRIPTION:Clase de Yoga en Códigos del Arte
URL:https://disfruta-denia.com/evento/clase-de-yoga-en-codigos-del-arte/2024-12-31/
LOCATION:Códigos del Arte\, Carreró de Morant\, 8\, Dénia\, 03700\, España
CATEGORIES:Deporte,Yoga
ATTACH;FMTTYPE=image/jpeg:https://disfruta-denia.com/wp-content/uploads/2023/10/image_6487327.jpg
END:VEVENT
END:VCALENDAR