BEGIN:VCALENDAR
VERSION:2.0
PRODID:-//Disfruta Denia - ECPv6.15.20//NONSGML v1.0//EN
CALSCALE:GREGORIAN
METHOD:PUBLISH
X-WR-CALNAME:Disfruta Denia
X-ORIGINAL-URL:https://disfruta-denia.com
X-WR-CALDESC:Eventos para Disfruta Denia
REFRESH-INTERVAL;VALUE=DURATION:PT1H
X-Robots-Tag:noindex
X-PUBLISHED-TTL:PT1H
BEGIN:VTIMEZONE
TZID:Europe/Madrid
BEGIN:DAYLIGHT
TZOFFSETFROM:+0100
TZOFFSETTO:+0200
TZNAME:CEST
DTSTART:20240331T010000
END:DAYLIGHT
BEGIN:STANDARD
TZOFFSETFROM:+0200
TZOFFSETTO:+0100
TZNAME:CET
DTSTART:20241027T010000
END:STANDARD
BEGIN:DAYLIGHT
TZOFFSETFROM:+0100
TZOFFSETTO:+0200
TZNAME:CEST
DTSTART:20250330T010000
END:DAYLIGHT
BEGIN:STANDARD
TZOFFSETFROM:+0200
TZOFFSETTO:+0100
TZNAME:CET
DTSTART:20251026T010000
END:STANDARD
BEGIN:DAYLIGHT
TZOFFSETFROM:+0100
TZOFFSETTO:+0200
TZNAME:CEST
DTSTART:20260329T010000
END:DAYLIGHT
BEGIN:STANDARD
TZOFFSETFROM:+0200
TZOFFSETTO:+0100
TZNAME:CET
DTSTART:20261025T010000
END:STANDARD
END:VTIMEZONE
BEGIN:VEVENT
DTSTART;TZID=Europe/Madrid:20250401T083000
DTEND;TZID=Europe/Madrid:20250401T083000
DTSTAMP:20260421T081723
CREATED:20231005T092619Z
LAST-MODIFIED:20231005T092702Z
UID:10014191-1743496200-1743496200@disfruta-denia.com
SUMMARY:Clase de Yoga en Códigos del Arte
DESCRIPTION:Clase de Yoga en Códigos del Arte
URL:https://disfruta-denia.com/evento/clase-de-yoga-en-codigos-del-arte/2025-04-01/
LOCATION:Códigos del Arte\, Carreró de Morant\, 8\, Dénia\, 03700\, España
CATEGORIES:Deporte,Yoga
ATTACH;FMTTYPE=image/jpeg:https://disfruta-denia.com/wp-content/uploads/2023/10/image_6487327.jpg
END:VEVENT
BEGIN:VEVENT
DTSTART;TZID=Europe/Madrid:20250403T083000
DTEND;TZID=Europe/Madrid:20250403T083000
DTSTAMP:20260421T081723
CREATED:20231005T092619Z
LAST-MODIFIED:20231005T092702Z
UID:10014192-1743669000-1743669000@disfruta-denia.com
SUMMARY:Clase de Yoga en Códigos del Arte
DESCRIPTION:Clase de Yoga en Códigos del Arte
URL:https://disfruta-denia.com/evento/clase-de-yoga-en-codigos-del-arte/2025-04-03/
LOCATION:Códigos del Arte\, Carreró de Morant\, 8\, Dénia\, 03700\, España
CATEGORIES:Deporte,Yoga
ATTACH;FMTTYPE=image/jpeg:https://disfruta-denia.com/wp-content/uploads/2023/10/image_6487327.jpg
END:VEVENT
BEGIN:VEVENT
DTSTART;TZID=Europe/Madrid:20250408T083000
DTEND;TZID=Europe/Madrid:20250408T083000
DTSTAMP:20260421T081723
CREATED:20231005T092619Z
LAST-MODIFIED:20231005T092702Z
UID:10014193-1744101000-1744101000@disfruta-denia.com
SUMMARY:Clase de Yoga en Códigos del Arte
DESCRIPTION:Clase de Yoga en Códigos del Arte
URL:https://disfruta-denia.com/evento/clase-de-yoga-en-codigos-del-arte/2025-04-08/
LOCATION:Códigos del Arte\, Carreró de Morant\, 8\, Dénia\, 03700\, España
CATEGORIES:Deporte,Yoga
ATTACH;FMTTYPE=image/jpeg:https://disfruta-denia.com/wp-content/uploads/2023/10/image_6487327.jpg
END:VEVENT
BEGIN:VEVENT
DTSTART;TZID=Europe/Madrid:20250410T083000
DTEND;TZID=Europe/Madrid:20250410T083000
DTSTAMP:20260421T081723
CREATED:20231005T092619Z
LAST-MODIFIED:20231005T092702Z
UID:10014194-1744273800-1744273800@disfruta-denia.com
SUMMARY:Clase de Yoga en Códigos del Arte
DESCRIPTION:Clase de Yoga en Códigos del Arte
URL:https://disfruta-denia.com/evento/clase-de-yoga-en-codigos-del-arte/2025-04-10/
LOCATION:Códigos del Arte\, Carreró de Morant\, 8\, Dénia\, 03700\, España
CATEGORIES:Deporte,Yoga
ATTACH;FMTTYPE=image/jpeg:https://disfruta-denia.com/wp-content/uploads/2023/10/image_6487327.jpg
END:VEVENT
BEGIN:VEVENT
DTSTART;TZID=Europe/Madrid:20250415T083000
DTEND;TZID=Europe/Madrid:20250415T083000
DTSTAMP:20260421T081723
CREATED:20231005T092619Z
LAST-MODIFIED:20231005T092702Z
UID:10014195-1744705800-1744705800@disfruta-denia.com
SUMMARY:Clase de Yoga en Códigos del Arte
DESCRIPTION:Clase de Yoga en Códigos del Arte
URL:https://disfruta-denia.com/evento/clase-de-yoga-en-codigos-del-arte/2025-04-15/
LOCATION:Códigos del Arte\, Carreró de Morant\, 8\, Dénia\, 03700\, España
CATEGORIES:Deporte,Yoga
ATTACH;FMTTYPE=image/jpeg:https://disfruta-denia.com/wp-content/uploads/2023/10/image_6487327.jpg
END:VEVENT
BEGIN:VEVENT
DTSTART;TZID=Europe/Madrid:20250417T083000
DTEND;TZID=Europe/Madrid:20250417T083000
DTSTAMP:20260421T081723
CREATED:20231005T092619Z
LAST-MODIFIED:20231005T092702Z
UID:10014196-1744878600-1744878600@disfruta-denia.com
SUMMARY:Clase de Yoga en Códigos del Arte
DESCRIPTION:Clase de Yoga en Códigos del Arte
URL:https://disfruta-denia.com/evento/clase-de-yoga-en-codigos-del-arte/2025-04-17/
LOCATION:Códigos del Arte\, Carreró de Morant\, 8\, Dénia\, 03700\, España
CATEGORIES:Deporte,Yoga
ATTACH;FMTTYPE=image/jpeg:https://disfruta-denia.com/wp-content/uploads/2023/10/image_6487327.jpg
END:VEVENT
BEGIN:VEVENT
DTSTART;TZID=Europe/Madrid:20250422T083000
DTEND;TZID=Europe/Madrid:20250422T083000
DTSTAMP:20260421T081723
CREATED:20231005T092619Z
LAST-MODIFIED:20231005T092702Z
UID:10014197-1745310600-1745310600@disfruta-denia.com
SUMMARY:Clase de Yoga en Códigos del Arte
DESCRIPTION:Clase de Yoga en Códigos del Arte
URL:https://disfruta-denia.com/evento/clase-de-yoga-en-codigos-del-arte/2025-04-22/
LOCATION:Códigos del Arte\, Carreró de Morant\, 8\, Dénia\, 03700\, España
CATEGORIES:Deporte,Yoga
ATTACH;FMTTYPE=image/jpeg:https://disfruta-denia.com/wp-content/uploads/2023/10/image_6487327.jpg
END:VEVENT
BEGIN:VEVENT
DTSTART;TZID=Europe/Madrid:20250424T083000
DTEND;TZID=Europe/Madrid:20250424T083000
DTSTAMP:20260421T081723
CREATED:20231005T092619Z
LAST-MODIFIED:20231005T092702Z
UID:10014198-1745483400-1745483400@disfruta-denia.com
SUMMARY:Clase de Yoga en Códigos del Arte
DESCRIPTION:Clase de Yoga en Códigos del Arte
URL:https://disfruta-denia.com/evento/clase-de-yoga-en-codigos-del-arte/2025-04-24/
LOCATION:Códigos del Arte\, Carreró de Morant\, 8\, Dénia\, 03700\, España
CATEGORIES:Deporte,Yoga
ATTACH;FMTTYPE=image/jpeg:https://disfruta-denia.com/wp-content/uploads/2023/10/image_6487327.jpg
END:VEVENT
BEGIN:VEVENT
DTSTART;TZID=Europe/Madrid:20250424T110000
DTEND;TZID=Europe/Madrid:20250424T110000
DTSTAMP:20260421T081723
CREATED:20250226T085348Z
LAST-MODIFIED:20250226T085348Z
UID:10020533-1745492400-1745492400@disfruta-denia.com
SUMMARY:jornadas de actividad física y salud
DESCRIPTION:La Concejalía de Deportes del Ajuntament de Dénia ha puesto en marcha tres nuevas jornadas teórico-prácticas con el objetivo de fomentar la actividad física entre la ciudadanía de todas las edades y mejorar el bienestar general. Estas jornadas\, gratuitas y abiertas a cualquier persona interesada\, son complementarias a otras actividades prácticas ya ofrecidas por el departamento\, como son Mou-te\, Esport als barris\, Dénia Camina o Dénia En Moviment. \nComo parte de esta iniciativa\, los participantes podrán disfrutar de actividades como el entrenamiento funcional\, baile y nutrición\, adaptadas a todos los niveles. \nTodas las sesiones son abiertas al público general y no requieren inscripción previa. Las fechas y actividades programadas son las siguientes \n•             Viernes 28 de febrero: Jornada de entrenamiento funcional. \nHora: 11:00 h. Lugar: Pabellón Joan Fuster. \nDescripción: Sesión en grupo con ejercicios de fuerza y elasticidad\, para mejorar la capacidad física general y la salud muscular. \n•             Miércoles 26 de marzo: Jornada de baile. \nHora: 11:00 h. Lugar: Pabellón Joan Fuster. \nDescripción: Actividades recreativas en grupo\, diseñadas para mejorar la flexibilidad\, la coordinación y la diversión mientras se hace actividad física. \n•             Jueves 24 de abril: Jornada de nutrición. \nHora: 11:00 h. Lugar: Casa de la Cultura (plaza Jaume I\, Dénia). \nDescripción: Consejos saludables y planificación dietética para ayudar a mantener una alimentación equilibrada y potenciar los resultados de la actividad física. \nSegún ha explicado el concejal de Deportes\, Valen Alcalà: “Hemos querido ofrecer un complemento a algunas de las iniciativas que ya tenemos en marcha\, como Mou-te o Esport als barris\, para que todo el mundo interesado pueda incorporar actividad física a su rutina\, añadiendo además una jornada teórica dedicada a la alimentación y la salud\, previa a las charlas sobre hábitos saludables que volveremos a realizar”.
URL:https://disfruta-denia.com/evento/jornadas-de-actividad-fisica-y-salud/2025-04-24/
LOCATION:Denia\, Denia\, Alicante\, 03700\, España
CATEGORIES:Deporte
ATTACH;FMTTYPE=image/jpeg:https://disfruta-denia.com/wp-content/uploads/2025/02/7260f2.jpg
END:VEVENT
BEGIN:VEVENT
DTSTART;TZID=Europe/Madrid:20250427T100000
DTEND;TZID=Europe/Madrid:20250427T100000
DTSTAMP:20260421T081723
CREATED:20250321T102105Z
LAST-MODIFIED:20250321T102105Z
UID:10020592-1745748000-1745748000@disfruta-denia.com
SUMMARY:Excursión en familia: VIA VERDA A LA XARA
DESCRIPTION:PAISATGE RURAL I ARBRES MONUMENTALS. Endèmica Natura.  \nConcentració: 10 h. Inici Via Verda. Junt a viver Verdecora. \nCaminant per la Via Verda fins a la Xara. Tornada en tren FGV. Preu: 1\,45 €. \nDuració: 4 h. A partir de 7 anys. \nInscripció prèvia obligatòria fins les 14 h del dijous anterior al correu viuiconviu@ayto-denia.es \n  \nAndando por la Vía Verde hasta la Xara. Vuelta en tren FGV. Precio: 1\,45 €. \nDuración: 4 h. A partir de 7 años. \nInscripción previa obligatoria hasta las  14 h del jueves anterior al correo  viuiconviu@ayto-denia.es
URL:https://disfruta-denia.com/evento/excursion-en-familia-via-verda-a-la-xara/
LOCATION:Denia\, Denia\, Alicante\, 03700\, España
CATEGORIES:Excursión
ATTACH;FMTTYPE=image/png:https://disfruta-denia.com/wp-content/uploads/2025/03/16-Excursio-familia-dia-27.png
END:VEVENT
BEGIN:VEVENT
DTSTART;TZID=Europe/Madrid:20250429T083000
DTEND;TZID=Europe/Madrid:20250429T083000
DTSTAMP:20260421T081723
CREATED:20231005T092619Z
LAST-MODIFIED:20231005T092702Z
UID:10014199-1745915400-1745915400@disfruta-denia.com
SUMMARY:Clase de Yoga en Códigos del Arte
DESCRIPTION:Clase de Yoga en Códigos del Arte
URL:https://disfruta-denia.com/evento/clase-de-yoga-en-codigos-del-arte/2025-04-29/
LOCATION:Códigos del Arte\, Carreró de Morant\, 8\, Dénia\, 03700\, España
CATEGORIES:Deporte,Yoga
ATTACH;FMTTYPE=image/jpeg:https://disfruta-denia.com/wp-content/uploads/2023/10/image_6487327.jpg
END:VEVENT
END:VCALENDAR