BEGIN:VCALENDAR
VERSION:2.0
PRODID:-//Disfruta Denia - ECPv6.15.20//NONSGML v1.0//EN
CALSCALE:GREGORIAN
METHOD:PUBLISH
X-WR-CALNAME:Disfruta Denia
X-ORIGINAL-URL:https://disfruta-denia.com
X-WR-CALDESC:Eventos para Disfruta Denia
REFRESH-INTERVAL;VALUE=DURATION:PT1H
X-Robots-Tag:noindex
X-PUBLISHED-TTL:PT1H
BEGIN:VTIMEZONE
TZID:Europe/Madrid
BEGIN:DAYLIGHT
TZOFFSETFROM:+0100
TZOFFSETTO:+0200
TZNAME:CEST
DTSTART:20240331T010000
END:DAYLIGHT
BEGIN:STANDARD
TZOFFSETFROM:+0200
TZOFFSETTO:+0100
TZNAME:CET
DTSTART:20241027T010000
END:STANDARD
BEGIN:DAYLIGHT
TZOFFSETFROM:+0100
TZOFFSETTO:+0200
TZNAME:CEST
DTSTART:20250330T010000
END:DAYLIGHT
BEGIN:STANDARD
TZOFFSETFROM:+0200
TZOFFSETTO:+0100
TZNAME:CET
DTSTART:20251026T010000
END:STANDARD
BEGIN:DAYLIGHT
TZOFFSETFROM:+0100
TZOFFSETTO:+0200
TZNAME:CEST
DTSTART:20260329T010000
END:DAYLIGHT
BEGIN:STANDARD
TZOFFSETFROM:+0200
TZOFFSETTO:+0100
TZNAME:CET
DTSTART:20261025T010000
END:STANDARD
END:VTIMEZONE
BEGIN:VEVENT
DTSTART;TZID=Europe/Madrid:20250706T193000
DTEND;TZID=Europe/Madrid:20250706T193000
DTSTAMP:20260421T024244
CREATED:20250623T090027Z
LAST-MODIFIED:20250623T090220Z
UID:10021894-1751830200-1751830200@disfruta-denia.com
SUMMARY:Bous a la mar
DESCRIPTION:
URL:https://disfruta-denia.com/evento/bous-a-la-mar-2/2025-07-06/
LOCATION:Muelle Mundo Marino\, Esplanada Cervantes\, 23\, Denia\, Alicante\, 03700\, España
CATEGORIES:Deporte,Fiesta
ATTACH;FMTTYPE=image/webp:https://disfruta-denia.com/wp-content/uploads/2025/06/bous.webp
END:VEVENT
BEGIN:VEVENT
DTSTART;TZID=Europe/Madrid:20250707T100000
DTEND;TZID=Europe/Madrid:20250707T110000
DTSTAMP:20260421T024244
CREATED:20250603T093855Z
LAST-MODIFIED:20250603T093912Z
UID:10021054-1751882400-1751886000@disfruta-denia.com
SUMMARY:Monday Stretch with Marianna
DESCRIPTION:Empieza la semana con una sesión de Pilates guiada por la instructora Marianna.\nDespués\, date un capricho con un café o una kombucha refrescante.\nTodos los lunes – 10:00
URL:https://disfruta-denia.com/evento/monday-stretch-with-marianna/2025-07-07/
LOCATION:Códigos del Arte\, Carreró de Morant\, 8\, Dénia\, 03700\, España
CATEGORIES:Deporte
ATTACH;FMTTYPE=image/png:https://disfruta-denia.com/wp-content/uploads/2025/06/Codigos-del-Arte-5.png
END:VEVENT
BEGIN:VEVENT
DTSTART;TZID=Europe/Madrid:20250707T193000
DTEND;TZID=Europe/Madrid:20250707T193000
DTSTAMP:20260421T024244
CREATED:20250623T090027Z
LAST-MODIFIED:20250623T090220Z
UID:10021895-1751916600-1751916600@disfruta-denia.com
SUMMARY:Bous a la mar
DESCRIPTION:
URL:https://disfruta-denia.com/evento/bous-a-la-mar-2/2025-07-07/
LOCATION:Muelle Mundo Marino\, Esplanada Cervantes\, 23\, Denia\, Alicante\, 03700\, España
CATEGORIES:Deporte,Fiesta
ATTACH;FMTTYPE=image/webp:https://disfruta-denia.com/wp-content/uploads/2025/06/bous.webp
END:VEVENT
BEGIN:VEVENT
DTSTART;TZID=Europe/Madrid:20250708T193000
DTEND;TZID=Europe/Madrid:20250708T193000
DTSTAMP:20260421T024244
CREATED:20250623T090027Z
LAST-MODIFIED:20250623T090220Z
UID:10021896-1752003000-1752003000@disfruta-denia.com
SUMMARY:Bous a la mar
DESCRIPTION:
URL:https://disfruta-denia.com/evento/bous-a-la-mar-2/2025-07-08/
LOCATION:Muelle Mundo Marino\, Esplanada Cervantes\, 23\, Denia\, Alicante\, 03700\, España
CATEGORIES:Deporte,Fiesta
ATTACH;FMTTYPE=image/webp:https://disfruta-denia.com/wp-content/uploads/2025/06/bous.webp
END:VEVENT
BEGIN:VEVENT
DTSTART;TZID=Europe/Madrid:20250709T193000
DTEND;TZID=Europe/Madrid:20250709T193000
DTSTAMP:20260421T024244
CREATED:20250623T090027Z
LAST-MODIFIED:20250623T090220Z
UID:10021897-1752089400-1752089400@disfruta-denia.com
SUMMARY:Bous a la mar
DESCRIPTION:
URL:https://disfruta-denia.com/evento/bous-a-la-mar-2/2025-07-09/
LOCATION:Muelle Mundo Marino\, Esplanada Cervantes\, 23\, Denia\, Alicante\, 03700\, España
CATEGORIES:Deporte,Fiesta
ATTACH;FMTTYPE=image/webp:https://disfruta-denia.com/wp-content/uploads/2025/06/bous.webp
END:VEVENT
BEGIN:VEVENT
DTSTART;TZID=Europe/Madrid:20250710T193000
DTEND;TZID=Europe/Madrid:20250710T193000
DTSTAMP:20260421T024244
CREATED:20250623T090027Z
LAST-MODIFIED:20250623T090220Z
UID:10021898-1752175800-1752175800@disfruta-denia.com
SUMMARY:Bous a la mar
DESCRIPTION:
URL:https://disfruta-denia.com/evento/bous-a-la-mar-2/2025-07-10/
LOCATION:Muelle Mundo Marino\, Esplanada Cervantes\, 23\, Denia\, Alicante\, 03700\, España
CATEGORIES:Deporte,Fiesta
ATTACH;FMTTYPE=image/webp:https://disfruta-denia.com/wp-content/uploads/2025/06/bous.webp
END:VEVENT
BEGIN:VEVENT
DTSTART;TZID=Europe/Madrid:20250711T193000
DTEND;TZID=Europe/Madrid:20250711T193000
DTSTAMP:20260421T024244
CREATED:20250623T090027Z
LAST-MODIFIED:20250623T090220Z
UID:10021899-1752262200-1752262200@disfruta-denia.com
SUMMARY:Bous a la mar
DESCRIPTION:
URL:https://disfruta-denia.com/evento/bous-a-la-mar-2/2025-07-11/
LOCATION:Muelle Mundo Marino\, Esplanada Cervantes\, 23\, Denia\, Alicante\, 03700\, España
CATEGORIES:Deporte,Fiesta
ATTACH;FMTTYPE=image/webp:https://disfruta-denia.com/wp-content/uploads/2025/06/bous.webp
END:VEVENT
BEGIN:VEVENT
DTSTART;TZID=Europe/Madrid:20250712T235900
DTEND;TZID=Europe/Madrid:20250712T235900
DTSTAMP:20260421T024244
CREATED:20250516T163908Z
LAST-MODIFIED:20250516T165058Z
UID:10020663-1752364740-1752364740@disfruta-denia.com
SUMMARY:Survival Zombie
DESCRIPTION:
URL:https://disfruta-denia.com/evento/survival-zombie/
LOCATION:Portal de la Marina\, Av. Costa Blanca\, 2\, Ondara\, Alicante\, 03760\, España
CATEGORIES:Deporte
ATTACH;FMTTYPE=image/jpeg:https://disfruta-denia.com/wp-content/uploads/2025/05/Nota_Prensa_SurvivalZombie.jpg
END:VEVENT
BEGIN:VEVENT
DTSTART;TZID=Europe/Madrid:20250714T100000
DTEND;TZID=Europe/Madrid:20250714T110000
DTSTAMP:20260421T024244
CREATED:20250603T093855Z
LAST-MODIFIED:20250603T093912Z
UID:10021055-1752487200-1752490800@disfruta-denia.com
SUMMARY:Monday Stretch with Marianna
DESCRIPTION:Empieza la semana con una sesión de Pilates guiada por la instructora Marianna.\nDespués\, date un capricho con un café o una kombucha refrescante.\nTodos los lunes – 10:00
URL:https://disfruta-denia.com/evento/monday-stretch-with-marianna/2025-07-14/
LOCATION:Códigos del Arte\, Carreró de Morant\, 8\, Dénia\, 03700\, España
CATEGORIES:Deporte
ATTACH;FMTTYPE=image/png:https://disfruta-denia.com/wp-content/uploads/2025/06/Codigos-del-Arte-5.png
END:VEVENT
BEGIN:VEVENT
DTSTART;TZID=Europe/Madrid:20250721T100000
DTEND;TZID=Europe/Madrid:20250721T110000
DTSTAMP:20260421T024244
CREATED:20250603T093855Z
LAST-MODIFIED:20250603T093912Z
UID:10021056-1753092000-1753095600@disfruta-denia.com
SUMMARY:Monday Stretch with Marianna
DESCRIPTION:Empieza la semana con una sesión de Pilates guiada por la instructora Marianna.\nDespués\, date un capricho con un café o una kombucha refrescante.\nTodos los lunes – 10:00
URL:https://disfruta-denia.com/evento/monday-stretch-with-marianna/2025-07-21/
LOCATION:Códigos del Arte\, Carreró de Morant\, 8\, Dénia\, 03700\, España
CATEGORIES:Deporte
ATTACH;FMTTYPE=image/png:https://disfruta-denia.com/wp-content/uploads/2025/06/Codigos-del-Arte-5.png
END:VEVENT
BEGIN:VEVENT
DTSTART;TZID=Europe/Madrid:20250728T100000
DTEND;TZID=Europe/Madrid:20250728T110000
DTSTAMP:20260421T024244
CREATED:20250603T093855Z
LAST-MODIFIED:20250603T093912Z
UID:10021057-1753696800-1753700400@disfruta-denia.com
SUMMARY:Monday Stretch with Marianna
DESCRIPTION:Empieza la semana con una sesión de Pilates guiada por la instructora Marianna.\nDespués\, date un capricho con un café o una kombucha refrescante.\nTodos los lunes – 10:00
URL:https://disfruta-denia.com/evento/monday-stretch-with-marianna/2025-07-28/
LOCATION:Códigos del Arte\, Carreró de Morant\, 8\, Dénia\, 03700\, España
CATEGORIES:Deporte
ATTACH;FMTTYPE=image/png:https://disfruta-denia.com/wp-content/uploads/2025/06/Codigos-del-Arte-5.png
END:VEVENT
END:VCALENDAR