BEGIN:VCALENDAR
VERSION:2.0
PRODID:-//Disfruta Denia - ECPv6.15.20//NONSGML v1.0//EN
CALSCALE:GREGORIAN
METHOD:PUBLISH
X-ORIGINAL-URL:https://disfruta-denia.com
X-WR-CALDESC:Eventos para Disfruta Denia
REFRESH-INTERVAL;VALUE=DURATION:PT1H
X-Robots-Tag:noindex
X-PUBLISHED-TTL:PT1H
BEGIN:VTIMEZONE
TZID:Europe/Madrid
BEGIN:DAYLIGHT
TZOFFSETFROM:+0100
TZOFFSETTO:+0200
TZNAME:CEST
DTSTART:20240331T010000
END:DAYLIGHT
BEGIN:STANDARD
TZOFFSETFROM:+0200
TZOFFSETTO:+0100
TZNAME:CET
DTSTART:20241027T010000
END:STANDARD
BEGIN:DAYLIGHT
TZOFFSETFROM:+0100
TZOFFSETTO:+0200
TZNAME:CEST
DTSTART:20250330T010000
END:DAYLIGHT
BEGIN:STANDARD
TZOFFSETFROM:+0200
TZOFFSETTO:+0100
TZNAME:CET
DTSTART:20251026T010000
END:STANDARD
BEGIN:DAYLIGHT
TZOFFSETFROM:+0100
TZOFFSETTO:+0200
TZNAME:CEST
DTSTART:20260329T010000
END:DAYLIGHT
BEGIN:STANDARD
TZOFFSETFROM:+0200
TZOFFSETTO:+0100
TZNAME:CET
DTSTART:20261025T010000
END:STANDARD
END:VTIMEZONE
BEGIN:VEVENT
DTSTART;TZID=Europe/Madrid:20251002T093000
DTEND;TZID=Europe/Madrid:20251002T093000
DTSTAMP:20260420T212229
CREATED:20250905T093447Z
LAST-MODIFIED:20250905T093447Z
UID:10022053-1759397400-1759397400@disfruta-denia.com
SUMMARY:Denia camina
DESCRIPTION:🚶‍♀️ ¡Dénia Camina vuelve a caminar!\n¿Y tú\, te animas?\nMartes y jueves a las 9:30 h desde el Centro de Salud Joan Fuster\, con nuevas salidas temáticas y culturales para disfrutar caminando. \nℹ️ + info en el 618 945 344 o en esports.denia.es \nTambién:\n➡️La Xara Camina (dos viernes al mes).\n➡️Jesús Pobre Camina (los otros dos viernes). \nActividad gratuita y abierta a todas y todos
URL:https://disfruta-denia.com/evento/denia-camina/2025-10-02/
CATEGORIES:Deporte
ATTACH;FMTTYPE=image/png:https://disfruta-denia.com/wp-content/uploads/2025/09/Instagram-09-05-2025_11_31_AM.png
END:VEVENT
BEGIN:VEVENT
DTSTART;TZID=Europe/Madrid:20251006T100000
DTEND;TZID=Europe/Madrid:20251006T110000
DTSTAMP:20260420T212229
CREATED:20250603T093855Z
LAST-MODIFIED:20250603T093912Z
UID:10021067-1759744800-1759748400@disfruta-denia.com
SUMMARY:Monday Stretch with Marianna
DESCRIPTION:Empieza la semana con una sesión de Pilates guiada por la instructora Marianna.\nDespués\, date un capricho con un café o una kombucha refrescante.\nTodos los lunes – 10:00
URL:https://disfruta-denia.com/evento/monday-stretch-with-marianna/2025-10-06/
LOCATION:Códigos del Arte\, Carreró de Morant\, 8\, Dénia\, 03700\, España
CATEGORIES:Deporte
ATTACH;FMTTYPE=image/png:https://disfruta-denia.com/wp-content/uploads/2025/06/Codigos-del-Arte-5.png
END:VEVENT
BEGIN:VEVENT
DTSTART;TZID=Europe/Madrid:20251007T093000
DTEND;TZID=Europe/Madrid:20251007T093000
DTSTAMP:20260420T212229
CREATED:20250905T093447Z
LAST-MODIFIED:20250905T093447Z
UID:10022054-1759829400-1759829400@disfruta-denia.com
SUMMARY:Denia camina
DESCRIPTION:🚶‍♀️ ¡Dénia Camina vuelve a caminar!\n¿Y tú\, te animas?\nMartes y jueves a las 9:30 h desde el Centro de Salud Joan Fuster\, con nuevas salidas temáticas y culturales para disfrutar caminando. \nℹ️ + info en el 618 945 344 o en esports.denia.es \nTambién:\n➡️La Xara Camina (dos viernes al mes).\n➡️Jesús Pobre Camina (los otros dos viernes). \nActividad gratuita y abierta a todas y todos
URL:https://disfruta-denia.com/evento/denia-camina/2025-10-07/
CATEGORIES:Deporte
ATTACH;FMTTYPE=image/png:https://disfruta-denia.com/wp-content/uploads/2025/09/Instagram-09-05-2025_11_31_AM.png
END:VEVENT
BEGIN:VEVENT
DTSTART;TZID=Europe/Madrid:20251009T093000
DTEND;TZID=Europe/Madrid:20251009T093000
DTSTAMP:20260420T212229
CREATED:20250905T093447Z
LAST-MODIFIED:20250905T093447Z
UID:10022055-1760002200-1760002200@disfruta-denia.com
SUMMARY:Denia camina
DESCRIPTION:🚶‍♀️ ¡Dénia Camina vuelve a caminar!\n¿Y tú\, te animas?\nMartes y jueves a las 9:30 h desde el Centro de Salud Joan Fuster\, con nuevas salidas temáticas y culturales para disfrutar caminando. \nℹ️ + info en el 618 945 344 o en esports.denia.es \nTambién:\n➡️La Xara Camina (dos viernes al mes).\n➡️Jesús Pobre Camina (los otros dos viernes). \nActividad gratuita y abierta a todas y todos
URL:https://disfruta-denia.com/evento/denia-camina/2025-10-09/
CATEGORIES:Deporte
ATTACH;FMTTYPE=image/png:https://disfruta-denia.com/wp-content/uploads/2025/09/Instagram-09-05-2025_11_31_AM.png
END:VEVENT
BEGIN:VEVENT
DTSTART;TZID=Europe/Madrid:20251011T090000
DTEND;TZID=Europe/Madrid:20251011T130000
DTSTAMP:20260420T212229
CREATED:20251008T082117Z
LAST-MODIFIED:20251008T082128Z
UID:10022490-1760173200-1760187600@disfruta-denia.com
SUMMARY:Dia De La Pilota
DESCRIPTION:sábado 11 de octubre\, de 9 a 13 h\, en la calle Pare Pere. 9 h – Raspall Escuela Municipal 10 h – Raspall Veteranos 11 h – Profesionales de llarguesVen y vive la pilota en la calle en el Día de los valencianos y las valencianas.
URL:https://disfruta-denia.com/evento/dia-de-la-pilota-2/
LOCATION:Denia\, Denia\, Alicante\, 03700\, España
CATEGORIES:Deporte
ATTACH;FMTTYPE=image/jpeg:https://disfruta-denia.com/wp-content/uploads/2025/10/558536872_679117541897551_991756988572954508_n.jpg
END:VEVENT
BEGIN:VEVENT
DTSTART;TZID=Europe/Madrid:20251012T103000
DTEND;TZID=Europe/Madrid:20251012T103000
DTSTAMP:20260420T212229
CREATED:20251003T092002Z
LAST-MODIFIED:20251003T092002Z
UID:10022457-1760265000-1760265000@disfruta-denia.com
SUMMARY:Visita en familia: Torre del Gerro
DESCRIPTION:LA TORRE DEL GERRO I LA DEFENSA DEL LITORAL DURANT ELS SEGLES XVI-XVIII\nPunt d’encontre /Punto de encuentro: les Rotes\, enfront del restaurant Mena.\nInformació i reserves / información y reservas: Museu Etnològic de Dénia\, 966420260.\nDe dimarts a diumenge/ de martes a domingo\, de 10.00 a 13.00 h\nVisita amb guia expert/ Visita con guía experto. Dificultat mitjana
URL:https://disfruta-denia.com/evento/visita-en-familia-torre-del-gerro/
LOCATION:Denia\, Denia\, Alicante\, 03700\, España
CATEGORIES:Excursión
ATTACH;FMTTYPE=image/png:https://disfruta-denia.com/wp-content/uploads/2025/09/7-FAMILIA-General.png
END:VEVENT
BEGIN:VEVENT
DTSTART;TZID=Europe/Madrid:20251013T100000
DTEND;TZID=Europe/Madrid:20251013T110000
DTSTAMP:20260420T212229
CREATED:20250603T093855Z
LAST-MODIFIED:20250603T093912Z
UID:10021068-1760349600-1760353200@disfruta-denia.com
SUMMARY:Monday Stretch with Marianna
DESCRIPTION:Empieza la semana con una sesión de Pilates guiada por la instructora Marianna.\nDespués\, date un capricho con un café o una kombucha refrescante.\nTodos los lunes – 10:00
URL:https://disfruta-denia.com/evento/monday-stretch-with-marianna/2025-10-13/
LOCATION:Códigos del Arte\, Carreró de Morant\, 8\, Dénia\, 03700\, España
CATEGORIES:Deporte
ATTACH;FMTTYPE=image/png:https://disfruta-denia.com/wp-content/uploads/2025/06/Codigos-del-Arte-5.png
END:VEVENT
BEGIN:VEVENT
DTSTART;TZID=Europe/Madrid:20251014T093000
DTEND;TZID=Europe/Madrid:20251014T093000
DTSTAMP:20260420T212229
CREATED:20250905T093447Z
LAST-MODIFIED:20250905T093447Z
UID:10022056-1760434200-1760434200@disfruta-denia.com
SUMMARY:Denia camina
DESCRIPTION:🚶‍♀️ ¡Dénia Camina vuelve a caminar!\n¿Y tú\, te animas?\nMartes y jueves a las 9:30 h desde el Centro de Salud Joan Fuster\, con nuevas salidas temáticas y culturales para disfrutar caminando. \nℹ️ + info en el 618 945 344 o en esports.denia.es \nTambién:\n➡️La Xara Camina (dos viernes al mes).\n➡️Jesús Pobre Camina (los otros dos viernes). \nActividad gratuita y abierta a todas y todos
URL:https://disfruta-denia.com/evento/denia-camina/2025-10-14/
CATEGORIES:Deporte
ATTACH;FMTTYPE=image/png:https://disfruta-denia.com/wp-content/uploads/2025/09/Instagram-09-05-2025_11_31_AM.png
END:VEVENT
BEGIN:VEVENT
DTSTART;TZID=Europe/Madrid:20251016T093000
DTEND;TZID=Europe/Madrid:20251016T093000
DTSTAMP:20260420T212229
CREATED:20250905T093447Z
LAST-MODIFIED:20250905T093447Z
UID:10022057-1760607000-1760607000@disfruta-denia.com
SUMMARY:Denia camina
DESCRIPTION:🚶‍♀️ ¡Dénia Camina vuelve a caminar!\n¿Y tú\, te animas?\nMartes y jueves a las 9:30 h desde el Centro de Salud Joan Fuster\, con nuevas salidas temáticas y culturales para disfrutar caminando. \nℹ️ + info en el 618 945 344 o en esports.denia.es \nTambién:\n➡️La Xara Camina (dos viernes al mes).\n➡️Jesús Pobre Camina (los otros dos viernes). \nActividad gratuita y abierta a todas y todos
URL:https://disfruta-denia.com/evento/denia-camina/2025-10-16/
CATEGORIES:Deporte
ATTACH;FMTTYPE=image/png:https://disfruta-denia.com/wp-content/uploads/2025/09/Instagram-09-05-2025_11_31_AM.png
END:VEVENT
BEGIN:VEVENT
DTSTART;TZID=Europe/Madrid:20251020T100000
DTEND;TZID=Europe/Madrid:20251020T110000
DTSTAMP:20260420T212229
CREATED:20250603T093855Z
LAST-MODIFIED:20250603T093912Z
UID:10021069-1760954400-1760958000@disfruta-denia.com
SUMMARY:Monday Stretch with Marianna
DESCRIPTION:Empieza la semana con una sesión de Pilates guiada por la instructora Marianna.\nDespués\, date un capricho con un café o una kombucha refrescante.\nTodos los lunes – 10:00
URL:https://disfruta-denia.com/evento/monday-stretch-with-marianna/2025-10-20/
LOCATION:Códigos del Arte\, Carreró de Morant\, 8\, Dénia\, 03700\, España
CATEGORIES:Deporte
ATTACH;FMTTYPE=image/png:https://disfruta-denia.com/wp-content/uploads/2025/06/Codigos-del-Arte-5.png
END:VEVENT
BEGIN:VEVENT
DTSTART;TZID=Europe/Madrid:20251021T093000
DTEND;TZID=Europe/Madrid:20251021T093000
DTSTAMP:20260420T212229
CREATED:20250905T093447Z
LAST-MODIFIED:20250905T093447Z
UID:10022058-1761039000-1761039000@disfruta-denia.com
SUMMARY:Denia camina
DESCRIPTION:🚶‍♀️ ¡Dénia Camina vuelve a caminar!\n¿Y tú\, te animas?\nMartes y jueves a las 9:30 h desde el Centro de Salud Joan Fuster\, con nuevas salidas temáticas y culturales para disfrutar caminando. \nℹ️ + info en el 618 945 344 o en esports.denia.es \nTambién:\n➡️La Xara Camina (dos viernes al mes).\n➡️Jesús Pobre Camina (los otros dos viernes). \nActividad gratuita y abierta a todas y todos
URL:https://disfruta-denia.com/evento/denia-camina/2025-10-21/
CATEGORIES:Deporte
ATTACH;FMTTYPE=image/png:https://disfruta-denia.com/wp-content/uploads/2025/09/Instagram-09-05-2025_11_31_AM.png
END:VEVENT
BEGIN:VEVENT
DTSTART;TZID=Europe/Madrid:20251023T093000
DTEND;TZID=Europe/Madrid:20251023T093000
DTSTAMP:20260420T212229
CREATED:20250905T093447Z
LAST-MODIFIED:20250905T093447Z
UID:10022059-1761211800-1761211800@disfruta-denia.com
SUMMARY:Denia camina
DESCRIPTION:🚶‍♀️ ¡Dénia Camina vuelve a caminar!\n¿Y tú\, te animas?\nMartes y jueves a las 9:30 h desde el Centro de Salud Joan Fuster\, con nuevas salidas temáticas y culturales para disfrutar caminando. \nℹ️ + info en el 618 945 344 o en esports.denia.es \nTambién:\n➡️La Xara Camina (dos viernes al mes).\n➡️Jesús Pobre Camina (los otros dos viernes). \nActividad gratuita y abierta a todas y todos
URL:https://disfruta-denia.com/evento/denia-camina/2025-10-23/
CATEGORIES:Deporte
ATTACH;FMTTYPE=image/png:https://disfruta-denia.com/wp-content/uploads/2025/09/Instagram-09-05-2025_11_31_AM.png
END:VEVENT
BEGIN:VEVENT
DTSTART;TZID=Europe/Madrid:20251025T100000
DTEND;TZID=Europe/Madrid:20251025T100000
DTSTAMP:20260420T212229
CREATED:20251022T070728Z
LAST-MODIFIED:20251022T070728Z
UID:10023050-1761386400-1761386400@disfruta-denia.com
SUMMARY:Día de la Pilota de Dénia
DESCRIPTION:Dénia vivirá un fin de semana con una agenda deportiva destacada con la celebración del Día de la Pilota de Dénia\, sábado 25 de octubre\, y la presentación de las Escuelas Deportivas Municipales 2025/2026\, domingo 26 de octubre. \nEl Día de la Pilota\, que formaba parte de la programación deportiva del 9 d’Octubre pero se tuvo que aplazar a causa del alerta naranja\, se celebrará finalmente este sábado en la calle Pare Pere. \nLa jornada\, organizada por la Concejalía de Deportes del Ajuntament de Dénia y el Club Pilota Dénia\, empezará a las 10 horas con la partida de los veteranos del Club Pilota Dénia. A las 11 horas será el turno de los profesionales\, que disputarán una partida de largas con los equipos formados por Cardona\, Santi\, Juan y Flare (azul) y Feliu\, Sergi\, Óscar y Kiko (rojo). \nEl domingo 26 de octubre\, a las 10.30 horas\, el Polideportivo Municipal de Dénia acogerá la presentación de las Escuelas Deportivas Municipales correspondiente a la temporada 2025/2026. El acto reunirá centenares de alumnos\, familias\, monitores y representantes de las diferentes secciones deportivas de la ciudad\, “convirtiéndose en uno de los momentos más emotivos del calendario deportivo local\, que sirve también para reconocer el trabajo de los técnicos y monitores de los clubes que\, cada temporada\, acompañan los niños y niñas en su crecimiento deportivo y personal”\, ha explicado Valen Alcalà\, concejal de Deportes. \nEl desfile contará con la participación de la mayoría de las 18 escuelas deportivas municipales\, que son: multideporte\, atletismo\, baloncesto\, deportes adaptados\, fútbol\, fútbol sala\, gimnasia rítmica\, balonmano\, pelota valenciana\, bádminton\, ajedrez\, voleibol\, equitación\, deportes náuticos\, pádel\, golf\, escalada y rugby. \nLas fotografías oficiales se harán en el frontón municipal a lo largo de la mañana. Este año\, la presentación contará con la actuación de un grupo de baile de Llunàtics\, que pondrá el toque festivo y artístico a la jornada. \nEl edil ha destacado que “con la celebración del Día de la Pilota y la presentación de las Escuelas Deportivas tendremos un fin de semana que refleja muy bien lo que es Dénia: una ciudad viva\, que apuesta por el deporte\, la tradición y la formación de los más jóvenes. Dos días que ponen en valor nuestro deporte y\, sobre todo\, nuestro deporte base\, que es el futuro de la ciudad.”
URL:https://disfruta-denia.com/evento/dia-de-la-pilota-de-denia/
LOCATION:Carrer Pare Pere\, carrer Pare Pere\, Denia\, 03700\, España
CATEGORIES:Deporte
ATTACH;FMTTYPE=image/jpeg:https://disfruta-denia.com/wp-content/uploads/2025/10/7492f2.jpg
END:VEVENT
BEGIN:VEVENT
DTSTART;TZID=Europe/Madrid:20251027T100000
DTEND;TZID=Europe/Madrid:20251027T110000
DTSTAMP:20260420T212229
CREATED:20250603T093855Z
LAST-MODIFIED:20250603T093912Z
UID:10021070-1761559200-1761562800@disfruta-denia.com
SUMMARY:Monday Stretch with Marianna
DESCRIPTION:Empieza la semana con una sesión de Pilates guiada por la instructora Marianna.\nDespués\, date un capricho con un café o una kombucha refrescante.\nTodos los lunes – 10:00
URL:https://disfruta-denia.com/evento/monday-stretch-with-marianna/2025-10-27/
LOCATION:Códigos del Arte\, Carreró de Morant\, 8\, Dénia\, 03700\, España
CATEGORIES:Deporte
ATTACH;FMTTYPE=image/png:https://disfruta-denia.com/wp-content/uploads/2025/06/Codigos-del-Arte-5.png
END:VEVENT
BEGIN:VEVENT
DTSTART;TZID=Europe/Madrid:20251028T093000
DTEND;TZID=Europe/Madrid:20251028T093000
DTSTAMP:20260420T212229
CREATED:20250905T093447Z
LAST-MODIFIED:20250905T093447Z
UID:10022060-1761643800-1761643800@disfruta-denia.com
SUMMARY:Denia camina
DESCRIPTION:🚶‍♀️ ¡Dénia Camina vuelve a caminar!\n¿Y tú\, te animas?\nMartes y jueves a las 9:30 h desde el Centro de Salud Joan Fuster\, con nuevas salidas temáticas y culturales para disfrutar caminando. \nℹ️ + info en el 618 945 344 o en esports.denia.es \nTambién:\n➡️La Xara Camina (dos viernes al mes).\n➡️Jesús Pobre Camina (los otros dos viernes). \nActividad gratuita y abierta a todas y todos
URL:https://disfruta-denia.com/evento/denia-camina/2025-10-28/
CATEGORIES:Deporte
ATTACH;FMTTYPE=image/png:https://disfruta-denia.com/wp-content/uploads/2025/09/Instagram-09-05-2025_11_31_AM.png
END:VEVENT
BEGIN:VEVENT
DTSTART;TZID=Europe/Madrid:20251030T093000
DTEND;TZID=Europe/Madrid:20251030T093000
DTSTAMP:20260420T212229
CREATED:20250905T093447Z
LAST-MODIFIED:20250905T093447Z
UID:10022061-1761816600-1761816600@disfruta-denia.com
SUMMARY:Denia camina
DESCRIPTION:🚶‍♀️ ¡Dénia Camina vuelve a caminar!\n¿Y tú\, te animas?\nMartes y jueves a las 9:30 h desde el Centro de Salud Joan Fuster\, con nuevas salidas temáticas y culturales para disfrutar caminando. \nℹ️ + info en el 618 945 344 o en esports.denia.es \nTambién:\n➡️La Xara Camina (dos viernes al mes).\n➡️Jesús Pobre Camina (los otros dos viernes). \nActividad gratuita y abierta a todas y todos
URL:https://disfruta-denia.com/evento/denia-camina/2025-10-30/
CATEGORIES:Deporte
ATTACH;FMTTYPE=image/png:https://disfruta-denia.com/wp-content/uploads/2025/09/Instagram-09-05-2025_11_31_AM.png
END:VEVENT
END:VCALENDAR