BEGIN:VCALENDAR
VERSION:2.0
PRODID:-//Disfruta Denia - ECPv6.15.20//NONSGML v1.0//EN
CALSCALE:GREGORIAN
METHOD:PUBLISH
X-ORIGINAL-URL:https://disfruta-denia.com
X-WR-CALDESC:Eventos para Disfruta Denia
REFRESH-INTERVAL;VALUE=DURATION:PT1H
X-Robots-Tag:noindex
X-PUBLISHED-TTL:PT1H
BEGIN:VTIMEZONE
TZID:Europe/Madrid
BEGIN:DAYLIGHT
TZOFFSETFROM:+0100
TZOFFSETTO:+0200
TZNAME:CEST
DTSTART:20250330T010000
END:DAYLIGHT
BEGIN:STANDARD
TZOFFSETFROM:+0200
TZOFFSETTO:+0100
TZNAME:CET
DTSTART:20251026T010000
END:STANDARD
BEGIN:DAYLIGHT
TZOFFSETFROM:+0100
TZOFFSETTO:+0200
TZNAME:CEST
DTSTART:20260329T010000
END:DAYLIGHT
BEGIN:STANDARD
TZOFFSETFROM:+0200
TZOFFSETTO:+0100
TZNAME:CET
DTSTART:20261025T010000
END:STANDARD
BEGIN:DAYLIGHT
TZOFFSETFROM:+0100
TZOFFSETTO:+0200
TZNAME:CEST
DTSTART:20270328T010000
END:DAYLIGHT
BEGIN:STANDARD
TZOFFSETFROM:+0200
TZOFFSETTO:+0100
TZNAME:CET
DTSTART:20271031T010000
END:STANDARD
END:VTIMEZONE
BEGIN:VEVENT
DTSTART;TZID=Europe/Madrid:20260702T093000
DTEND;TZID=Europe/Madrid:20260702T093000
DTSTAMP:20260420T162717
CREATED:20251218T163752Z
LAST-MODIFIED:20260227T104533Z
UID:10022131-1782984600-1782984600@disfruta-denia.com
SUMMARY:Denia camina
DESCRIPTION:🚶‍♀️ ¡Dénia Camina vuelve a caminar!\n¿Y tú\, te animas?\nMartes y jueves a las 9:30 h desde el Centro de Salud Joan Fuster\, con nuevas salidas temáticas y culturales para disfrutar caminando. \nℹ️ + info en el 618 945 344 o en esports.denia.es \nTambién:\n➡️La Xara Camina (dos viernes al mes).\n➡️Jesús Pobre Camina (los otros dos viernes). \nActividad gratuita y abierta a todas y todos
URL:https://disfruta-denia.com/evento/denia-camina-2/2026-07-02/
LOCATION:Denia\, Denia\, Alicante\, 03700\, España
CATEGORIES:Deporte
ATTACH;FMTTYPE=image/png:https://disfruta-denia.com/wp-content/uploads/2025/09/Instagram-09-05-2025_11_31_AM.png
END:VEVENT
BEGIN:VEVENT
DTSTART;TZID=Europe/Madrid:20260707T093000
DTEND;TZID=Europe/Madrid:20260707T093000
DTSTAMP:20260420T162717
CREATED:20251218T163752Z
LAST-MODIFIED:20260227T104533Z
UID:10022132-1783416600-1783416600@disfruta-denia.com
SUMMARY:Denia camina
DESCRIPTION:🚶‍♀️ ¡Dénia Camina vuelve a caminar!\n¿Y tú\, te animas?\nMartes y jueves a las 9:30 h desde el Centro de Salud Joan Fuster\, con nuevas salidas temáticas y culturales para disfrutar caminando. \nℹ️ + info en el 618 945 344 o en esports.denia.es \nTambién:\n➡️La Xara Camina (dos viernes al mes).\n➡️Jesús Pobre Camina (los otros dos viernes). \nActividad gratuita y abierta a todas y todos
URL:https://disfruta-denia.com/evento/denia-camina-2/2026-07-07/
LOCATION:Denia\, Denia\, Alicante\, 03700\, España
CATEGORIES:Deporte
ATTACH;FMTTYPE=image/png:https://disfruta-denia.com/wp-content/uploads/2025/09/Instagram-09-05-2025_11_31_AM.png
END:VEVENT
BEGIN:VEVENT
DTSTART;TZID=Europe/Madrid:20260709T093000
DTEND;TZID=Europe/Madrid:20260709T093000
DTSTAMP:20260420T162717
CREATED:20251218T163752Z
LAST-MODIFIED:20260227T104533Z
UID:10022133-1783589400-1783589400@disfruta-denia.com
SUMMARY:Denia camina
DESCRIPTION:🚶‍♀️ ¡Dénia Camina vuelve a caminar!\n¿Y tú\, te animas?\nMartes y jueves a las 9:30 h desde el Centro de Salud Joan Fuster\, con nuevas salidas temáticas y culturales para disfrutar caminando. \nℹ️ + info en el 618 945 344 o en esports.denia.es \nTambién:\n➡️La Xara Camina (dos viernes al mes).\n➡️Jesús Pobre Camina (los otros dos viernes). \nActividad gratuita y abierta a todas y todos
URL:https://disfruta-denia.com/evento/denia-camina-2/2026-07-09/
LOCATION:Denia\, Denia\, Alicante\, 03700\, España
CATEGORIES:Deporte
ATTACH;FMTTYPE=image/png:https://disfruta-denia.com/wp-content/uploads/2025/09/Instagram-09-05-2025_11_31_AM.png
END:VEVENT
BEGIN:VEVENT
DTSTART;TZID=Europe/Madrid:20260714T093000
DTEND;TZID=Europe/Madrid:20260714T093000
DTSTAMP:20260420T162717
CREATED:20251218T163752Z
LAST-MODIFIED:20260227T104533Z
UID:10022134-1784021400-1784021400@disfruta-denia.com
SUMMARY:Denia camina
DESCRIPTION:🚶‍♀️ ¡Dénia Camina vuelve a caminar!\n¿Y tú\, te animas?\nMartes y jueves a las 9:30 h desde el Centro de Salud Joan Fuster\, con nuevas salidas temáticas y culturales para disfrutar caminando. \nℹ️ + info en el 618 945 344 o en esports.denia.es \nTambién:\n➡️La Xara Camina (dos viernes al mes).\n➡️Jesús Pobre Camina (los otros dos viernes). \nActividad gratuita y abierta a todas y todos
URL:https://disfruta-denia.com/evento/denia-camina-2/2026-07-14/
LOCATION:Denia\, Denia\, Alicante\, 03700\, España
CATEGORIES:Deporte
ATTACH;FMTTYPE=image/png:https://disfruta-denia.com/wp-content/uploads/2025/09/Instagram-09-05-2025_11_31_AM.png
END:VEVENT
BEGIN:VEVENT
DTSTART;TZID=Europe/Madrid:20260716T093000
DTEND;TZID=Europe/Madrid:20260716T093000
DTSTAMP:20260420T162717
CREATED:20251218T163752Z
LAST-MODIFIED:20260227T104533Z
UID:10022135-1784194200-1784194200@disfruta-denia.com
SUMMARY:Denia camina
DESCRIPTION:🚶‍♀️ ¡Dénia Camina vuelve a caminar!\n¿Y tú\, te animas?\nMartes y jueves a las 9:30 h desde el Centro de Salud Joan Fuster\, con nuevas salidas temáticas y culturales para disfrutar caminando. \nℹ️ + info en el 618 945 344 o en esports.denia.es \nTambién:\n➡️La Xara Camina (dos viernes al mes).\n➡️Jesús Pobre Camina (los otros dos viernes). \nActividad gratuita y abierta a todas y todos
URL:https://disfruta-denia.com/evento/denia-camina-2/2026-07-16/
LOCATION:Denia\, Denia\, Alicante\, 03700\, España
CATEGORIES:Deporte
ATTACH;FMTTYPE=image/png:https://disfruta-denia.com/wp-content/uploads/2025/09/Instagram-09-05-2025_11_31_AM.png
END:VEVENT
END:VCALENDAR