BEGIN:VCALENDAR
VERSION:2.0
PRODID:-//Disfruta Denia - ECPv6.15.20//NONSGML v1.0//EN
CALSCALE:GREGORIAN
METHOD:PUBLISH
X-ORIGINAL-URL:https://disfruta-denia.com
X-WR-CALDESC:Eventos para Disfruta Denia
REFRESH-INTERVAL;VALUE=DURATION:PT1H
X-Robots-Tag:noindex
X-PUBLISHED-TTL:PT1H
BEGIN:VTIMEZONE
TZID:Europe/Madrid
BEGIN:DAYLIGHT
TZOFFSETFROM:+0100
TZOFFSETTO:+0200
TZNAME:CEST
DTSTART:20210328T010000
END:DAYLIGHT
BEGIN:STANDARD
TZOFFSETFROM:+0200
TZOFFSETTO:+0100
TZNAME:CET
DTSTART:20211031T010000
END:STANDARD
BEGIN:DAYLIGHT
TZOFFSETFROM:+0100
TZOFFSETTO:+0200
TZNAME:CEST
DTSTART:20220327T010000
END:DAYLIGHT
BEGIN:STANDARD
TZOFFSETFROM:+0200
TZOFFSETTO:+0100
TZNAME:CET
DTSTART:20221030T010000
END:STANDARD
BEGIN:DAYLIGHT
TZOFFSETFROM:+0100
TZOFFSETTO:+0200
TZNAME:CEST
DTSTART:20230326T010000
END:DAYLIGHT
BEGIN:STANDARD
TZOFFSETFROM:+0200
TZOFFSETTO:+0100
TZNAME:CET
DTSTART:20231029T010000
END:STANDARD
END:VTIMEZONE
BEGIN:VEVENT
DTSTART;TZID=Europe/Madrid:20221211T100000
DTEND;TZID=Europe/Madrid:20221211T100000
DTSTAMP:20260425T132724
CREATED:20221118T134743Z
LAST-MODIFIED:20221207T121420Z
UID:10008757-1670752800-1670752800@disfruta-denia.com
SUMMARY:EXCURSIÓN EN FAMÍLIA
DESCRIPTION:JESÚS POBRE. MOLINS. OLIVERA MIL·LENÀRIA. MERCAT RIURAU. Passeig amable pel paisatge rural \nInscripció prèvia obligatòria a: deniaviva@ayto-denia.es\, indicant nom complet\, edat i telèfon.  \nTermini d’inscripcions fins a  les 14 h del dijous anterior a cada excursió \nDesplaçament amb cotxes particulars. Duració: 4 h. Opció dinar al mercat del riurau. \n  \nJESÚS POBRE. MOLINOS. OLIVERA MILENARIA. MERCADO DEL RIURAU. Paseo amable por el paisaje rural. \nInscripción previa obligatoria en:  deniaviva@ayto-denia.es\, indicando nombre completo\, edad y teléfono.  \nPlazo de inscripción hasta las 14 h del jueves anterior a cada excursión. \nDesplazamiento con vehículos particulares. Duración: 4 h Opción de comer en el mercado del riurau
URL:https://disfruta-denia.com/evento/excursion-en-familia-4/
LOCATION:Casa de la Cultura Denia\, Plaça Jaume I\, Denia\, Alicante\, 03700\, España
CATEGORIES:Deporte,Excursión
ATTACH;FMTTYPE=image/jpeg:https://disfruta-denia.com/wp-content/uploads/2022/11/318303722_3373696426243329_3387843301511786614_n.jpg
ORGANIZER;CN="Denia Cultura":MAILTO:cultura@ayto-denia.es
END:VEVENT
BEGIN:VEVENT
DTSTART;TZID=Europe/Madrid:20221215T093000
DTEND;TZID=Europe/Madrid:20221215T140000
DTSTAMP:20260425T132724
CREATED:20221003T115403Z
LAST-MODIFIED:20221004T101627Z
UID:10006234-1671096600-1671112800@disfruta-denia.com
SUMMARY:Caminata saludable
DESCRIPTION:Octubre\, Noviembre y Diciembre 2022 \n\n\n\n\nPrograma de paseos agradables por la costa\, montaña\, paisaje agrícola y jardín con encanto. \nOBJETIVO \n  –  Disfrutar recorriendo paisajes y rincones con encanto en Dénia. \n  –  Fomentar el bienestar personal\, practicando estilo de vida saludable caminando al aire libre. \nINFORMACIÓN GENERAL \n¿QUIEN PUEDE PARTICIPAR?\nCualquier persona en condiciones normales de salud y con hábito básico de caminar. El nivel de todas las salidas es fácil.\nINFORMACIÓN E INSCRIPCIÓN\nIndicar nombre completo\, teléfono y edad al correo: deniaviva@ayto-denia.es\nEl plazo se acaba a las 13 h miércoles anterior a cada salida. \n\n\n\n\n\n\n\n\n\nDESCARGARPROGRAMA  AQUI \n\n\n\n\n\n\n\n\nNOTA: La organización se reserva el derecho de modificar o anular cualquier salida por causas que lo justifiquen. \nGrupos de máximo 15 participantes.
URL:https://disfruta-denia.com/evento/caminata-saludable/2022-12-15/
LOCATION:Denia\, Denia\, Alicante\, 03700\, España
CATEGORIES:Deporte,Excursión
ATTACH;FMTTYPE=image/jpeg:https://disfruta-denia.com/wp-content/uploads/2022/10/16642084861_Vertical.jpg
END:VEVENT
BEGIN:VEVENT
DTSTART;TZID=Europe/Madrid:20221222T093000
DTEND;TZID=Europe/Madrid:20221222T140000
DTSTAMP:20260425T132724
CREATED:20221003T115403Z
LAST-MODIFIED:20221004T101627Z
UID:10006235-1671701400-1671717600@disfruta-denia.com
SUMMARY:Caminata saludable
DESCRIPTION:Octubre\, Noviembre y Diciembre 2022 \n\n\n\n\nPrograma de paseos agradables por la costa\, montaña\, paisaje agrícola y jardín con encanto. \nOBJETIVO \n  –  Disfrutar recorriendo paisajes y rincones con encanto en Dénia. \n  –  Fomentar el bienestar personal\, practicando estilo de vida saludable caminando al aire libre. \nINFORMACIÓN GENERAL \n¿QUIEN PUEDE PARTICIPAR?\nCualquier persona en condiciones normales de salud y con hábito básico de caminar. El nivel de todas las salidas es fácil.\nINFORMACIÓN E INSCRIPCIÓN\nIndicar nombre completo\, teléfono y edad al correo: deniaviva@ayto-denia.es\nEl plazo se acaba a las 13 h miércoles anterior a cada salida. \n\n\n\n\n\n\n\n\n\nDESCARGARPROGRAMA  AQUI \n\n\n\n\n\n\n\n\nNOTA: La organización se reserva el derecho de modificar o anular cualquier salida por causas que lo justifiquen. \nGrupos de máximo 15 participantes.
URL:https://disfruta-denia.com/evento/caminata-saludable/2022-12-22/
LOCATION:Denia\, Denia\, Alicante\, 03700\, España
CATEGORIES:Deporte,Excursión
ATTACH;FMTTYPE=image/jpeg:https://disfruta-denia.com/wp-content/uploads/2022/10/16642084861_Vertical.jpg
END:VEVENT
BEGIN:VEVENT
DTSTART;TZID=Europe/Madrid:20221229T093000
DTEND;TZID=Europe/Madrid:20221229T140000
DTSTAMP:20260425T132724
CREATED:20221003T115403Z
LAST-MODIFIED:20221004T101627Z
UID:10006236-1672306200-1672322400@disfruta-denia.com
SUMMARY:Caminata saludable
DESCRIPTION:Octubre\, Noviembre y Diciembre 2022 \n\n\n\n\nPrograma de paseos agradables por la costa\, montaña\, paisaje agrícola y jardín con encanto. \nOBJETIVO \n  –  Disfrutar recorriendo paisajes y rincones con encanto en Dénia. \n  –  Fomentar el bienestar personal\, practicando estilo de vida saludable caminando al aire libre. \nINFORMACIÓN GENERAL \n¿QUIEN PUEDE PARTICIPAR?\nCualquier persona en condiciones normales de salud y con hábito básico de caminar. El nivel de todas las salidas es fácil.\nINFORMACIÓN E INSCRIPCIÓN\nIndicar nombre completo\, teléfono y edad al correo: deniaviva@ayto-denia.es\nEl plazo se acaba a las 13 h miércoles anterior a cada salida. \n\n\n\n\n\n\n\n\n\nDESCARGARPROGRAMA  AQUI \n\n\n\n\n\n\n\n\nNOTA: La organización se reserva el derecho de modificar o anular cualquier salida por causas que lo justifiquen. \nGrupos de máximo 15 participantes.
URL:https://disfruta-denia.com/evento/caminata-saludable/2022-12-29/
LOCATION:Denia\, Denia\, Alicante\, 03700\, España
CATEGORIES:Deporte,Excursión
ATTACH;FMTTYPE=image/jpeg:https://disfruta-denia.com/wp-content/uploads/2022/10/16642084861_Vertical.jpg
END:VEVENT
END:VCALENDAR