BEGIN:VCALENDAR
VERSION:2.0
PRODID:-//Disfruta Denia - ECPv6.15.20//NONSGML v1.0//EN
CALSCALE:GREGORIAN
METHOD:PUBLISH
X-ORIGINAL-URL:https://disfruta-denia.com
X-WR-CALDESC:Eventos para Disfruta Denia
REFRESH-INTERVAL;VALUE=DURATION:PT1H
X-Robots-Tag:noindex
X-PUBLISHED-TTL:PT1H
BEGIN:VTIMEZONE
TZID:Europe/Madrid
BEGIN:DAYLIGHT
TZOFFSETFROM:+0100
TZOFFSETTO:+0200
TZNAME:CEST
DTSTART:20230326T010000
END:DAYLIGHT
BEGIN:STANDARD
TZOFFSETFROM:+0200
TZOFFSETTO:+0100
TZNAME:CET
DTSTART:20231029T010000
END:STANDARD
BEGIN:DAYLIGHT
TZOFFSETFROM:+0100
TZOFFSETTO:+0200
TZNAME:CEST
DTSTART:20240331T010000
END:DAYLIGHT
BEGIN:STANDARD
TZOFFSETFROM:+0200
TZOFFSETTO:+0100
TZNAME:CET
DTSTART:20241027T010000
END:STANDARD
BEGIN:DAYLIGHT
TZOFFSETFROM:+0100
TZOFFSETTO:+0200
TZNAME:CEST
DTSTART:20250330T010000
END:DAYLIGHT
BEGIN:STANDARD
TZOFFSETFROM:+0200
TZOFFSETTO:+0100
TZNAME:CET
DTSTART:20251026T010000
END:STANDARD
END:VTIMEZONE
BEGIN:VEVENT
DTSTART;TZID=Europe/Madrid:20240114T090000
DTEND;TZID=Europe/Madrid:20240114T090000
DTSTAMP:20260424T140903
CREATED:20231220T102506Z
LAST-MODIFIED:20231220T102506Z
UID:10014942-1705222800-1705222800@disfruta-denia.com
SUMMARY:Excursión. LA XARA. PINAR. BOSQUE DE BENIMAQUIA. El bosque mediterráneo en el Montgó
DESCRIPTION:Inscripción previa obligatoria  hasta las 14 h del jueves anterior\, al correo: deniaviva@ayto-denia.es \nPrecio bus: 1.35 €. Duración 4 horas. Visita al refugio de caballos. \n 
URL:https://disfruta-denia.com/evento/excursion-la-xara-pinar-bosque-de-benimaquia-el-bosque-mediterraneo-en-el-montgo/
LOCATION:Denia\, Denia\, Alicante\, 03700\, España
CATEGORIES:Deporte,Excursión
ATTACH;FMTTYPE=image/png:https://disfruta-denia.com/wp-content/uploads/2023/12/8-excursio-dia-14.png
END:VEVENT
BEGIN:VEVENT
DTSTART;TZID=Europe/Madrid:20240127T120000
DTEND;TZID=Europe/Madrid:20240127T120000
DTSTAMP:20260424T140903
CREATED:20240110T141119Z
LAST-MODIFIED:20240110T141119Z
UID:10015223-1706356800-1706356800@disfruta-denia.com
SUMMARY:Cata de cervezas artesanales en el mar
DESCRIPTION:n 2024\, La Abadía cumple cinco años !!!\nPara celebrarlo\, muchas novedades y eventos.\nPara empezar…una colaboración con Mundo Marino Catamaranes para una cata especial en alta mar !\nPuedes comprar tu ticket en La Abadía a partir del jueves 11/01\nZarpamos ?
URL:https://disfruta-denia.com/evento/cata-de-cervezas-artesanales-en-el-mar/
LOCATION:Muelle Mundo Marino\, Esplanada Cervantes\, 23\, Denia\, Alicante\, 03700\, España
CATEGORIES:Cata,Excursión,Gastronomía
ATTACH;FMTTYPE=image/jpeg:https://disfruta-denia.com/wp-content/uploads/2024/01/418725534_3738868599766473_5582618015007724084_n.jpg
END:VEVENT
END:VCALENDAR