BEGIN:VCALENDAR
VERSION:2.0
PRODID:-//Disfruta Denia - ECPv6.15.20//NONSGML v1.0//EN
CALSCALE:GREGORIAN
METHOD:PUBLISH
X-ORIGINAL-URL:https://disfruta-denia.com
X-WR-CALDESC:Eventos para Disfruta Denia
REFRESH-INTERVAL;VALUE=DURATION:PT1H
X-Robots-Tag:noindex
X-PUBLISHED-TTL:PT1H
BEGIN:VTIMEZONE
TZID:Europe/Madrid
BEGIN:DAYLIGHT
TZOFFSETFROM:+0100
TZOFFSETTO:+0200
TZNAME:CEST
DTSTART:20230326T010000
END:DAYLIGHT
BEGIN:STANDARD
TZOFFSETFROM:+0200
TZOFFSETTO:+0100
TZNAME:CET
DTSTART:20231029T010000
END:STANDARD
BEGIN:DAYLIGHT
TZOFFSETFROM:+0100
TZOFFSETTO:+0200
TZNAME:CEST
DTSTART:20240331T010000
END:DAYLIGHT
BEGIN:STANDARD
TZOFFSETFROM:+0200
TZOFFSETTO:+0100
TZNAME:CET
DTSTART:20241027T010000
END:STANDARD
BEGIN:DAYLIGHT
TZOFFSETFROM:+0100
TZOFFSETTO:+0200
TZNAME:CEST
DTSTART:20250330T010000
END:DAYLIGHT
BEGIN:STANDARD
TZOFFSETFROM:+0200
TZOFFSETTO:+0100
TZNAME:CET
DTSTART:20251026T010000
END:STANDARD
END:VTIMEZONE
BEGIN:VEVENT
DTSTART;TZID=Europe/Madrid:20240204T093000
DTEND;TZID=Europe/Madrid:20240204T170000
DTSTAMP:20260424T141814
CREATED:20240115T104938Z
LAST-MODIFIED:20240115T104938Z
UID:10015231-1707039000-1707066000@disfruta-denia.com
SUMMARY:Excursión en familia: BENIMAURELL COLLADO. VALL DE LAGUAR
DESCRIPTION:Ametlers en flor a les muntanyes \nInscripció prèvia obligatòria fins a les 14 h del dijous anterior al correu: deniaviva@ayto-denia.es. \nDesplaçament en bus gratuït. Dinar: pícnic o bars. Duració: 7 h \nInscripción previa obligatoria hasta las 14 h del jueves anterior\, al correo deniaviva@ayto-denia.es. \nDesplazamiento en bus gratuito. Comida picnic o bar. Duración 7 h.
URL:https://disfruta-denia.com/evento/excursion-en-familia-benimaurell-collado-vall-de-laguar/
LOCATION:Casa de la Cultura Denia\, Plaça Jaume I\, Denia\, Alicante\, 03700\, España
CATEGORIES:Deporte,Excursión
ATTACH;FMTTYPE=image/png:https://disfruta-denia.com/wp-content/uploads/2024/01/4-excursio-en-familia-Benimaurell.png
ORGANIZER;CN="Denia Cultura":MAILTO:cultura@ayto-denia.es
END:VEVENT
END:VCALENDAR