BEGIN:VCALENDAR
VERSION:2.0
PRODID:-//Disfruta Denia - ECPv6.15.20//NONSGML v1.0//EN
CALSCALE:GREGORIAN
METHOD:PUBLISH
X-WR-CALNAME:Disfruta Denia
X-ORIGINAL-URL:https://disfruta-denia.com
X-WR-CALDESC:Eventos para Disfruta Denia
REFRESH-INTERVAL;VALUE=DURATION:PT1H
X-Robots-Tag:noindex
X-PUBLISHED-TTL:PT1H
BEGIN:VTIMEZONE
TZID:Europe/Madrid
BEGIN:DAYLIGHT
TZOFFSETFROM:+0100
TZOFFSETTO:+0200
TZNAME:CEST
DTSTART:20240331T010000
END:DAYLIGHT
BEGIN:STANDARD
TZOFFSETFROM:+0200
TZOFFSETTO:+0100
TZNAME:CET
DTSTART:20241027T010000
END:STANDARD
BEGIN:DAYLIGHT
TZOFFSETFROM:+0100
TZOFFSETTO:+0200
TZNAME:CEST
DTSTART:20250330T010000
END:DAYLIGHT
BEGIN:STANDARD
TZOFFSETFROM:+0200
TZOFFSETTO:+0100
TZNAME:CET
DTSTART:20251026T010000
END:STANDARD
BEGIN:DAYLIGHT
TZOFFSETFROM:+0100
TZOFFSETTO:+0200
TZNAME:CEST
DTSTART:20260329T010000
END:DAYLIGHT
BEGIN:STANDARD
TZOFFSETFROM:+0200
TZOFFSETTO:+0100
TZNAME:CET
DTSTART:20261025T010000
END:STANDARD
END:VTIMEZONE
BEGIN:VEVENT
DTSTART;TZID=Europe/Madrid:20250202T090000
DTEND;TZID=Europe/Madrid:20250202T090000
DTSTAMP:20260423T143204
CREATED:20250129T101816Z
LAST-MODIFIED:20250129T101816Z
UID:10020468-1738486800-1738486800@disfruta-denia.com
SUMMARY:Excursión en familia: AVENTURA A LA TORRE DEL GERRO
DESCRIPTION:AVENTURA A LA TORRE DEL GERRO. Ok Aventuras.  \nRecomanat a partir de 6 anys / recomendado a partir de 6 años. \nPreu/precio 5 €. Horari a determinar / Horario a determinar. \nInscripció prèvia obligatòria fins les 14h del dijous anterior al correu  \nviuiconviu@ayto-denia.es   \nInscripción previa obligatoria hasta las 14 h del jueves anterior al correo viuiconviu@ayto-denia.es  \n 
URL:https://disfruta-denia.com/evento/excursion-en-familia-aventura-a-la-torre-del-gerro/
LOCATION:Denia\, Denia\, Alicante\, 03700\, España
CATEGORIES:Deporte,Excursión
ATTACH;FMTTYPE=image/png:https://disfruta-denia.com/wp-content/uploads/2025/01/1-excursio-familia-dia-2.png
END:VEVENT
END:VCALENDAR